Workbook
Name liste_produits: "'Liste produits'!$A$3:$A$8"
Name Mercure_Addin_Mark_0c2de7ab_6013_4fe3_a6b9_4e42e028fde5: Saline_I!#REF!
Name Mercure_Addin_Mark_0c2de7ab_6013_4fe3_a6b9_4e42e028fde5: Saline_W!#REF!
Name Mercure_Addin_Mark_2f3e0e57_3fd8_4fe6_ac89_49f4b132f0cb: Sediane_I!#REF!
Name Mercure_Addin_Mark_2f3e0e57_3fd8_4fe6_ac89_49f4b132f0cb: Sediane_W!#REF!
Name Mercure_Addin_Mark_5511f7e8_6642_49c7_a320_49cbe7925b05: Serene_A_I!#REF!
Name Mercure_Addin_Mark_5511f7e8_6642_49c7_a320_49cbe7925b05: Serene_A_W!#REF!
Name Mercure_Addin_Mark_5511f7e8_6642_49c7_a320_49cbe7925b05: Serene_N_I!#REF!
Name Mercure_Addin_Mark_5511f7e8_6642_49c7_a320_49cbe7925b05: Serene_N_W!#REF!

Sheet Notice
A1: Date de publication : | B1: 29 October 2026
A2: Publication date:
B4: Ce support est fourni par Storengy et NaTran // This support is provided by Storengy and NaTran.
B6: Les données qu'il contient ne sont pas destinées à être mises à jour en même temps que les programmes de maintenance de NaTran (PTC) et de Storengy.
B7: The data it contains is not intended to be updated as NaTran's PTC and Storengy's maintenance program are updated.
B9: Ces données n'ont pas de valeur contractuelle // These data are not contractual data.
B11: Complément - Version FR | M11: Additional Information - ENG

Sheet DATA >>

Sheet Base Produits
A1: Produits FR | C1: Injection | F1: Soutirage | J1: Produits Portes | L1: Max | N1: Produits Portes | P1: Min | R1: Injection | S1: Duration nomin | T1: Duration réelle | V1: Soutirage | W1: Duration nomin | X1: Duration réelle
A2: Serene Atl 19 | B2: 1 | C2: 1 | D2: 0.78 | E2: Serene Atl 19 | F2: 1 | G2: 1 | H2: 1 | J2: Serene Atl 19 | K2: 92 | L2: 0.4 | N2: Serene Atl 19 | O2: 306 | P2: 0.9 | R2: Serene Atl 19 | S2: 135 | T2: 151 | V2: Serene Atl 19 | W2: 80 | X2: 136
A3: Serene Atl 19 | B3: 2 | C3: 0.75 | D3: 0.8 | E3: Serene Atl 19 | F3: 2 | G3: 0.55 | H3: 0.8 | J3: Serene Atl 19 | K3: 91 | L3: 0.4 | N3: Serene Atl 20 | O3: 306 | P3: 0.9 | R3: Serene Atl 20 | S3: 135 | T3: 151 | V3: Serene Atl 20 | W3: 80 | X3: 138
A4: Serene Atl 19 | B4: 3 | C4: 0.65 | D4: 0.85 | E4: Serene Atl 19 | F4: 3 | G4: 0.1 | H4: 0.35 | J4: Serene Atl 20 | K4: 92 | L4: 0.4 | N4: Serene Atl 21 | O4: 275 | P4: 0.9 | R4: Serene Atl 21 | S4: 115 | T4: 129 | V4: Serene Atl 21 | W4: 85 | X4: 164
A5: Serene Atl 19 | B5: 4 | C5: 0.3 | D5: 1 | E5: Serene Atl 19 | F5: 4 | G5: 0 | H5: 0.2 | J5: Serene Atl 20 | K5: 91 | L5: 0.4 | N5: Serene Atl 21 | O5: 306 | P5: 0.85 | R5: Serene Atl 22 | S5: 120 | T5: 128 | V5: Serene Atl 22 | W5: 70 | X5: 160
A6: Serene Atl 19 | B6: 5 | C6: 0 | D6: 1 | E6: Serene Atl 20 | F6: 1 | G6: 1 | H6: 1 | J6: Serene Atl 21 | K6: 92 | L6: 0.4 | N6: Serene Atl 22 | O6: 275 | P6: 0.9 | R6: Serene Atl 23 Plus | S6: 120 | T6: 128 | V6: Serene Atl 22 Plus | W6: 70 | X6: 160
A7: Serene Atl 20 | B7: 1 | C7: 1 | D7: 0.78 | E7: Serene Atl 20 | F7: 2 | G7: 0.8 | H7: 0.9 | J7: Serene Atl 21 | K7: 214 | L7: 0.85 | N7: Serene Atl 22 | O7: 306 | P7: 0.85 | R7: Serene N 19 | S7: 135 | T7: 151 | V7: Serene N 19 | W7: 85 | X7: 136
A8: Serene Atl 20 | B8: 2 | C8: 0.75 | D8: 0.8 | E8: Serene Atl 20 | F8: 3 | G8: 0.55 | H8: 0.75 | J8: Serene Atl 21 | K8: 245 | L8: 0.95 | N8: Serene N 19 | O8: 306 | P8: 0.9 | R8: Serene N 20 | S8: 135 | T8: 151 | V8: Serene N 20 | W8: 85 | X8: 149
A9: Serene Atl 20 | B9: 3 | C9: 0.65 | D9: 0.85 | E9: Serene Atl 20 | F9: 4 | G9: 0.15 | H9: 0.42 | J9: Serene Atl 21 | K9: 91 | L9: 0.35 | N9: Serene N 20 | O9: 306 | P9: 0.9 | R9: Serene N 21 | S9: 115 | T9: 129 | V9: Serene N 21 | W9: 85 | X9: 165
A10: Serene Atl 20 | B10: 4 | C10: 0.3 | D10: 1 | E10: Serene Atl 20 | F10: 5 | G10: 0 | H10: 0.2 | J10: Serene Atl 22 | K10: 92 | L10: 0.35 | N10: Serene N 21 | O10: 275 | P10: 0.9 | R10: Serene N 22 | S10: 120 | T10: 128 | V10: Serene N 22 | W10: 85 | X10: 158
A11: Serene Atl 20 | B11: 5 | C11: 0 | D11: 1 | E11: Serene Atl 21 | F11: 1 | G11: 1 | H11: 1 | J11: Serene Atl 22 | K11: 214 | L11: 0.85 | N11: Serene N 21 | O11: 306 | P11: 0.85 | R11: Saline 21 | S11: 125 | T11: 180 | V11: Saline 21 | W11: 17 | X11: 23
A12: Serene Atl 21 | B12: 1 | C12: 1 | D12: 0.78 | E12: Serene Atl 21 | F12: 2 | G12: 0.85 | H12: 0.85 | J12: Serene Atl 22 | K12: 245 | L12: 0.95 | N12: Serene N 22 | O12: 275 | P12: 0.9 | R12: Saline 22 | S12: 125 | T12: 180 | V12: Saline 22 | W12: 18 | X12: 26
A13: Serene Atl 21 | B13: 2 | C13: 0.75 | D13: 0.8 | E13: Serene Atl 21 | F13: 3 | G13: 0.29 | H13: 0.54 | J13: Serene Atl 22 | K13: 91 | L13: 0.35 | N13: Serene N 22 | O13: 306 | P13: 0.85 | R13: Sediane N 20 | S13: 85 | T13: 101 | V13: Sediane N 20 | W13: 44 | X13: 69
... A35: Serene N 21 | B35: 1 | C35: 1 | D35: 0.78 | E35: Serene N 21 | F35: 5 | G35: 0 | H35: 0.29 | J35: Sediane N 21 | K35: 92 | L35: 0.4 | N35: Serene Atl 24 | O35: 274 | P35: 0.9 | R35: Sediane 27 | S35: 90 | T35: 122 | V35: Sediane 27 | W35: 61 | X35: 76
A36: Serene N 21 | B36: 2 | C36: 0.75 | D36: 0.8 | E36: Serene N 22 | F36: 1 | G36: 1 | H36: 1 | J36: Sediane N 21 | K36: 153 | L36: 0.65 | N36: Serene Atl 24 | O36: 305 | P36: 0.85
A37: Serene N 21 | B37: 3 | C37: 0.65 | D37: 0.85 | E37: Serene N 22 | F37: 2 | G37: 0.54 | H37: 0.75 | J37: Sediane N 21 | K37: 214 | L37: 0.9 | N37: Serene N 24 | O37: 274 | P37: 0.9
A38: Serene N 21 | B38: 4 | C38: 0.3 | D38: 1 | E38: Serene N 22 | F38: 3 | G38: 0.35 | H38: 0.52 | J38: Sediane N 21 | K38: 245 | L38: 0.95 | N38: Serene N 24 | O38: 305 | P38: 0.85
A39: Serene N 21 | B39: 5 | C39: 0 | D39: 1 | E39: Serene N 22 | F39: 4 | G39: 0.11 | H39: 0.2 | J39: Sediane N 21 | K39: 91 | L39: 0.4 | N39: Saline 24 | O39: 305 | P39: 0.85
A40: Serene N 22 | B40: 1 | C40: 1 | D40: 0.7 | E40: Serene N 22 | F40: 5 | G40: 0 | H40: 0.21 | J40: Sediane N 22 | K40: 92 | L40: 0.4 | N40: Sediane N 24 | O40: 152 | P40: 0.2
A41: Serene N 22 | B41: 2 | C41: 0.85 | D41: 0.8 | E41: Saline 21 | F41: 1 | G41: 1 | H41: 1 | J41: Sediane N 22 | K41: 153 | L41: 0.65 | N41: Sediane N 24 | O41: 213 | P41: 0.5
A42: Serene N 22 | B42: 3 | C42: 0.75 | D42: 1 | E42: Saline 21 | F42: 2 | G42: 0.45 | H42: 1 | J42: Sediane N 22 | K42: 214 | L42: 0.9 | N42: Sediane N 24 | O42: 305 | P42: 0.85
A43: Serene N 22 | B43: 4 | C43: 0 | D43: 1 | E43: Saline 21 | F43: 3 | G43: 0.15 | H43: 0.7 | J43: Sediane N 22 | K43: 245 | L43: 0.95 | N43: Serene Atl 25 | O43: 274 | P43: 0.9
A44: Saline 21 | B44: 1 | C44: 1 | D44: 0.25 | E44: Saline 21 | F44: 4 | G44: 0 | H44: 0.1 | J44: Sediane N 22 | K44: 91 | L44: 0.4 | N44: Serene Atl 25 | O44: 305 | P44: 0.85
A45: Saline 21 | B45: 2 | C45: 0.9 | D45: 0.55 | E45: Saline 22 | F45: 1 | G45: 1 | H45: 1 | J45: Serene Atl 23 | K45: 92 | L45: 0.35 | N45: Serene N 25 | O45: 274 | P45: 0.9
A46: Saline 21 | B46: 3 | C46: 0.45 | D46: 0.8 | E46: Saline 22 | F46: 2 | G46: 0.4 | H46: 1 | J46: Serene Atl 23 | K46: 213 | L46: 0.85 | N46: Serene N 25 | O46: 305 | P46: 0.85
A47: Saline 21 | B47: 4 | C47: 0 | D47: 1 | E47: Saline 22 | F47: 3 | G47: 0.2 | H47: 0.7 | J47: Serene Atl 23 | K47: 244 | L47: 0.95 | N47: Saline 25 | O47: 305 | P47: 0.85
... A66: Serene N 23 | B66: 2 | C66: 0.85 | D66: 0.8 | E66: Serene N 23 | F66: 2 | G66: 0.54 | H66: 0.75 | J66: Sediane N 24 | K66: 92 | L66: 0.4 | N66: Serene N 27 | O66: 305 | P66: 0.85
A67: Serene N 23 | B67: 3 | C67: 0.75 | D67: 1 | E67: Serene N 23 | F67: 3 | G67: 0.35 | H67: 0.52 | J67: Sediane N 24 | K67: 152 | L67: 0.65
A68: Serene N 23 | B68: 4 | C68: 0 | D68: 1 | E68: Serene N 23 | F68: 4 | G68: 0.11 | H68: 0.3 | J68: Sediane N 24 | K68: 213 | L68: 0.9
A69: Saline 23 | B69: 1 | C69: 1 | D69: 0.25 | E69: Serene N 23 | F69: 5 | G69: 0 | H69: 0.21 | J69: Sediane N 24 | K69: 244 | L69: 0.95
A70: Saline 23 | B70: 2 | C70: 0.95 | D70: 0.3 | E70: Saline 23 | F70: 1 | G70: 1 | H70: 1 | J70: Sediane N 24 | K70: 91 | L70: 0.4
A71: Saline 23 | B71: 3 | C71: 0.9 | D71: 0.55 | E71: Saline 23 | F71: 2 | G71: 0.4 | H71: 1 | J71: Serene Atl 25 | K71: 92 | L71: 0.35
A72: Saline 23 | B72: 4 | C72: 0.45 | D72: 0.85 | E72: Saline 23 | F72: 3 | G72: 0.2 | H72: 0.7 | J72: Serene Atl 25 | K72: 213 | L72: 0.85
A73: Saline 23 | B73: 5 | C73: 0 | D73: 1 | E73: Saline 23 | F73: 4 | G73: 0 | H73: 0.1 | J73: Serene Atl 25 | K73: 244 | L73: 0.95
A74: Sediane N 23 | B74: 1 | C74: 1 | D74: 0.35 | E74: Sediane N 23 | F74: 1 | G74: 1 | H74: 1 | J74: Serene Atl 25 | K74: 91 | L74: 0.35
A75: Sediane N 23 | B75: 2 | C75: 0.7 | D75: 0.75 | E75: Sediane N 23 | F75: 2 | G75: 0.8 | H75: 0.95 | J75: Serene N 25 | K75: 92 | L75: 0.35
A76: Sediane N 23 | B76: 3 | C76: 0.4 | D76: 1 | E76: Sediane N 23 | F76: 3 | G76: 0.3 | H76: 0.73 | J76: Serene N 25 | K76: 213 | L76: 0.85
A77: Sediane N 23 | B77: 4 | C77: 0 | D77: 1 | E77: Sediane N 23 | F77: 4 | G77: 0 | H77: 0.6 | J77: Serene N 25 | K77: 244 | L77: 0.95
A78: Saline 24 | B78: 1 | C78: 1 | D78: 0.25 | E78: Saline 24 | F78: 1 | G78: 1 | H78: 1 | J78: Serene N 25 | K78: 91 | L78: 0.35
... A109: Serene N 25 | B109: 2 | C109: 0.85 | D109: 0.8 | E109: Serene N 25 | F109: 2 | G109: 0.54 | H109: 0.75 | J109: Sediane 27 | K109: 91 | L109: 0.4
...

Sheet PT Storengy
A1: Les pourcentages indiqués sont les pourcentages de réduction appliqués sur la capacité journalière concernée. | H1: Version : | I1: 0
A2: Indicated percentages are reduction percentages applying to the daily capacity. | H2: Date de publication : | I2: 46304
A5: Date | B5: SALINE | D5: SEDIANE | F5: ATLANTIQUE | H5: SERENE NORD
B7: % Inject. | C7: % Withdr. | D7: % Inject. | E7: % Withdr. | F7: % Inject. | G7: % Withdr. | H7: % Inject. | I7: % Withdr.
A8: 46478 | B8: 0 | C8: 0.35 | D8: 0.45 | E8: 0.4 | F8: 0.35 | G8: 0.3 | H8: 0.55 | I8: 0.8
A9: 46479 | B9: 0 | C9: 0.35 | D9: 0.45 | E9: 0.4 | F9: 0.35 | G9: 0.3 | H9: 0.55 | I9: 0.8
A10: 46480 | B10: 0 | C10: 0.35 | D10: 0.45 | E10: 0.4 | F10: 0.35 | G10: 0.3 | H10: 0 | I10: 0.8
A11: 46481 | B11: 0 | C11: 0.35 | D11: 0.45 | E11: 0.4 | F11: 0.35 | G11: 0.3 | H11: 0 | I11: 0.8
A12: 46482 | B12: 0.1 | C12: 0.35 | D12: 0.45 | E12: 0.4 | F12: 0.35 | G12: 0.65 | H12: 0.5 | I12: 0.8
A13: 46483 | B13: 0.1 | C13: 0.35 | D13: 0.45 | E13: 0.4 | F13: 0.35 | G13: 0.65 | H13: 0.5 | I13: 0.8
A14: 46484 | B14: 0.1 | C14: 0.35 | D14: 0.45 | E14: 0.4 | F14: 0.35 | G14: 0.65 | H14: 0.5 | I14: 0.8
A15: 46485 | B15: 0.1 | C15: 0.35 | D15: 0.45 | E15: 0.4 | F15: 0.35 | G15: 0.65 | H15: 0.5 | I15: 0.8
A16: 46486 | B16: 0.1 | C16: 0.35 | D16: 0.45 | E16: 0.4 | F16: 0.35 | G16: 0.65 | H16: 0.5 | I16: 0.8
A17: 46487 | B17: 0.1 | C17: 0.35 | D17: 0.45 | E17: 0.4 | F17: 0.35 | G17: 0.65 | H17: 0.5 | I17: 0.8
A18: 46488 | B18: 0.1 | C18: 0.35 | D18: 0.45 | E18: 0.4 | F18: 0.35 | G18: 0.65 | H18: 0.5 | I18: 0.8
A19: 46489 | B19: 0.1 | C19: 0.35 | D19: 0.45 | E19: 0.4 | F19: 0.35 | G19: 0.65 | H19: 0.5 | I19: 0.8
... A373: 46843 | B373: 0.3 | C373: 0 | D373: 0 | E373: 0 | F373: 0.5 | G373: 0 | H373: 0 | I373: 0

Sheet PTC NaTran
A1: Programme Travaux Prévisionnel / Provisional Maintenance Schedule : PT_PREVISIONNEL-pub-csv_pt_previsionnel_v1-b1d89c6f-2a4d-48c8-ae5a-71cc282074df
A2: Réseau / Network : NaTran
A3: Période / Period : 01/01/2027 06:00 - 01/01/2028 06:00
A4: Date de mise à jour / Last update : 16/10/2026 18:12:46
A6: PCR / Service Point | B6: Libellé / Label | C6: Sens / Direction | D6: Journée Gazière / Gasday | E6: TRf Max | F6: TRf Probable | G6: TRf Max Nominal | H6: TRf Probable Nominal | I6: CPRTi | J6: CMNTt | K6: CPRTt | L6: ∑COSf | M6: ∑COSi | N6: ∑COSi A | O6: ∑COSi T | P6: ∑COSi M | Q6: ∑COSi Q | R6: CTNf | S6: Travaux Petits Impacts / Low Impacts Maintenance | T6: Date et Heure de Mise à jour / Update date and time
A7: BH0001 | B7: CONVERSION B VERS H | C7: REC | D7: 46388 | E7: 0 | F7: 0 | G7: 0 | H7: 0 | R7: 0 | S7: N | T7: 46311.754
A8: BH0001 | B8: CONVERSION B VERS H | C8: REC | D8: 46389 | E8: 0 | F8: 0 | G8: 0 | H8: 0 | R8: 0 | S8: N | T8: 46311.754
A9: BH0001 | B9: CONVERSION B VERS H | C9: REC | D9: 46390 | E9: 0 | F9: 0 | G9: 0 | H9: 0 | R9: 0 | S9: N | T9: 46311.754
A10: BH0001 | B10: CONVERSION B VERS H | C10: REC | D10: 46391 | E10: 0 | F10: 0 | G10: 0 | H10: 0 | R10: 0 | S10: N | T10: 46311.754
A11: BH0001 | B11: CONVERSION B VERS H | C11: REC | D11: 46392 | E11: 0 | F11: 0 | G11: 0 | H11: 0 | R11: 0 | S11: N | T11: 46311.754
A12: BH0001 | B12: CONVERSION B VERS H | C12: REC | D12: 46393 | E12: 0 | F12: 0 | G12: 0 | H12: 0 | R12: 0 | S12: N | T12: 46311.754
A13: BH0001 | B13: CONVERSION B VERS H | C13: REC | D13: 46394 | E13: 0 | F13: 0 | G13: 0 | H13: 0 | R13: 0 | S13: N | T13: 46311.754
A14: BH0001 | B14: CONVERSION B VERS H | C14: REC | D14: 46395 | E14: 0 | F14: 0 | G14: 0 | H14: 0 | R14: 0 | S14: N | T14: 46311.754
A15: BH0001 | B15: CONVERSION B VERS H | C15: REC | D15: 46396 | E15: 0 | F15: 0 | G15: 0 | H15: 0 | R15: 0 | S15: N | T15: 46311.754
A16: BH0001 | B16: CONVERSION B VERS H | C16: REC | D16: 46397 | E16: 0 | F16: 0 | G16: 0 | H16: 0 | R16: 0 | S16: N | T16: 46311.754
A17: BH0001 | B17: CONVERSION B VERS H | C17: REC | D17: 46398 | E17: 0 | F17: 0 | G17: 0 | H17: 0 | R17: 0 | S17: N | T17: 46311.754
A18: BH0001 | B18: CONVERSION B VERS H | C18: REC | D18: 46399 | E18: 0 | F18: 0 | G18: 0 | H18: 0 | R18: 0 | S18: N | T18: 46311.754
... A736: HB0002 | B736: CONVERSION H VERS B POINTE | C736: DEL | D736: 46752 | E736: 0 | F736: 0 | G736: 0 | H736: 0 | R736: 0 | S736: N | T736: 46311.754
A737: IR0006 | B737: DUNKERQUE | C737: REC | D737: 46388 | E737: 0 | F737: 0 | G737: 0 | H737: 0 | L737: 280.164 | R737: 568.52184 | S737: N | T737: 46311.754
A738: IR0006 | B738: DUNKERQUE | C738: REC | D738: 46389 | E738: 0 | F738: 0 | G738: 0 | H738: 0 | L738: 280.164 | R738: 568.52184 | S738: N | T738: 46311.754
A739: IR0006 | B739: DUNKERQUE | C739: REC | D739: 46390 | E739: 0 | F739: 0 | G739: 0 | H739: 0 | L739: 280.164 | R739: 568.52184 | S739: N | T739: 46311.754
A740: IR0006 | B740: DUNKERQUE | C740: REC | D740: 46391 | E740: 0 | F740: 0 | G740: 0 | H740: 0 | L740: 280.164 | R740: 568.52184 | S740: N | T740: 46311.754
A741: IR0006 | B741: DUNKERQUE | C741: REC | D741: 46392 | E741: 0 | F741: 0 | G741: 0 | H741: 0 | L741: 280.164 | R741: 568.52184 | S741: N | T741: 46311.754
A742: IR0006 | B742: DUNKERQUE | C742: REC | D742: 46393 | E742: 0 | F742: 0 | G742: 0 | H742: 0 | L742: 280.164 | R742: 568.52184 | S742: N | T742: 46311.754
A743: IR0006 | B743: DUNKERQUE | C743: REC | D743: 46394 | E743: 0 | F743: 0 | G743: 0 | H743: 0 | L743: 280.164 | R743: 568.52184 | S743: N | T743: 46311.754
A744: IR0006 | B744: DUNKERQUE | C744: REC | D744: 46395 | E744: 0 | F744: 0 | G744: 0 | H744: 0 | L744: 280.164 | R744: 568.52184 | S744: N | T744: 46311.754
A745: IR0006 | B745: DUNKERQUE | C745: REC | D745: 46396 | E745: 0 | F745: 0 | G745: 0 | H745: 0 | L745: 280.164 | R745: 568.52184 | S745: N | T745: 46311.754
A746: IR0006 | B746: DUNKERQUE | C746: REC | D746: 46397 | E746: 0 | F746: 0 | G746: 0 | H746: 0 | L746: 280.164 | R746: 568.52184 | S746: N | T746: 46311.754
A747: IR0006 | B747: DUNKERQUE | C747: REC | D747: 46398 | E747: 0 | F747: 0 | G747: 0 | H747: 0 | L747: 280.164 | R747: 568.52184 | S747: N | T747: 46311.754
A748: IR0006 | B748: DUNKERQUE | C748: REC | D748: 46399 | E748: 0 | F748: 0 | G748: 0 | H748: 0 | L748: 280.164 | R748: 568.52184 | S748: N | T748: 46311.754
... A895: IR0006 | B895: DUNKERQUE | C895: REC | D895: 46546 | E895: 0 | F895: 0 | G895: 0 | H895: 0 | L895: 280.164 | R895: 568.52184 | S895: N | T895: 46311.754
A896: IR0006 | B896: DUNKERQUE | C896: REC | D896: 46547 | E896: 0 | F896: 0 | G896: 0.16 | H896: 0.16 | J896: 480 | K896: 480 | L896: 280.164 | R896: 568.52184 | S896: N | T896: 46311.754
A897: IR0006 | B897: DUNKERQUE | C897: REC | D897: 46548 | E897: 0 | F897: 0 | G897: 0 | H897: 0 | L897: 280.164 | R897: 568.52184 | S897: N | T897: 46311.754
A898: IR0006 | B898: DUNKERQUE | C898: REC | D898: 46549 | E898: 0 | F898: 0 | G898: 0 | H898: 0 | L898: 280.164 | R898: 568.52184 | S898: N | T898: 46311.754
A899: IR0006 | B899: DUNKERQUE | C899: REC | D899: 46550 | E899: 0 | F899: 0 | G899: 0 | H899: 0 | L899: 280.164 | R899: 568.52184 | S899: N | T899: 46311.754
A900: IR0006 | B900: DUNKERQUE | C900: REC | D900: 46551 | E900: 0 | F900: 0 | G900: 0 | H900: 0 | L900: 280.164 | R900: 568.52184 | S900: N | T900: 46311.754
A901: IR0006 | B901: DUNKERQUE | C901: REC | D901: 46552 | E901: 0 | F901: 0 | G901: 0 | H901: 0 | L901: 280.164 | R901: 568.52184 | S901: N | T901: 46311.754
A902: IR0006 | B902: DUNKERQUE | C902: REC | D902: 46553 | E902: 0 | F902: 0 | G902: 0 | H902: 0 | L902: 280.164 | R902: 568.52184 | S902: N | T902: 46311.754
A903: IR0006 | B903: DUNKERQUE | C903: REC | D903: 46554 | E903: 0 | F903: 0 | G903: 0 | H903: 0 | L903: 280.164 | R903: 568.52184 | S903: N | T903: 46311.754
A904: IR0006 | B904: DUNKERQUE | C904: REC | D904: 46555 | E904: 0 | F904: 0 | G904: 0 | H904: 0 | L904: 280.164 | R904: 568.52184 | S904: N | T904: 46311.754
...

Sheet RESULTS
D2: Storengy's Maintenance Program published on the | E2: ='PT Storengy'!I2 -> 46304 | I2: NaTran's Maintenance Program published on the | J2: 46324
B4: Enter your volumes for the different products subscribed | H4: SY | I4: =DATE(J4,4,1) -> 46478 | J4: 2027 | K4: - | L4: =DATE(M4,3,31) -> 46843 | M4: =J4+1 -> 2028
C7: PITS | D7: Products | E7: Volumes (TWh) | F7: Stock on 01/04/2027 (TWh) | G7: Volumes Total (TWh) | H7: 1st D Injection | I7: 1st D Withdrawal | J7: Volume Max (TWh) | K7: Nominal INJ Max (GWh/j) | L7: Nominal WDR Max (GWh/j)
B9: Firm+Interuptible | C9: Atlantique | D9: Serene Atl 25 | E9: 17.013766 | F9: 0 | G9: =SUM(E9:E12) -> 45 | H9: 46478 | I9: 46675 | J9: =D172 -> 45 | K9: =G172 -> 375 | L9: =H172 -> 591
D10: Serene Atl 26 | E10: 14.10256
D11: Serene Atl 27 | E11: 13.883674
C14: Nord-Est | D14: Serene N 25 | E14: 1.5 | F14: 0 | G14: =SUM(E14:E16) -> 15 | H14: 46478 | I14: 46675 | J14: =D174 -> 15 | K14: =G174 -> 125 | L14: =H174 -> 138
D15: Serene N 26 | E15: 1.05408
D16: Serene N 27 | E16: 12.44592
C19: Nord-Ouest | D19: Sediane N 25 | E19: 0 | F19: 0 | G19: =SUM(E19:E22) -> 24.5 | H19: 46478 | I19: 46692 | J19: =D176 -> 24.5 | K19: =G176 -> 272 | L19: =H176 -> 402
D20: Sediane N 26 | E20: 0.225585
D21: Sediane 27 | E21: 24.274415
C24: Saline | D24: Saline 27 | E24: 11.7 | F24: 0 | G24: =SUM(E24:E27) -> 11.7 | H24: 46478 | I24: 46692 | J24: =D178 -> 11.7 | K24: =G178 -> 94 | L24: =H178 -> 650
C32: Results Injection | I32: Results Withdrawal
E33: End of injection period | G33: =DATE(YEAR(I4),10,31) -> 46691
D35: With Storengy maintenance only | F35: With Storengy and NaTran maintenance (probable case - CPRTt) | J35: With Storengy maintenance only
D36: 100% date | E36: Days of flexibility | F36: 100% date | G36: Days of flexibility | J36: 100% date | K36: Days of flexibility
C37: Serene Atlantique | D37: =Atlantique_I!G$14 -> 46645 | E37: =IFERROR($G$33-D37,"none") -> 46 | F37: =Atlantique_I!M$14 -> 46656 | G37: =IFERROR($G$33-F37,"none") -> 35 | I37: Serene Atlantique | J37: =Atlantique_W!G14 -> 46837 | K37: =DATE(M$4,3,31)-J37 -> 6
C38: Serene Nord | D38: ='Nord-Est_I'!G$14 -> 46645 | E38: =IFERROR($G$33-D38,"none") -> 46 | F38: ='Nord-Est_I'!M$14 -> 46645 | G38: =IFERROR($G$33-F38,"none") -> 46 | I38: Serene Nord | J38: ='Nord-Est_W'!G14 -> 46832 | K38: =DATE(M$4,3,31)-J38 -> 11
C39: Sediane | D39: ='Nord-Ouest_I'!G$14 -> 46643 | E39: =IFERROR($G$33-D39,"none") -> 48 | F39: ='Nord-Ouest_I'!M$14 -> 46646 | G39: =IFERROR($G$33-F39,"none") -> 45 | I39: Sediane | J39: ='Nord-Ouest_W'!G14 -> 46767 | K39: =DATE(M$4,3,31)-J39 -> 76
C40: Saline | D40: ='Sud-Est_I'!G$14 -> 46679 | E40: =IFERROR($G$33-D40,"none") -> 12 | F40: ='Sud-Est_I'!M$14 -> 46684 | G40: =IFERROR($G$33-F40,"none") -> 7 | I40: Saline | J40: ='Sud-Est_W'!G14 -> 46717 | K40: =DATE(M$4,3,31)-J40 -> 126
C45: Filling & Withdrawal
C97: Aggregated Reduction Factors and tunnels
C146: Aggregated Products - Simulator | F146: Based on the subscribed volumes defined above
M149: Deliberation CRE
M150: 2026-85
D151: Volumes (TWh) | E151: Nominal Injection Duration (Days) | F151: Nominal Withdrawal Duration (Days) | G151: Nominal Injection Capacité (GWh/d 0°C) | H151: Nominal Withdrawal Capacity (GWh/d 0°C) | I151: Effective Injection Duration (Days) | J151: Nominal Withdrawal Duration (Days) | K151: Withdrawal Capacity at 45% (GWh/d 0°C) | M151: Firm Injection Capacity (GWh/d)
C153: Serene Atlantique | D153: =Serene_A_I!D$3 -> 45 | E153: =Serene_A_I!D$4 -> 120 | F153: =D153*1000/H153 -> 76.18559 | G153: =Serene_A_I!D$5 -> 375 | H153: =Serene_A_W!D$5 -> 590.66288 | I153: =Atlantique_I!S14 -> 128 | J153: =Atlantique_W!K15 -> 158 | K153: =Serene_A_W!A77*H153 -> 333.45061 | M153: 340
C155: Serene Nord | D155: =Serene_N_I!D$3 -> 15 | E155: =Serene_N_I!D$4 -> 120 | F155: =Serene_N_W!D$4 -> 109.89184 | G155: =Serene_N_I!D$5 -> 125 | H155: =Serene_N_W!D$5 -> 138.27339 | I155: ='Nord-Est_I'!S14 -> 128 | J155: ='Nord-Est_W'!K15 -> 158 | K155: =Serene_N_W!A77*H155 -> 107.19548 | M155: 130
C157: Sediane | D157: =Sediane_I!D$3 -> 24.5 | E157: =Sediane_I!D$4 -> 90 | F157: =Sediane_W!D$4 -> 60.917132 | G157: =Sediane_I!D$5 -> 272.22222 | H157: =Sediane_W!D$5 -> 402.2794 | I157: ='Nord-Ouest_I'!S14 -> 122 | J157: ='Nord-Ouest_W'!K15 -> 76 | K157: =Sediane_W!A77*H157 -> 357.1074 | M157: 320
C159: Saline | D159: =Saline_I!D$3 -> 11.7 | E159: =Saline_I!D$4 -> 125 | F159: =Saline_W!D$4 -> 18 | G159: =Saline_I!D$5 -> 93.6 | H159: =Saline_W!D$5 -> 650 | I159: ='Sud-Est_I'!S14 -> 180 | J159: ='Sud-Est_W'!K15 -> 26 | K159: =Saline_W!A77*H159 -> 650 | M159: 145
C165: Total Offer 2027 | D165: Global ATS OFFERS
M168: =M149 -> Deliberation CRE
M169: =M150 -> 2026-85
D170: Volumes (TWh) | E170: Nominal Injection Duration (Days) | F170: Nominal Withdrawal Duration (Days) | G170: Nominal Injection Capacité (GWh/d 0°C) | H170: Nominal Withdrawal Capacity (GWh/d 0°C) | I170: Effective Injection Duration (Days) | J170: Nominal Withdrawal Duration (Days) | K170: Withdrawal Capacity at 45% (GWh/d 0°C) | M170: Firm Injection Capacity (GWh/d)
C172: Serene Atlantique | D172: 45 | E172: 120 | F172: 95 | G172: 375 | H172: 591 | I172: 128 | J172: 158 | K172: 333 | M172: =M153 -> 340
C174: Serene Nord | D174: 15 | E174: 120 | F174: 115 | G174: 125 | H174: 138 | I174: 128 | J174: 158 | K174: 107 | M174: =M155 -> 130
C176: Sediane | D176: 24.5 | E176: 90 | F176: 61 | G176: 272 | H176: 402 | I176: 122 | J176: 76 | K176: 357 | M176: =M157 -> 320
C178: Saline | D178: 11.7 | E178: 125 | F178: 18 | G178: 94 | H178: 650 | I178: 180 | J178: 26 | K178: 650 | M178: =M159 -> 145
C185: Reduction Factors - Simulator | F185: Based on the subscribed volumes defined above
...

Sheet Calculs >>

Sheet Serene_A_I
A1: Agregation | G1: Daily capacities - basic offer : | K1: Injection | L1: Injection | AJ1: Tunnels
A3: Total Volume | D3: =H3+M3+R3+W3 -> 45 | E3: TWh | G3: =RESULTS!D9 -> Serene Atl 25 | H3: =RESULTS!E9 -> 17.013766 | I3: Injection | L3: =RESULTS!D10 -> Serene Atl 26 | M3: =RESULTS!E10 -> 14.10256 | N3: Injection | Q3: =RESULTS!D11 -> Serene Atl 27 | R3: =RESULTS!E11 -> 13.883674 | S3: Injection | V3: =RESULTS!D12 -> 0 | W3: =RESULTS!E12 -> 0 | X3: Injection
A4: Average Nominal Duration | D4: =IFERROR(D3/D5*1000,0) -> 120 | E4: days | G4: Nominal Duration | I4: =SUMIFS('Base Produits'!$S:$S,'Base Produits'!$R:$R,G3) -> 120 | L4: Nominal Duration | N4: =SUMIFS('Base Produits'!$S:$S,'Base Produits'!$R:$R,L3) -> 120 | Q4: Nominal Duration | S4: =SUMIFS('Base Produits'!$S:$S,'Base Produits'!$R:$R,Q3) -> 120 | V4: Nominal Duration | X4: =SUMIFS('Base Produits'!$S:$S,'Base Produits'!$R:$R,V3) -> 0
A5: Nominal Capacity | D5: =(IFERROR(H3/I4,0)+IFERROR(M3/N4,0)+IFERROR(R3/S4,0)+IFERROR(W3/X4,0))*1000 -> 375 | E5: GWh/d | G5: Reduction factors | I5: Stock level % | J5: Reduction Factor % | L5: Reduction factors | N5: Stock level % | O5: Reduction Factor % | Q5: Reduction factors | S5: Stock level % | T5: Reduction Factor % | V5: Reduction factors | X5: Stock level % | Y5: Reduction Factor %
I6: =SUMIFS('Base Produits'!$C:$C,'Base Produits'!$A:$A,G$3,'Base Produits'!$B:$B,1) -> 1 | J6: =SUMIFS('Base Produits'!$D:$D,'Base Produits'!$A:$A,G$3,'Base Produits'!$B:$B,1) -> 0.8 | N6: =SUMIFS('Base Produits'!$C:$C,'Base Produits'!$A:$A,L$3,'Base Produits'!$B:$B,1) -> 1 | O6: =SUMIFS('Base Produits'!$D:$D,'Base Produits'!$A:$A,L$3,'Base Produits'!$B:$B,1) -> 0.8 | S6: =SUMIFS('Base Produits'!$C:$C,'Base Produits'!$A:$A,Q$3,'Base Produits'!$B:$B,1) -> 1 | T6: =SUMIFS('Base Produits'!$D:$D,'Base Produits'!$A:$A,Q$3,'Base Produits'!$B:$B,1) -> 0.8 | X6: =SUMIFS('Base Produits'!$C:$C,'Base Produits'!$A:$A,V$3,'Base Produits'!$B:$B,1) -> 0 | Y6: =SUMIFS('Base Produits'!$D:$D,'Base Produits'!$A:$A,V$3,'Base Produits'!$B:$B,1) -> 0
I7: =IF(OR(I6=0,I6=""),"",SUMIFS('Base Produits'!$C:$C,'Base Produits'!$A:$A,G$3,'Base Produits'!$B:$B,2)) -> 0.8 | J7: =IF(OR(I6=0,I6=""),"",SUMIFS('Base Produits'!$D:$D,'Base Produits'!$A:$A,G$3,'Base Produits'!$B:$B,2)) -> 0.85 | N7: =IF(OR(N6=0,N6=""),"",SUMIFS('Base Produits'!$C:$C,'Base Produits'!$A:$A,L$3,'Base Produits'!$B:$B,2)) -> 0.8 | O7: =IF(OR(N6=0,N6=""),"",SUMIFS('Base Produits'!$D:$D,'Base Produits'!$A:$A,L$3,'Base Produits'!$B:$B,2)) -> 0.85 | S7: =IF(OR(S6=0,S6=""),"",SUMIFS('Base Produits'!$C:$C,'Base Produits'!$A:$A,Q$3,'Base Produits'!$B:$B,2)) -> 0.8 | T7: =IF(OR(S6=0,S6=""),"",SUMIFS('Base Produits'!$D:$D,'Base Produits'!$A:$A,Q$3,'Base Produits'!$B:$B,2)) -> 0.85 | X7: =IF(OR(X6=0,X6=""),"",SUMIFS('Base Produits'!$C:$C,'Base Produits'!$A:$A,V$3,'Base Produits'!$B:$B,2)) | Y7: =IF(OR(X6=0,X6=""),"",SUMIFS('Base Produits'!$D:$D,'Base Produits'!$A:$A,V$3,'Base Produits'!$B:$B,2))
I8: =IF(OR(I7=0,I7=""),"",SUMIFS('Base Produits'!$C:$C,'Base Produits'!$A:$A,G$3,'Base Produits'!$B:$B,3)) -> 0.5 | J8: =IF(OR(I7=0,I7=""),"",SUMIFS('Base Produits'!$D:$D,'Base Produits'!$A:$A,G$3,'Base Produits'!$B:$B,3)) -> 1 | N8: =IF(OR(N7=0,N7=""),"",SUMIFS('Base Produits'!$C:$C,'Base Produits'!$A:$A,L$3,'Base Produits'!$B:$B,3)) -> 0.5 | O8: =IF(OR(N7=0,N7=""),"",SUMIFS('Base Produits'!$D:$D,'Base Produits'!$A:$A,L$3,'Base Produits'!$B:$B,3)) -> 1 | S8: =IF(OR(S7=0,S7=""),"",SUMIFS('Base Produits'!$C:$C,'Base Produits'!$A:$A,Q$3,'Base Produits'!$B:$B,3)) -> 0.5 | T8: =IF(OR(S7=0,S7=""),"",SUMIFS('Base Produits'!$D:$D,'Base Produits'!$A:$A,Q$3,'Base Produits'!$B:$B,3)) -> 1 | X8: =IF(OR(X7=0,X7=""),"",SUMIFS('Base Produits'!$C:$C,'Base Produits'!$A:$A,V$3,'Base Produits'!$B:$B,3)) | Y8: =IF(OR(X7=0,X7=""),"",SUMIFS('Base Produits'!$D:$D,'Base Produits'!$A:$A,V$3,'Base Produits'!$B:$B,3))
A9: Max Inj | D9: =RESULTS!K9 -> 375 | I9: =IF(OR(I8=0,I8=""),"",SUMIFS('Base Produits'!$C:$C,'Base Produits'!$A:$A,G$3,'Base Produits'!$B:$B,4)) -> 0 | J9: =IF(OR(I8=0,I8=""),"",SUMIFS('Base Produits'!$D:$D,'Base Produits'!$A:$A,G$3,'Base Produits'!$B:$B,4)) -> 1 | N9: =IF(OR(N8=0,N8=""),"",SUMIFS('Base Produits'!$C:$C,'Base Produits'!$A:$A,L$3,'Base Produits'!$B:$B,4)) -> 0 | O9: =IF(OR(N8=0,N8=""),"",SUMIFS('Base Produits'!$D:$D,'Base Produits'!$A:$A,L$3,'Base Produits'!$B:$B,4)) -> 1 | S9: =IF(OR(S8=0,S8=""),"",SUMIFS('Base Produits'!$C:$C,'Base Produits'!$A:$A,Q$3,'Base Produits'!$B:$B,4)) -> 0 | T9: =IF(OR(S8=0,S8=""),"",SUMIFS('Base Produits'!$D:$D,'Base Produits'!$A:$A,Q$3,'Base Produits'!$B:$B,4)) -> 1 | X9: =IF(OR(X8=0,X8=""),"",SUMIFS('Base Produits'!$C:$C,'Base Produits'!$A:$A,V$3,'Base Produits'!$B:$B,4)) | Y9: =IF(OR(X8=0,X8=""),"",SUMIFS('Base Produits'!$D:$D,'Base Produits'!$A:$A,V$3,'Base Produits'!$B:$B,4))
A10: Max sout | D10: =RESULTS!L9 -> 591 | I10: =IF(OR(I9=0,I9=""),"",SUMIFS('Base Produits'!$C:$C,'Base Produits'!$A:$A,G$3,'Base Produits'!$B:$B,5)) | J10: =IF(OR(I9=0,I9=""),"",SUMIFS('Base Produits'!$D:$D,'Base Produits'!$A:$A,G$3,'Base Produits'!$B:$B,5)) | N10: =IF(OR(N9=0,N9=""),"",SUMIFS('Base Produits'!$C:$C,'Base Produits'!$A:$A,L$3,'Base Produits'!$B:$B,5)) | O10: =IF(OR(N9=0,N9=""),"",SUMIFS('Base Produits'!$D:$D,'Base Produits'!$A:$A,L$3,'Base Produits'!$B:$B,5)) | S10: =IF(OR(S9=0,S9=""),"",SUMIFS('Base Produits'!$C:$C,'Base Produits'!$A:$A,Q$3,'Base Produits'!$B:$B,5)) | T10: =IF(OR(S9=0,S9=""),"",SUMIFS('Base Produits'!$D:$D,'Base Produits'!$A:$A,Q$3,'Base Produits'!$B:$B,5)) | X10: =IF(OR(X9=0,X9=""),"",SUMIFS('Base Produits'!$C:$C,'Base Produits'!$A:$A,V$3,'Base Produits'!$B:$B,5)) | Y10: =IF(OR(X9=0,X9=""),"",SUMIFS('Base Produits'!$D:$D,'Base Produits'!$A:$A,V$3,'Base Produits'!$B:$B,5))
I11: =IF(OR(I10=0,I10=""),"",SUMIFS('Base Produits'!$C:$C,'Base Produits'!$A:$A,G$3,'Base Produits'!$B:$B,6)) | J11: =IF(OR(I10=0,I10=""),"",SUMIFS('Base Produits'!$D:$D,'Base Produits'!$A:$A,G$3,'Base Produits'!$B:$B,6)) | N11: =IF(OR(N10=0,N10=""),"",SUMIFS('Base Produits'!$C:$C,'Base Produits'!$A:$A,L$3,'Base Produits'!$B:$B,6)) | O11: =IF(OR(N10=0,N10=""),"",SUMIFS('Base Produits'!$D:$D,'Base Produits'!$A:$A,L$3,'Base Produits'!$B:$B,6)) | S11: =IF(OR(S10=0,S10=""),"",SUMIFS('Base Produits'!$C:$C,'Base Produits'!$A:$A,Q$3,'Base Produits'!$B:$B,6)) | T11: =IF(OR(S10=0,S10=""),"",SUMIFS('Base Produits'!$D:$D,'Base Produits'!$A:$A,Q$3,'Base Produits'!$B:$B,6)) | X11: =IF(OR(X10=0,X10=""),"",SUMIFS('Base Produits'!$C:$C,'Base Produits'!$A:$A,V$3,'Base Produits'!$B:$B,6)) | Y11: =IF(OR(X10=0,X10=""),"",SUMIFS('Base Produits'!$D:$D,'Base Produits'!$A:$A,V$3,'Base Produits'!$B:$B,6))
G12: Actual duration | I12: =SUMIFS('Base Produits'!$T:$T,'Base Produits'!$R:$R,G3) -> 128 | L12: Actual duration | N12: =SUMIFS('Base Produits'!$T:$T,'Base Produits'!$R:$R,L3) -> 128 | Q12: Actual duration | S12: =SUMIFS('Base Produits'!$T:$T,'Base Produits'!$R:$R,Q3) -> 128 | V12: Actual duration | X12: =SUMIFS('Base Produits'!$T:$T,'Base Produits'!$R:$R,V3) -> 0
A14: Date | B14: Maximum stock level % | D14: TWh | G14: Date | H14: Maximum stock level % | J14: TWh | L14: Date | M14: Maximum stock level % | O14: TWh | Q14: Date | R14: Maximum stock level % | T14: TWh | V14: Date | W14: Maximum stock level % | Y14: TWh
G15: =IF($A15<DATE(2000,1,1),"",$A15) | L15: =IF($A15<DATE(2000,1,1),"",$A15) | Q15: =IF($A15<DATE(2000,1,1),"",$A15) | V15: =IF($A15<DATE(2000,1,1),"",$A15)
A16: =DATE(RESULTS!$J$4,4,1) -> 46478 | B16: =D16/SUM($H$3,$M$3,$R$3,$W$3,$AB$3) -> 0.35 | D16: =SUM(J16,O16,T16,Y16) -> 15.75 | G16: =$A16 -> 46478 | H16: =IF(SUMIFS('Base Produits'!$L:$L,'Base Produits'!$J:$J,G$3,'Base Produits'!$K:$K,DATE(1900,MONTH($A16),DAY($A16)))=0,100%,SUMIFS('Base Produits'!$L:$L,'Base Produits'!$J:$J,G$3,'Base Produits'!$K:$K,DATE(1900,MONTH($A16),DAY($A16)))) -> 0.35 | J16: =H16*H$3 -> 5.9548181 | L16: =$A16 -> 46478 | M16: =IF(SUMIFS('Base Produits'!$L:$L,'Base Produits'!$J:$J,L$3,'Base Produits'!$K:$K,DATE(1900,MONTH($A16),DAY($A16)))=0,100%,SUMIFS('Base Produits'!$L:$L,'Base Produits'!$J:$J,L$3,'Base Produits'!$K:$K,DATE(1900,MONTH($A16),DAY($A16)))) -> 0.35 | O16: =M16*M$3 -> 4.935896 | Q16: =$A16 -> 46478 | R16: =IF(SUMIFS('Base Produits'!$L:$L,'Base Produits'!$J:$J,Q$3,'Base Produits'!$K:$K,DATE(1900,MONTH($A16),DAY($A16)))=0,100%,SUMIFS('Base Produits'!$L:$L,'Base Produits'!$J:$J,Q$3,'Base Produits'!$K:$K,DATE(1900,MONTH($A16),DAY($A16)))) -> 0.35 | T16: =R16*R$3 -> 4.8592859 | V16: =$A16 -> 46478 | W16: =IF(SUMIFS('Base Produits'!$L:$L,'Base Produits'!$J:$J,V$3,'Base Produits'!$K:$K,DATE(1900,MONTH($A16),DAY($A16)))=0,100%,SUMIFS('Base Produits'!$L:$L,'Base Produits'!$J:$J,V$3,'Base Produits'!$K:$K,DATE(1900,MONTH($A16),DAY($A16)))) -> 1 | Y16: =W16*W$3 -> 0
A17: =A18-1 -> 46538 | B17: =D17/SUM($H$3,$M$3,$R$3,$W$3,$AB$3) -> 1 | D17: =SUM(J17,O17,T17,Y17) -> 45 | G17: =$A17 -> 46538 | H17: =IF(SUMIFS('Base Produits'!$L:$L,'Base Produits'!$J:$J,G$3,'Base Produits'!$K:$K,DATE(1900,MONTH($A17),DAY($A17)))=0,100%,SUMIFS('Base Produits'!$L:$L,'Base Produits'!$J:$J,G$3,'Base Produits'!$K:$K,DATE(1900,MONTH($A17),DAY($A17)))) -> 1 | J17: =H17*H$3 -> 17.013766 | L17: =$A17 -> 46538 | M17: =IF(SUMIFS('Base Produits'!$L:$L,'Base Produits'!$J:$J,L$3,'Base Produits'!$K:$K,DATE(1900,MONTH($A17),DAY($A17)))=0,100%,SUMIFS('Base Produits'!$L:$L,'Base Produits'!$J:$J,L$3,'Base Produits'!$K:$K,DATE(1900,MONTH($A17),DAY($A17)))) -> 1 | O17: =M17*M$3 -> 14.10256 | Q17: =$A17 -> 46538 | R17: =IF(SUMIFS('Base Produits'!$L:$L,'Base Produits'!$J:$J,Q$3,'Base Produits'!$K:$K,DATE(1900,MONTH($A17),DAY($A17)))=0,100%,SUMIFS('Base Produits'!$L:$L,'Base Produits'!$J:$J,Q$3,'Base Produits'!$K:$K,DATE(1900,MONTH($A17),DAY($A17)))) -> 1 | T17: =R17*R$3 -> 13.883674 | V17: =$A17 -> 46538 | W17: =IF(SUMIFS('Base Produits'!$L:$L,'Base Produits'!$J:$J,V$3,'Base Produits'!$K:$K,DATE(1900,MONTH($A17),DAY($A17)))=0,100%,SUMIFS('Base Produits'!$L:$L,'Base Produits'!$J:$J,V$3,'Base Produits'!$K:$K,DATE(1900,MONTH($A17),DAY($A17)))) -> 1 | Y17: =W17*W$3 -> 0
A18: =DATE(RESULTS!$J$4,6,1) -> 46539 | B18: =D18/SUM($H$3,$M$3,$R$3,$W$3,$AB$3) -> 1 | D18: =SUM(J18,O18,T18,Y18) -> 45 | G18: =$A18 -> 46539 | H18: =IF(SUMIFS('Base Produits'!$L:$L,'Base Produits'!$J:$J,G$3,'Base Produits'!$K:$K,DATE(1900,MONTH($A18),DAY($A18)))=0,100%,SUMIFS('Base Produits'!$L:$L,'Base Produits'!$J:$J,G$3,'Base Produits'!$K:$K,DATE(1900,MONTH($A18),DAY($A18)))) -> 1 | J18: =H18*H$3 -> 17.013766 | L18: =$A18 -> 46539 | M18: =IF(SUMIFS('Base Produits'!$L:$L,'Base Produits'!$J:$J,L$3,'Base Produits'!$K:$K,DATE(1900,MONTH($A18),DAY($A18)))=0,100%,SUMIFS('Base Produits'!$L:$L,'Base Produits'!$J:$J,L$3,'Base Produits'!$K:$K,DATE(1900,MONTH($A18),DAY($A18)))) -> 1 | O18: =M18*M$3 -> 14.10256 | Q18: =$A18 -> 46539 | R18: =IF(SUMIFS('Base Produits'!$L:$L,'Base Produits'!$J:$J,Q$3,'Base Produits'!$K:$K,DATE(1900,MONTH($A18),DAY($A18)))=0,100%,SUMIFS('Base Produits'!$L:$L,'Base Produits'!$J:$J,Q$3,'Base Produits'!$K:$K,DATE(1900,MONTH($A18),DAY($A18)))) -> 1 | T18: =R18*R$3 -> 13.883674 | V18: =$A18 -> 46539 | W18: =IF(SUMIFS('Base Produits'!$L:$L,'Base Produits'!$J:$J,V$3,'Base Produits'!$K:$K,DATE(1900,MONTH($A18),DAY($A18)))=0,100%,SUMIFS('Base Produits'!$L:$L,'Base Produits'!$J:$J,V$3,'Base Produits'!$K:$K,DATE(1900,MONTH($A18),DAY($A18)))) -> 1 | Y18: =W18*W$3 -> 0
A19: =A20-1 -> 46599 | B19: =D19/SUM($H$3,$M$3,$R$3,$W$3,$AB$3) -> 0.85 | D19: =SUM(J19,O19,T19,Y19) -> 38.25 | G19: =$A19 -> 46599 | H19: =IF(SUMIFS('Base Produits'!$L:$L,'Base Produits'!$J:$J,G$3,'Base Produits'!$K:$K,DATE(1900,MONTH($A19),DAY($A19)))=0,100%,SUMIFS('Base Produits'!$L:$L,'Base Produits'!$J:$J,G$3,'Base Produits'!$K:$K,DATE(1900,MONTH($A19),DAY($A19)))) -> 0.85 | J19: =H19*H$3 -> 14.461701 | L19: =$A19 -> 46599 | M19: =IF(SUMIFS('Base Produits'!$L:$L,'Base Produits'!$J:$J,L$3,'Base Produits'!$K:$K,DATE(1900,MONTH($A19),DAY($A19)))=0,100%,SUMIFS('Base Produits'!$L:$L,'Base Produits'!$J:$J,L$3,'Base Produits'!$K:$K,DATE(1900,MONTH($A19),DAY($A19)))) -> 0.85 | O19: =M19*M$3 -> 11.987176 | Q19: =$A19 -> 46599 | R19: =IF(SUMIFS('Base Produits'!$L:$L,'Base Produits'!$J:$J,Q$3,'Base Produits'!$K:$K,DATE(1900,MONTH($A19),DAY($A19)))=0,100%,SUMIFS('Base Produits'!$L:$L,'Base Produits'!$J:$J,Q$3,'Base Produits'!$K:$K,DATE(1900,MONTH($A19),DAY($A19)))) -> 0.85 | T19: =R19*R$3 -> 11.801123 | V19: =$A19 -> 46599 | W19: =IF(SUMIFS('Base Produits'!$L:$L,'Base Produits'!$J:$J,V$3,'Base Produits'!$K:$K,DATE(1900,MONTH($A19),DAY($A19)))=0,100%,SUMIFS('Base Produits'!$L:$L,'Base Produits'!$J:$J,V$3,'Base Produits'!$K:$K,DATE(1900,MONTH($A19),DAY($A19)))) -> 1 | Y19: =W19*W$3 -> 0
A20: =DATE(RESULTS!$J$4,8,1) -> 46600 | B20: =D20/SUM($H$3,$M$3,$R$3,$W$3,$AB$3) -> 1 | D20: =SUM(J20,O20,T20,Y20) -> 45 | G20: =$A20 -> 46600 | H20: =IF(SUMIFS('Base Produits'!$L:$L,'Base Produits'!$J:$J,G$3,'Base Produits'!$K:$K,DATE(1900,MONTH($A20),DAY($A20)))=0,100%,SUMIFS('Base Produits'!$L:$L,'Base Produits'!$J:$J,G$3,'Base Produits'!$K:$K,DATE(1900,MONTH($A20),DAY($A20)))) -> 1 | J20: =H20*H$3 -> 17.013766 | L20: =$A20 -> 46600 | M20: =IF(SUMIFS('Base Produits'!$L:$L,'Base Produits'!$J:$J,L$3,'Base Produits'!$K:$K,DATE(1900,MONTH($A20),DAY($A20)))=0,100%,SUMIFS('Base Produits'!$L:$L,'Base Produits'!$J:$J,L$3,'Base Produits'!$K:$K,DATE(1900,MONTH($A20),DAY($A20)))) -> 1 | O20: =M20*M$3 -> 14.10256 | Q20: =$A20 -> 46600 | R20: =IF(SUMIFS('Base Produits'!$L:$L,'Base Produits'!$J:$J,Q$3,'Base Produits'!$K:$K,DATE(1900,MONTH($A20),DAY($A20)))=0,100%,SUMIFS('Base Produits'!$L:$L,'Base Produits'!$J:$J,Q$3,'Base Produits'!$K:$K,DATE(1900,MONTH($A20),DAY($A20)))) -> 1 | T20: =R20*R$3 -> 13.883674 | V20: =$A20 -> 46600 | W20: =IF(SUMIFS('Base Produits'!$L:$L,'Base Produits'!$J:$J,V$3,'Base Produits'!$K:$K,DATE(1900,MONTH($A20),DAY($A20)))=0,100%,SUMIFS('Base Produits'!$L:$L,'Base Produits'!$J:$J,V$3,'Base Produits'!$K:$K,DATE(1900,MONTH($A20),DAY($A20)))) -> 1 | Y20: =W20*W$3 -> 0
A21: =A22-1 -> 46630 | B21: =D21/SUM($H$3,$M$3,$R$3,$W$3,$AB$3) -> 0.95 | D21: =SUM(J21,O21,T21,Y21) -> 42.75 | G21: =$A21 -> 46630 | H21: =IF(SUMIFS('Base Produits'!$L:$L,'Base Produits'!$J:$J,G$3,'Base Produits'!$K:$K,DATE(1900,MONTH($A21),DAY($A21)))=0,100%,SUMIFS('Base Produits'!$L:$L,'Base Produits'!$J:$J,G$3,'Base Produits'!$K:$K,DATE(1900,MONTH($A21),DAY($A21)))) -> 0.95 | J21: =H21*H$3 -> 16.163078 | L21: =$A21 -> 46630 | M21: =IF(SUMIFS('Base Produits'!$L:$L,'Base Produits'!$J:$J,L$3,'Base Produits'!$K:$K,DATE(1900,MONTH($A21),DAY($A21)))=0,100%,SUMIFS('Base Produits'!$L:$L,'Base Produits'!$J:$J,L$3,'Base Produits'!$K:$K,DATE(1900,MONTH($A21),DAY($A21)))) -> 0.95 | O21: =M21*M$3 -> 13.397432 | Q21: =$A21 -> 46630 | R21: =IF(SUMIFS('Base Produits'!$L:$L,'Base Produits'!$J:$J,Q$3,'Base Produits'!$K:$K,DATE(1900,MONTH($A21),DAY($A21)))=0,100%,SUMIFS('Base Produits'!$L:$L,'Base Produits'!$J:$J,Q$3,'Base Produits'!$K:$K,DATE(1900,MONTH($A21),DAY($A21)))) -> 0.95 | T21: =R21*R$3 -> 13.18949 | V21: =$A21 -> 46630 | W21: =IF(SUMIFS('Base Produits'!$L:$L,'Base Produits'!$J:$J,V$3,'Base Produits'!$K:$K,DATE(1900,MONTH($A21),DAY($A21)))=0,100%,SUMIFS('Base Produits'!$L:$L,'Base Produits'!$J:$J,V$3,'Base Produits'!$K:$K,DATE(1900,MONTH($A21),DAY($A21)))) -> 1 | Y21: =W21*W$3 -> 0
A22: =DATE(RESULTS!$J$4,9,1) -> 46631 | B22: =D22/SUM($H$3,$M$3,$R$3,$W$3,$AB$3) -> 1 | D22: =SUM(J22,O22,T22,Y22) -> 45 | G22: =$A22 -> 46631 | H22: =IF(SUMIFS('Base Produits'!$L:$L,'Base Produits'!$J:$J,G$3,'Base Produits'!$K:$K,DATE(1900,MONTH($A22),DAY($A22)))=0,100%,SUMIFS('Base Produits'!$L:$L,'Base Produits'!$J:$J,G$3,'Base Produits'!$K:$K,DATE(1900,MONTH($A22),DAY($A22)))) -> 1 | J22: =H22*H$3 -> 17.013766 | L22: =$A22 -> 46631 | M22: =IF(SUMIFS('Base Produits'!$L:$L,'Base Produits'!$J:$J,L$3,'Base Produits'!$K:$K,DATE(1900,MONTH($A22),DAY($A22)))=0,100%,SUMIFS('Base Produits'!$L:$L,'Base Produits'!$J:$J,L$3,'Base Produits'!$K:$K,DATE(1900,MONTH($A22),DAY($A22)))) -> 1 | O22: =M22*M$3 -> 14.10256 | Q22: =$A22 -> 46631 | R22: =IF(SUMIFS('Base Produits'!$L:$L,'Base Produits'!$J:$J,Q$3,'Base Produits'!$K:$K,DATE(1900,MONTH($A22),DAY($A22)))=0,100%,SUMIFS('Base Produits'!$L:$L,'Base Produits'!$J:$J,Q$3,'Base Produits'!$K:$K,DATE(1900,MONTH($A22),DAY($A22)))) -> 1 | T22: =R22*R$3 -> 13.883674 | V22: =$A22 -> 46631 | W22: =IF(SUMIFS('Base Produits'!$L:$L,'Base Produits'!$J:$J,V$3,'Base Produits'!$K:$K,DATE(1900,MONTH($A22),DAY($A22)))=0,100%,SUMIFS('Base Produits'!$L:$L,'Base Produits'!$J:$J,V$3,'Base Produits'!$K:$K,DATE(1900,MONTH($A22),DAY($A22)))) -> 1 | Y22: =W22*W$3 -> 0
A23: =DATE(RESULTS!M4,3,31) -> 46843 | B23: =D23/SUM($H$3,$M$3,$R$3,$W$3,$AB$3) -> 0.35 | D23: =SUM(J23,O23,T23,Y23) -> 15.75 | G23: =$A23 -> 46843 | H23: =IF(SUMIFS('Base Produits'!$L:$L,'Base Produits'!$J:$J,G$3,'Base Produits'!$K:$K,DATE(1900,MONTH($A23),DAY($A23)))=0,100%,SUMIFS('Base Produits'!$L:$L,'Base Produits'!$J:$J,G$3,'Base Produits'!$K:$K,DATE(1900,MONTH($A23),DAY($A23)))) -> 0.35 | J23: =H23*H$3 -> 5.9548181 | L23: =$A23 -> 46843 | M23: =IF(SUMIFS('Base Produits'!$L:$L,'Base Produits'!$J:$J,L$3,'Base Produits'!$K:$K,DATE(1900,MONTH($A23),DAY($A23)))=0,100%,SUMIFS('Base Produits'!$L:$L,'Base Produits'!$J:$J,L$3,'Base Produits'!$K:$K,DATE(1900,MONTH($A23),DAY($A23)))) -> 0.35 | O23: =M23*M$3 -> 4.935896 | Q23: =$A23 -> 46843 | R23: =IF(SUMIFS('Base Produits'!$L:$L,'Base Produits'!$J:$J,Q$3,'Base Produits'!$K:$K,DATE(1900,MONTH($A23),DAY($A23)))=0,100%,SUMIFS('Base Produits'!$L:$L,'Base Produits'!$J:$J,Q$3,'Base Produits'!$K:$K,DATE(1900,MONTH($A23),DAY($A23)))) -> 0.35 | T23: =R23*R$3 -> 4.8592859 | V23: =$A23 -> 46843 | W23: =IF(SUMIFS('Base Produits'!$L:$L,'Base Produits'!$J:$J,V$3,'Base Produits'!$K:$K,DATE(1900,MONTH($A23),DAY($A23)))=0,100%,SUMIFS('Base Produits'!$L:$L,'Base Produits'!$J:$J,V$3,'Base Produits'!$K:$K,DATE(1900,MONTH($A23),DAY($A23)))) -> 1 | Y23: =W23*W$3 -> 0
G24: =IF($A24<DATE(2000,1,1),"",$A24) | L24: =IF($A24<DATE(2000,1,1),"",$A24) | Q24: =IF($A24<DATE(2000,1,1),"",$A24) | V24: =IF($A24<DATE(2000,1,1),"",$A24)
A26: Date | B26: Minimum stock level % | D26: TWh | G26: Date | H26: Minimum stock level % | J26: TWh | L26: Date | M26: Minimum stock level % | O26: TWh | Q26: Date | R26: Minimum stock level % | T26: TWh | V26: Date | W26: Minimum stock level % | Y26: TWh
G27: =IF($A27<DATE(2000,1,1),"",$A27) | J27: =H27*H$3 -> 0 | L27: =IF($A27<DATE(2000,1,1),"",$A27) | O27: =M27*M$3 -> 0 | Q27: =IF($A27<DATE(2000,1,1),"",$A27) | T27: =R27*R$3 -> 0 | V27: =IF($A27<DATE(2000,1,1),"",$A27) | Y27: =W27*W$3 -> 0
A28: =A29-1 -> 46538 | B28: =D28/SUM($H$3,$M$3,$R$3,$W$3,$AB$3) -> 0 | D28: =SUM(J28,O28,T28,Y28) -> 0 | G28: =$A28 -> 46538 | H28: =IF(SUMIFS('Base Produits'!$P:$P,'Base Produits'!$N:$N,G$3,'Base Produits'!$O:$O,DATE(1900,MONTH($A28),DAY($A28)))=0,0%,SUMIFS('Base Produits'!$P:$P,'Base Produits'!$N:$N,G$3,'Base Produits'!$O:$O,DATE(1900,MONTH($A28),DAY($A28)))) -> 0 | J28: =H28*H$3 -> 0 | L28: =$A28 -> 46538 | M28: =IF(SUMIFS('Base Produits'!$P:$P,'Base Produits'!$N:$N,L$3,'Base Produits'!$O:$O,DATE(1900,MONTH($A28),DAY($A28)))=0,0%,SUMIFS('Base Produits'!$P:$P,'Base Produits'!$N:$N,L$3,'Base Produits'!$O:$O,DATE(1900,MONTH($A28),DAY($A28)))) -> 0 | O28: =M28*M$3 -> 0 | Q28: =$A28 -> 46538 | R28: =IF(SUMIFS('Base Produits'!$P:$P,'Base Produits'!$N:$N,Q$3,'Base Produits'!$O:$O,DATE(1900,MONTH($A28),DAY($A28)))=0,0%,SUMIFS('Base Produits'!$P:$P,'Base Produits'!$N:$N,Q$3,'Base Produits'!$O:$O,DATE(1900,MONTH($A28),DAY($A28)))) -> 0 | T28: =R28*R$3 -> 0 | V28: =$A28 -> 46538 | W28: =IF(SUMIFS('Base Produits'!$P:$P,'Base Produits'!$N:$N,V$3,'Base Produits'!$O:$O,DATE(1900,MONTH($A28),DAY($A28)))=0,0%,SUMIFS('Base Produits'!$P:$P,'Base Produits'!$N:$N,V$3,'Base Produits'!$O:$O,DATE(1900,MONTH($A28),DAY($A28)))) -> 0 | Y28: =W28*W$3 -> 0
A29: =DATE(RESULTS!$J$4,6,1) -> 46539 | B29: =D29/SUM($H$3,$M$3,$R$3,$W$3,$AB$3) -> 0 | D29: =SUM(J29,O29,T29,Y29) -> 0 | G29: =$A29 -> 46539 | H29: =IF(SUMIFS('Base Produits'!$P:$P,'Base Produits'!$N:$N,G$3,'Base Produits'!$O:$O,DATE(1900,MONTH($A29),DAY($A29)))=0,0%,SUMIFS('Base Produits'!$P:$P,'Base Produits'!$N:$N,G$3,'Base Produits'!$O:$O,DATE(1900,MONTH($A29),DAY($A29)))) -> 0 | J29: =H29*H$3 -> 0 | L29: =$A29 -> 46539 | M29: =IF(SUMIFS('Base Produits'!$P:$P,'Base Produits'!$N:$N,L$3,'Base Produits'!$O:$O,DATE(1900,MONTH($A29),DAY($A29)))=0,0%,SUMIFS('Base Produits'!$P:$P,'Base Produits'!$N:$N,L$3,'Base Produits'!$O:$O,DATE(1900,MONTH($A29),DAY($A29)))) -> 0 | O29: =M29*M$3 -> 0 | Q29: =$A29 -> 46539 | R29: =IF(SUMIFS('Base Produits'!$P:$P,'Base Produits'!$N:$N,Q$3,'Base Produits'!$O:$O,DATE(1900,MONTH($A29),DAY($A29)))=0,0%,SUMIFS('Base Produits'!$P:$P,'Base Produits'!$N:$N,Q$3,'Base Produits'!$O:$O,DATE(1900,MONTH($A29),DAY($A29)))) -> 0 | T29: =R29*R$3 -> 0 | V29: =$A29 -> 46539 | W29: =IF(SUMIFS('Base Produits'!$P:$P,'Base Produits'!$N:$N,V$3,'Base Produits'!$O:$O,DATE(1900,MONTH($A29),DAY($A29)))=0,0%,SUMIFS('Base Produits'!$P:$P,'Base Produits'!$N:$N,V$3,'Base Produits'!$O:$O,DATE(1900,MONTH($A29),DAY($A29)))) -> 0 | Y29: =W29*W$3 -> 0
A30: =A31-1 -> 46599 | B30: =D30/SUM($H$3,$M$3,$R$3,$W$3,$AB$3) -> 0 | D30: =SUM(J30,O30,T30,Y30) -> 0 | G30: =$A30 -> 46599 | H30: =IF(SUMIFS('Base Produits'!$P:$P,'Base Produits'!$N:$N,G$3,'Base Produits'!$O:$O,DATE(1900,MONTH($A30),DAY($A30)))=0,0%,SUMIFS('Base Produits'!$P:$P,'Base Produits'!$N:$N,G$3,'Base Produits'!$O:$O,DATE(1900,MONTH($A30),DAY($A30)))) -> 0 | J30: =H30*H$3 -> 0 | L30: =$A30 -> 46599 | M30: =IF(SUMIFS('Base Produits'!$P:$P,'Base Produits'!$N:$N,L$3,'Base Produits'!$O:$O,DATE(1900,MONTH($A30),DAY($A30)))=0,0%,SUMIFS('Base Produits'!$P:$P,'Base Produits'!$N:$N,L$3,'Base Produits'!$O:$O,DATE(1900,MONTH($A30),DAY($A30)))) -> 0 | O30: =M30*M$3 -> 0 | Q30: =$A30 -> 46599 | R30: =IF(SUMIFS('Base Produits'!$P:$P,'Base Produits'!$N:$N,Q$3,'Base Produits'!$O:$O,DATE(1900,MONTH($A30),DAY($A30)))=0,0%,SUMIFS('Base Produits'!$P:$P,'Base Produits'!$N:$N,Q$3,'Base Produits'!$O:$O,DATE(1900,MONTH($A30),DAY($A30)))) -> 0 | T30: =R30*R$3 -> 0 | V30: =$A30 -> 46599 | W30: =IF(SUMIFS('Base Produits'!$P:$P,'Base Produits'!$N:$N,V$3,'Base Produits'!$O:$O,DATE(1900,MONTH($A30),DAY($A30)))=0,0%,SUMIFS('Base Produits'!$P:$P,'Base Produits'!$N:$N,V$3,'Base Produits'!$O:$O,DATE(1900,MONTH($A30),DAY($A30)))) -> 0 | Y30: =W30*W$3 -> 0
A31: =DATE(RESULTS!$J$4,8,1) -> 46600 | B31: =D31/SUM($H$3,$M$3,$R$3,$W$3,$AB$3) -> 0 | D31: =SUM(J31,O31,T31,Y31) -> 0 | G31: =$A31 -> 46600 | H31: =IF(SUMIFS('Base Produits'!$P:$P,'Base Produits'!$N:$N,G$3,'Base Produits'!$O:$O,DATE(1900,MONTH($A31),DAY($A31)))=0,0%,SUMIFS('Base Produits'!$P:$P,'Base Produits'!$N:$N,G$3,'Base Produits'!$O:$O,DATE(1900,MONTH($A31),DAY($A31)))) -> 0 | J31: =H31*H$3 -> 0 | L31: =$A31 -> 46600 | M31: =IF(SUMIFS('Base Produits'!$P:$P,'Base Produits'!$N:$N,L$3,'Base Produits'!$O:$O,DATE(1900,MONTH($A31),DAY($A31)))=0,0%,SUMIFS('Base Produits'!$P:$P,'Base Produits'!$N:$N,L$3,'Base Produits'!$O:$O,DATE(1900,MONTH($A31),DAY($A31)))) -> 0 | O31: =M31*M$3 -> 0 | Q31: =$A31 -> 46600 | R31: =IF(SUMIFS('Base Produits'!$P:$P,'Base Produits'!$N:$N,Q$3,'Base Produits'!$O:$O,DATE(1900,MONTH($A31),DAY($A31)))=0,0%,SUMIFS('Base Produits'!$P:$P,'Base Produits'!$N:$N,Q$3,'Base Produits'!$O:$O,DATE(1900,MONTH($A31),DAY($A31)))) -> 0 | T31: =R31*R$3 -> 0 | V31: =$A31 -> 46600 | W31: =IF(SUMIFS('Base Produits'!$P:$P,'Base Produits'!$N:$N,V$3,'Base Produits'!$O:$O,DATE(1900,MONTH($A31),DAY($A31)))=0,0%,SUMIFS('Base Produits'!$P:$P,'Base Produits'!$N:$N,V$3,'Base Produits'!$O:$O,DATE(1900,MONTH($A31),DAY($A31)))) -> 0 | Y31: =W31*W$3 -> 0
A32: =A33-1 -> 46660 | B32: =D32/SUM($H$3,$M$3,$R$3,$W$3,$AB$3) -> 0.9 | D32: =SUM(J32,O32,T32,Y32) -> 40.5 | G32: =$A32 -> 46660 | H32: =IF(SUMIFS('Base Produits'!$P:$P,'Base Produits'!$N:$N,G$3,'Base Produits'!$O:$O,DATE(1900,MONTH($A32),DAY($A32)))=0,0%,SUMIFS('Base Produits'!$P:$P,'Base Produits'!$N:$N,G$3,'Base Produits'!$O:$O,DATE(1900,MONTH($A32),DAY($A32)))) -> 0.9 | J32: =H32*H$3 -> 15.312389 | L32: =$A32 -> 46660 | M32: =IF(SUMIFS('Base Produits'!$P:$P,'Base Produits'!$N:$N,L$3,'Base Produits'!$O:$O,DATE(1900,MONTH($A32),DAY($A32)))=0,0%,SUMIFS('Base Produits'!$P:$P,'Base Produits'!$N:$N,L$3,'Base Produits'!$O:$O,DATE(1900,MONTH($A32),DAY($A32)))) -> 0.9 | O32: =M32*M$3 -> 12.692304 | Q32: =$A32 -> 46660 | R32: =IF(SUMIFS('Base Produits'!$P:$P,'Base Produits'!$N:$N,Q$3,'Base Produits'!$O:$O,DATE(1900,MONTH($A32),DAY($A32)))=0,0%,SUMIFS('Base Produits'!$P:$P,'Base Produits'!$N:$N,Q$3,'Base Produits'!$O:$O,DATE(1900,MONTH($A32),DAY($A32)))) -> 0.9 | T32: =R32*R$3 -> 12.495307 | V32: =$A32 -> 46660 | W32: =IF(SUMIFS('Base Produits'!$P:$P,'Base Produits'!$N:$N,V$3,'Base Produits'!$O:$O,DATE(1900,MONTH($A32),DAY($A32)))=0,0%,SUMIFS('Base Produits'!$P:$P,'Base Produits'!$N:$N,V$3,'Base Produits'!$O:$O,DATE(1900,MONTH($A32),DAY($A32)))) -> 0 | Y32: =W32*W$3 -> 0
A33: =DATE(RESULTS!$J$4,10,1) -> 46661 | B33: =D33/SUM($H$3,$M$3,$R$3,$W$3,$AB$3) -> 0 | D33: =SUM(J33,O33,T33,Y33) -> 0 | G33: =$A33 -> 46661 | H33: =IF(SUMIFS('Base Produits'!$P:$P,'Base Produits'!$N:$N,G$3,'Base Produits'!$O:$O,DATE(1900,MONTH($A33),DAY($A33)))=0,0%,SUMIFS('Base Produits'!$P:$P,'Base Produits'!$N:$N,G$3,'Base Produits'!$O:$O,DATE(1900,MONTH($A33),DAY($A33)))) -> 0 | J33: =H33*H$3 -> 0 | L33: =$A33 -> 46661 | M33: =IF(SUMIFS('Base Produits'!$P:$P,'Base Produits'!$N:$N,L$3,'Base Produits'!$O:$O,DATE(1900,MONTH($A33),DAY($A33)))=0,0%,SUMIFS('Base Produits'!$P:$P,'Base Produits'!$N:$N,L$3,'Base Produits'!$O:$O,DATE(1900,MONTH($A33),DAY($A33)))) -> 0 | O33: =M33*M$3 -> 0 | Q33: =$A33 -> 46661 | R33: =IF(SUMIFS('Base Produits'!$P:$P,'Base Produits'!$N:$N,Q$3,'Base Produits'!$O:$O,DATE(1900,MONTH($A33),DAY($A33)))=0,0%,SUMIFS('Base Produits'!$P:$P,'Base Produits'!$N:$N,Q$3,'Base Produits'!$O:$O,DATE(1900,MONTH($A33),DAY($A33)))) -> 0 | T33: =R33*R$3 -> 0 | V33: =$A33 -> 46661 | W33: =IF(SUMIFS('Base Produits'!$P:$P,'Base Produits'!$N:$N,V$3,'Base Produits'!$O:$O,DATE(1900,MONTH($A33),DAY($A33)))=0,0%,SUMIFS('Base Produits'!$P:$P,'Base Produits'!$N:$N,V$3,'Base Produits'!$O:$O,DATE(1900,MONTH($A33),DAY($A33)))) -> 0 | Y33: =W33*W$3 -> 0
A34: =A35-1 -> 46691 | B34: =D34/SUM($H$3,$M$3,$R$3,$W$3,$AB$3) -> 0.85 | D34: =SUM(J34,O34,T34,Y34) -> 38.25 | G34: =$A34 -> 46691 | H34: =IF(SUMIFS('Base Produits'!$P:$P,'Base Produits'!$N:$N,G$3,'Base Produits'!$O:$O,DATE(1900,MONTH($A34),DAY($A34)))=0,0%,SUMIFS('Base Produits'!$P:$P,'Base Produits'!$N:$N,G$3,'Base Produits'!$O:$O,DATE(1900,MONTH($A34),DAY($A34)))) -> 0.85 | J34: =H34*H$3 -> 14.461701 | L34: =$A34 -> 46691 | M34: =IF(SUMIFS('Base Produits'!$P:$P,'Base Produits'!$N:$N,L$3,'Base Produits'!$O:$O,DATE(1900,MONTH($A34),DAY($A34)))=0,0%,SUMIFS('Base Produits'!$P:$P,'Base Produits'!$N:$N,L$3,'Base Produits'!$O:$O,DATE(1900,MONTH($A34),DAY($A34)))) -> 0.85 | O34: =M34*M$3 -> 11.987176 | Q34: =$A34 -> 46691 | R34: =IF(SUMIFS('Base Produits'!$P:$P,'Base Produits'!$N:$N,Q$3,'Base Produits'!$O:$O,DATE(1900,MONTH($A34),DAY($A34)))=0,0%,SUMIFS('Base Produits'!$P:$P,'Base Produits'!$N:$N,Q$3,'Base Produits'!$O:$O,DATE(1900,MONTH($A34),DAY($A34)))) -> 0.85 | T34: =R34*R$3 -> 11.801123 | V34: =$A34 -> 46691 | W34: =IF(SUMIFS('Base Produits'!$P:$P,'Base Produits'!$N:$N,V$3,'Base Produits'!$O:$O,DATE(1900,MONTH($A34),DAY($A34)))=0,0%,SUMIFS('Base Produits'!$P:$P,'Base Produits'!$N:$N,V$3,'Base Produits'!$O:$O,DATE(1900,MONTH($A34),DAY($A34)))) -> 0 | Y34: =W34*W$3 -> 0
A35: =DATE(RESULTS!$J$4,11,1) -> 46692 | B35: =D35/SUM($H$3,$M$3,$R$3,$W$3,$AB$3) -> 0 | D35: =SUM(J35,O35,T35,Y35) -> 0 | G35: =$A35 -> 46692 | H35: =IF(SUMIFS('Base Produits'!$P:$P,'Base Produits'!$N:$N,G$3,'Base Produits'!$O:$O,DATE(1900,MONTH($A35),DAY($A35)))=0,0%,SUMIFS('Base Produits'!$P:$P,'Base Produits'!$N:$N,G$3,'Base Produits'!$O:$O,DATE(1900,MONTH($A35),DAY($A35)))) -> 0 | J35: =H35*H$3 -> 0 | L35: =$A35 -> 46692 | M35: =IF(SUMIFS('Base Produits'!$P:$P,'Base Produits'!$N:$N,L$3,'Base Produits'!$O:$O,DATE(1900,MONTH($A35),DAY($A35)))=0,0%,SUMIFS('Base Produits'!$P:$P,'Base Produits'!$N:$N,L$3,'Base Produits'!$O:$O,DATE(1900,MONTH($A35),DAY($A35)))) -> 0 | O35: =M35*M$3 -> 0 | Q35: =$A35 -> 46692 | R35: =IF(SUMIFS('Base Produits'!$P:$P,'Base Produits'!$N:$N,Q$3,'Base Produits'!$O:$O,DATE(1900,MONTH($A35),DAY($A35)))=0,0%,SUMIFS('Base Produits'!$P:$P,'Base Produits'!$N:$N,Q$3,'Base Produits'!$O:$O,DATE(1900,MONTH($A35),DAY($A35)))) -> 0 | T35: =R35*R$3 -> 0 | V35: =$A35 -> 46692 | W35: =IF(SUMIFS('Base Produits'!$P:$P,'Base Produits'!$N:$N,V$3,'Base Produits'!$O:$O,DATE(1900,MONTH($A35),DAY($A35)))=0,0%,SUMIFS('Base Produits'!$P:$P,'Base Produits'!$N:$N,V$3,'Base Produits'!$O:$O,DATE(1900,MONTH($A35),DAY($A35)))) -> 0 | Y35: =W35*W$3 -> 0
G36: =IF($A36<DATE(2000,1,1),"",$A36) | L36: =IF($A36<DATE(2000,1,1),"",$A36) | Q36: =IF($A36<DATE(2000,1,1),"",$A36) | V36: =IF($A36<DATE(2000,1,1),"",$A36)
A40: Qi% foisonement | G40: VU | I40: Qi % reduction | N40: Qi % reduction | S40: Qi % reduction | X40: Qi % reduction | AK40: Min Brut | AL40: Max Brut | AM40: Min cor. Inj | AN40: Min.cor Sout | AO40: Max corrigé
A41: =(IFERROR((I41*$H$3/$I$4),0)+IFERROR((N41*$M$3/$N$4),0)+IFERROR((S41*$R$3/$S$4),0)+IFERROR((X41*$W$3/$X$4),0))/($D$5/1000) -> 1 | G41: 0 | I41: {=IF($G41>=I$7,TREND(J$6:J$7,I$6:I$7,$G41),IF($G41>=I$8,TREND(J$7:J$8,I$7:I$8,$G41),IF($G41>=I$9,TREND(J$8:J$9,I$8:I$9,$G41),IF($G41>=I$10,TREND(J$9:J$10,I$9:I$10,$G41),IF($G41>=I$11,TREND(J$10:J$11,I$10:I$11,$G41),0)))))} -> 1 | N41: {=IF($G41>=N$7,TREND(O$6:O$7,N$6:N$7,$G41),IF($G41>=N$8,TREND(O$7:O$8,N$7:N$8,$G41),IF($G41>=N$9,TREND(O$8:O$9,N$8:N$9,$G41),IF($G41>=N$10,TREND(O$9:O$10,N$9:N$10,$G41),IF($G41>=N$11,TREND(O$10:O$11,N$10:N$11,$G41),0)))))} -> 1 | S41: {=IF($G41>=S$7,TREND(T$6:T$7,S$6:S$7,$G41),IF($G41>=S$8,TREND(T$7:T$8,S$7:S$8,$G41),IF($G41>=S$9,TREND(T$8:T$9,S$8:S$9,$G41),IF($G41>=S$10,TREND(T$9:T$10,S$9:S$10,$G41),IF($G41>=S$11,TREND(T$10:T$11,S$10:S$11,$G41),0)))))} -> 1 | X41: {=IF($G41>=X$7,TREND(Y$6:Y$7,X$6:X$7,$G41),IF($G41>=X$8,TREND(Y$7:Y$8,X$7:X$8,$G41),IF($G41>=X$9,TREND(Y$8:Y$9,X$8:X$9,$G41),IF($G41>=X$10,TREND(Y$9:Y$10,X$9:X$10,$G41),IF($G41>=X$11,TREND(Y$10:Y$11,X$10:X$11,$G41),0)))))} -> 0 | AJ41: =DATE(RESULTS!J4,4,1) -> 46478 | AK41: =_xlfn.XLOOKUP(AJ41,A$27:A$36,B$27:B$36,0,0) -> 0 | AL41: =_xlfn.XLOOKUP(AJ41,A$15:A$24,B$15:B$24,1,0) -> 0.35 | AM41: =_xlfn.XLOOKUP(AJ41,A$27:A$36,B$27:B$36,0,-1) -> 0 | AN41: =AK41 -> 0 | AO41: =IF(AL41=1,AO42,AL41) -> 0.35
A42: =(IFERROR((I42*$H$3/$I$4),0)+IFERROR((N42*$M$3/$N$4),0)+IFERROR((S42*$R$3/$S$4),0)+IFERROR((X42*$W$3/$X$4),0))/($D$5/1000) -> 1 | G42: 0.01 | I42: {=IF($G42>=I$7,TREND(J$6:J$7,I$6:I$7,$G42),IF($G42>=I$8,TREND(J$7:J$8,I$7:I$8,$G42),IF($G42>=I$9,TREND(J$8:J$9,I$8:I$9,$G42),IF($G42>=I$10,TREND(J$9:J$10,I$9:I$10,$G42),IF($G42>=I$11,TREND(J$10:J$11,I$10:I$11,$G42),0)))))} -> 1 | N42: {=IF($G42>=N$7,TREND(O$6:O$7,N$6:N$7,$G42),IF($G42>=N$8,TREND(O$7:O$8,N$7:N$8,$G42),IF($G42>=N$9,TREND(O$8:O$9,N$8:N$9,$G42),IF($G42>=N$10,TREND(O$9:O$10,N$9:N$10,$G42),IF($G42>=N$11,TREND(O$10:O$11,N$10:N$11,$G42),0)))))} -> 1 | S42: {=IF($G42>=S$7,TREND(T$6:T$7,S$6:S$7,$G42),IF($G42>=S$8,TREND(T$7:T$8,S$7:S$8,$G42),IF($G42>=S$9,TREND(T$8:T$9,S$8:S$9,$G42),IF($G42>=S$10,TREND(T$9:T$10,S$9:S$10,$G42),IF($G42>=S$11,TREND(T$10:T$11,S$10:S$11,$G42),0)))))} -> 1 | X42: {=IF($G42>=X$7,TREND(Y$6:Y$7,X$6:X$7,$G42),IF($G42>=X$8,TREND(Y$7:Y$8,X$7:X$8,$G42),IF($G42>=X$9,TREND(Y$8:Y$9,X$8:X$9,$G42),IF($G42>=X$10,TREND(Y$9:Y$10,X$9:X$10,$G42),IF($G42>=X$11,TREND(Y$10:Y$11,X$10:X$11,$G42),0)))))} -> 0 | AJ42: =AJ41+1 -> 46479 | AK42: =_xlfn.XLOOKUP(AJ42,A$27:A$36,B$27:B$36,0,0) -> 0 | AL42: =_xlfn.XLOOKUP(AJ42,A$15:A$24,B$15:B$24,1,0) -> 1 | AM42: =_xlfn.XLOOKUP(AJ42,A$27:A$36,B$27:B$36,0,-1) -> 0 | AN42: =AK42 -> 0 | AO42: =IF(AL42=1,AO43,AL42) -> 0.85
A43: =(IFERROR((I43*$H$3/$I$4),0)+IFERROR((N43*$M$3/$N$4),0)+IFERROR((S43*$R$3/$S$4),0)+IFERROR((X43*$W$3/$X$4),0))/($D$5/1000) -> 1 | G43: 0.02 | I43: {=IF($G43>=I$7,TREND(J$6:J$7,I$6:I$7,$G43),IF($G43>=I$8,TREND(J$7:J$8,I$7:I$8,$G43),IF($G43>=I$9,TREND(J$8:J$9,I$8:I$9,$G43),IF($G43>=I$10,TREND(J$9:J$10,I$9:I$10,$G43),IF($G43>=I$11,TREND(J$10:J$11,I$10:I$11,$G43),0)))))} -> 1 | N43: {=IF($G43>=N$7,TREND(O$6:O$7,N$6:N$7,$G43),IF($G43>=N$8,TREND(O$7:O$8,N$7:N$8,$G43),IF($G43>=N$9,TREND(O$8:O$9,N$8:N$9,$G43),IF($G43>=N$10,TREND(O$9:O$10,N$9:N$10,$G43),IF($G43>=N$11,TREND(O$10:O$11,N$10:N$11,$G43),0)))))} -> 1 | S43: {=IF($G43>=S$7,TREND(T$6:T$7,S$6:S$7,$G43),IF($G43>=S$8,TREND(T$7:T$8,S$7:S$8,$G43),IF($G43>=S$9,TREND(T$8:T$9,S$8:S$9,$G43),IF($G43>=S$10,TREND(T$9:T$10,S$9:S$10,$G43),IF($G43>=S$11,TREND(T$10:T$11,S$10:S$11,$G43),0)))))} -> 1 | X43: {=IF($G43>=X$7,TREND(Y$6:Y$7,X$6:X$7,$G43),IF($G43>=X$8,TREND(Y$7:Y$8,X$7:X$8,$G43),IF($G43>=X$9,TREND(Y$8:Y$9,X$8:X$9,$G43),IF($G43>=X$10,TREND(Y$9:Y$10,X$9:X$10,$G43),IF($G43>=X$11,TREND(Y$10:Y$11,X$10:X$11,$G43),0)))))} -> 0 | AJ43: =AJ42+1 -> 46480 | AK43: =_xlfn.XLOOKUP(AJ43,A$27:A$36,B$27:B$36,0,0) -> 0 | AL43: =_xlfn.XLOOKUP(AJ43,A$15:A$24,B$15:B$24,1,0) -> 1 | AM43: =_xlfn.XLOOKUP(AJ43,A$27:A$36,B$27:B$36,0,-1) -> 0 | AN43: =AK43 -> 0 | AO43: =IF(AL43=1,AO44,AL43) -> 0.85
A44: =(IFERROR((I44*$H$3/$I$4),0)+IFERROR((N44*$M$3/$N$4),0)+IFERROR((S44*$R$3/$S$4),0)+IFERROR((X44*$W$3/$X$4),0))/($D$5/1000) -> 1 | G44: 0.03 | I44: {=IF($G44>=I$7,TREND(J$6:J$7,I$6:I$7,$G44),IF($G44>=I$8,TREND(J$7:J$8,I$7:I$8,$G44),IF($G44>=I$9,TREND(J$8:J$9,I$8:I$9,$G44),IF($G44>=I$10,TREND(J$9:J$10,I$9:I$10,$G44),IF($G44>=I$11,TREND(J$10:J$11,I$10:I$11,$G44),0)))))} -> 1 | N44: {=IF($G44>=N$7,TREND(O$6:O$7,N$6:N$7,$G44),IF($G44>=N$8,TREND(O$7:O$8,N$7:N$8,$G44),IF($G44>=N$9,TREND(O$8:O$9,N$8:N$9,$G44),IF($G44>=N$10,TREND(O$9:O$10,N$9:N$10,$G44),IF($G44>=N$11,TREND(O$10:O$11,N$10:N$11,$G44),0)))))} -> 1 | S44: {=IF($G44>=S$7,TREND(T$6:T$7,S$6:S$7,$G44),IF($G44>=S$8,TREND(T$7:T$8,S$7:S$8,$G44),IF($G44>=S$9,TREND(T$8:T$9,S$8:S$9,$G44),IF($G44>=S$10,TREND(T$9:T$10,S$9:S$10,$G44),IF($G44>=S$11,TREND(T$10:T$11,S$10:S$11,$G44),0)))))} -> 1 | X44: {=IF($G44>=X$7,TREND(Y$6:Y$7,X$6:X$7,$G44),IF($G44>=X$8,TREND(Y$7:Y$8,X$7:X$8,$G44),IF($G44>=X$9,TREND(Y$8:Y$9,X$8:X$9,$G44),IF($G44>=X$10,TREND(Y$9:Y$10,X$9:X$10,$G44),IF($G44>=X$11,TREND(Y$10:Y$11,X$10:X$11,$G44),0)))))} -> 0 | AJ44: =AJ43+1 -> 46481 | AK44: =_xlfn.XLOOKUP(AJ44,A$27:A$36,B$27:B$36,0,0) -> 0 | AL44: =_xlfn.XLOOKUP(AJ44,A$15:A$24,B$15:B$24,1,0) -> 1 | AM44: =_xlfn.XLOOKUP(AJ44,A$27:A$36,B$27:B$36,0,-1) -> 0 | AN44: =AK44 -> 0 | AO44: =IF(AL44=1,AO45,AL44) -> 0.85
A45: =(IFERROR((I45*$H$3/$I$4),0)+IFERROR((N45*$M$3/$N$4),0)+IFERROR((S45*$R$3/$S$4),0)+IFERROR((X45*$W$3/$X$4),0))/($D$5/1000) -> 1 | G45: 0.04 | I45: {=IF($G45>=I$7,TREND(J$6:J$7,I$6:I$7,$G45),IF($G45>=I$8,TREND(J$7:J$8,I$7:I$8,$G45),IF($G45>=I$9,TREND(J$8:J$9,I$8:I$9,$G45),IF($G45>=I$10,TREND(J$9:J$10,I$9:I$10,$G45),IF($G45>=I$11,TREND(J$10:J$11,I$10:I$11,$G45),0)))))} -> 1 | N45: {=IF($G45>=N$7,TREND(O$6:O$7,N$6:N$7,$G45),IF($G45>=N$8,TREND(O$7:O$8,N$7:N$8,$G45),IF($G45>=N$9,TREND(O$8:O$9,N$8:N$9,$G45),IF($G45>=N$10,TREND(O$9:O$10,N$9:N$10,$G45),IF($G45>=N$11,TREND(O$10:O$11,N$10:N$11,$G45),0)))))} -> 1 | S45: {=IF($G45>=S$7,TREND(T$6:T$7,S$6:S$7,$G45),IF($G45>=S$8,TREND(T$7:T$8,S$7:S$8,$G45),IF($G45>=S$9,TREND(T$8:T$9,S$8:S$9,$G45),IF($G45>=S$10,TREND(T$9:T$10,S$9:S$10,$G45),IF($G45>=S$11,TREND(T$10:T$11,S$10:S$11,$G45),0)))))} -> 1 | X45: {=IF($G45>=X$7,TREND(Y$6:Y$7,X$6:X$7,$G45),IF($G45>=X$8,TREND(Y$7:Y$8,X$7:X$8,$G45),IF($G45>=X$9,TREND(Y$8:Y$9,X$8:X$9,$G45),IF($G45>=X$10,TREND(Y$9:Y$10,X$9:X$10,$G45),IF($G45>=X$11,TREND(Y$10:Y$11,X$10:X$11,$G45),0)))))} -> 0 | AJ45: =AJ44+1 -> 46482 | AK45: =_xlfn.XLOOKUP(AJ45,A$27:A$36,B$27:B$36,0,0) -> 0 | AL45: =_xlfn.XLOOKUP(AJ45,A$15:A$24,B$15:B$24,1,0) -> 1 | AM45: =_xlfn.XLOOKUP(AJ45,A$27:A$36,B$27:B$36,0,-1) -> 0 | AN45: =AK45 -> 0 | AO45: =IF(AL45=1,AO46,AL45) -> 0.85
A46: =(IFERROR((I46*$H$3/$I$4),0)+IFERROR((N46*$M$3/$N$4),0)+IFERROR((S46*$R$3/$S$4),0)+IFERROR((X46*$W$3/$X$4),0))/($D$5/1000) -> 1 | G46: 0.05 | I46: {=IF($G46>=I$7,TREND(J$6:J$7,I$6:I$7,$G46),IF($G46>=I$8,TREND(J$7:J$8,I$7:I$8,$G46),IF($G46>=I$9,TREND(J$8:J$9,I$8:I$9,$G46),IF($G46>=I$10,TREND(J$9:J$10,I$9:I$10,$G46),IF($G46>=I$11,TREND(J$10:J$11,I$10:I$11,$G46),0)))))} -> 1 | N46: {=IF($G46>=N$7,TREND(O$6:O$7,N$6:N$7,$G46),IF($G46>=N$8,TREND(O$7:O$8,N$7:N$8,$G46),IF($G46>=N$9,TREND(O$8:O$9,N$8:N$9,$G46),IF($G46>=N$10,TREND(O$9:O$10,N$9:N$10,$G46),IF($G46>=N$11,TREND(O$10:O$11,N$10:N$11,$G46),0)))))} -> 1 | S46: {=IF($G46>=S$7,TREND(T$6:T$7,S$6:S$7,$G46),IF($G46>=S$8,TREND(T$7:T$8,S$7:S$8,$G46),IF($G46>=S$9,TREND(T$8:T$9,S$8:S$9,$G46),IF($G46>=S$10,TREND(T$9:T$10,S$9:S$10,$G46),IF($G46>=S$11,TREND(T$10:T$11,S$10:S$11,$G46),0)))))} -> 1 | X46: {=IF($G46>=X$7,TREND(Y$6:Y$7,X$6:X$7,$G46),IF($G46>=X$8,TREND(Y$7:Y$8,X$7:X$8,$G46),IF($G46>=X$9,TREND(Y$8:Y$9,X$8:X$9,$G46),IF($G46>=X$10,TREND(Y$9:Y$10,X$9:X$10,$G46),IF($G46>=X$11,TREND(Y$10:Y$11,X$10:X$11,$G46),0)))))} -> 0 | AJ46: =AJ45+1 -> 46483 | AK46: =_xlfn.XLOOKUP(AJ46,A$27:A$36,B$27:B$36,0,0) -> 0 | AL46: =_xlfn.XLOOKUP(AJ46,A$15:A$24,B$15:B$24,1,0) -> 1 | AM46: =_xlfn.XLOOKUP(AJ46,A$27:A$36,B$27:B$36,0,-1) -> 0 | AN46: =AK46 -> 0 | AO46: =IF(AL46=1,AO47,AL46) -> 0.85
...

Sheet Serene_A_W
A1: Agregation | G1: Daily capacities - basic offer : | K1: Withdrawal
