Workbook
Name liste_produits: "'Liste produits'!$A$3:$A$8"
Name Mercure_Addin_Mark_0c2de7ab_6013_4fe3_a6b9_4e42e028fde5: Saline_I!#REF!
Name Mercure_Addin_Mark_0c2de7ab_6013_4fe3_a6b9_4e42e028fde5: Saline_W!#REF!
Name Mercure_Addin_Mark_2f3e0e57_3fd8_4fe6_ac89_49f4b132f0cb: Sediane_I!#REF!
Name Mercure_Addin_Mark_2f3e0e57_3fd8_4fe6_ac89_49f4b132f0cb: Sediane_W!#REF!
Name Mercure_Addin_Mark_5511f7e8_6642_49c7_a320_49cbe7925b05: Serene_A_I!#REF!
Name Mercure_Addin_Mark_5511f7e8_6642_49c7_a320_49cbe7925b05: Serene_A_W!#REF!
Name Mercure_Addin_Mark_5511f7e8_6642_49c7_a320_49cbe7925b05: Serene_N_I!#REF!
Name Mercure_Addin_Mark_5511f7e8_6642_49c7_a320_49cbe7925b05: Serene_N_W!#REF!

Sheet Notice
A1: Date de publication : | B1: 29 October 2026
A2: Publication date:
B4: Ce support est fourni par Storengy et NaTran // This support is provided by Storengy and NaTran.
B6: Les données qu'il contient ne sont pas destinées à être mises à jour en même temps que les programmes de maintenance de NaTran (PTC) et de Storengy.
B7: The data it contains is not intended to be updated as NaTran's PTC and Storengy's maintenance program are updated.
B9: Ces données n'ont pas de valeur contractuelle // These data are not contractual data.
B11: Complément - Version FR | M11: Additional Information - ENG

Sheet DATA >>

Sheet Base Produits
A1: Produits FR | C1: Injection | F1: Soutirage | J1: Produits Portes | L1: Max | N1: Produits Portes | P1: Min | R1: Injection | S1: Duration nomin | T1: Duration réelle | V1: Soutirage | W1: Duration nomin | X1: Duration réelle
A2: Serene Atl 19 | B2: 1 | C2: 1 | D2: 0.78 | E2: Serene Atl 19 | F2: 1 | G2: 1 | H2: 1 | J2: Serene Atl 19 | K2: 92 | L2: 0.4 | N2: Serene Atl 19 | O2: 306 | P2: 0.9 | R2: Serene Atl 19 | S2: 135 | T2: 151 | V2: Serene Atl 19 | W2: 80 | X2: 136
A3: Serene Atl 19 | B3: 2 | C3: 0.75 | D3: 0.8 | E3: Serene Atl 19 | F3: 2 | G3: 0.55 | H3: 0.8 | J3: Serene Atl 19 | K3: 91 | L3: 0.4 | N3: Serene Atl 20 | O3: 306 | P3: 0.9 | R3: Serene Atl 20 | S3: 135 | T3: 151 | V3: Serene Atl 20 | W3: 80 | X3: 138
A4: Serene Atl 19 | B4: 3 | C4: 0.65 | D4: 0.85 | E4: Serene Atl 19 | F4: 3 | G4: 0.1 | H4: 0.35 | J4: Serene Atl 20 | K4: 92 | L4: 0.4 | N4: Serene Atl 21 | O4: 275 | P4: 0.9 | R4: Serene Atl 21 | S4: 115 | T4: 129 | V4: Serene Atl 21 | W4: 85 | X4: 164
A5: Serene Atl 19 | B5: 4 | C5: 0.3 | D5: 1 | E5: Serene Atl 19 | F5: 4 | G5: 0 | H5: 0.2 | J5: Serene Atl 20 | K5: 91 | L5: 0.4 | N5: Serene Atl 21 | O5: 306 | P5: 0.85 | R5: Serene Atl 22 | S5: 120 | T5: 128 | V5: Serene Atl 22 | W5: 70 | X5: 160
A6: Serene Atl 19 | B6: 5 | C6: 0 | D6: 1 | E6: Serene Atl 20 | F6: 1 | G6: 1 | H6: 1 | J6: Serene Atl 21 | K6: 92 | L6: 0.4 | N6: Serene Atl 22 | O6: 275 | P6: 0.9 | R6: Serene Atl 23 Plus | S6: 120 | T6: 128 | V6: Serene Atl 22 Plus | W6: 70 | X6: 160
A7: Serene Atl 20 | B7: 1 | C7: 1 | D7: 0.78 | E7: Serene Atl 20 | F7: 2 | G7: 0.8 | H7: 0.9 | J7: Serene Atl 21 | K7: 214 | L7: 0.85 | N7: Serene Atl 22 | O7: 306 | P7: 0.85 | R7: Serene N 19 | S7: 135 | T7: 151 | V7: Serene N 19 | W7: 85 | X7: 136
A8: Serene Atl 20 | B8: 2 | C8: 0.75 | D8: 0.8 | E8: Serene Atl 20 | F8: 3 | G8: 0.55 | H8: 0.75 | J8: Serene Atl 21 | K8: 245 | L8: 0.95 | N8: Serene N 19 | O8: 306 | P8: 0.9 | R8: Serene N 20 | S8: 135 | T8: 151 | V8: Serene N 20 | W8: 85 | X8: 149
A9: Serene Atl 20 | B9: 3 | C9: 0.65 | D9: 0.85 | E9: Serene Atl 20 | F9: 4 | G9: 0.15 | H9: 0.42 | J9: Serene Atl 21 | K9: 91 | L9: 0.35 | N9: Serene N 20 | O9: 306 | P9: 0.9 | R9: Serene N 21 | S9: 115 | T9: 129 | V9: Serene N 21 | W9: 85 | X9: 165
A10: Serene Atl 20 | B10: 4 | C10: 0.3 | D10: 1 | E10: Serene Atl 20 | F10: 5 | G10: 0 | H10: 0.2 | J10: Serene Atl 22 | K10: 92 | L10: 0.35 | N10: Serene N 21 | O10: 275 | P10: 0.9 | R10: Serene N 22 | S10: 120 | T10: 128 | V10: Serene N 22 | W10: 85 | X10: 158
A11: Serene Atl 20 | B11: 5 | C11: 0 | D11: 1 | E11: Serene Atl 21 | F11: 1 | G11: 1 | H11: 1 | J11: Serene Atl 22 | K11: 214 | L11: 0.85 | N11: Serene N 21 | O11: 306 | P11: 0.85 | R11: Saline 21 | S11: 125 | T11: 180 | V11: Saline 21 | W11: 17 | X11: 23
A12: Serene Atl 21 | B12: 1 | C12: 1 | D12: 0.78 | E12: Serene Atl 21 | F12: 2 | G12: 0.85 | H12: 0.85 | J12: Serene Atl 22 | K12: 245 | L12: 0.95 | N12: Serene N 22 | O12: 275 | P12: 0.9 | R12: Saline 22 | S12: 125 | T12: 180 | V12: Saline 22 | W12: 18 | X12: 26
A13: Serene Atl 21 | B13: 2 | C13: 0.75 | D13: 0.8 | E13: Serene Atl 21 | F13: 3 | G13: 0.29 | H13: 0.54 | J13: Serene Atl 22 | K13: 91 | L13: 0.35 | N13: Serene N 22 | O13: 306 | P13: 0.85 | R13: Sediane N 20 | S13: 85 | T13: 101 | V13: Sediane N 20 | W13: 44 | X13: 69
... A35: Serene N 21 | B35: 1 | C35: 1 | D35: 0.78 | E35: Serene N 21 | F35: 5 | G35: 0 | H35: 0.29 | J35: Sediane N 21 | K35: 92 | L35: 0.4 | N35: Serene Atl 24 | O35: 274 | P35: 0.9 | R35: Sediane 27 | S35: 90 | T35: 122 | V35: Sediane 27 | W35: 61 | X35: 76
A36: Serene N 21 | B36: 2 | C36: 0.75 | D36: 0.8 | E36: Serene N 22 | F36: 1 | G36: 1 | H36: 1 | J36: Sediane N 21 | K36: 153 | L36: 0.65 | N36: Serene Atl 24 | O36: 305 | P36: 0.85
A37: Serene N 21 | B37: 3 | C37: 0.65 | D37: 0.85 | E37: Serene N 22 | F37: 2 | G37: 0.54 | H37: 0.75 | J37: Sediane N 21 | K37: 214 | L37: 0.9 | N37: Serene N 24 | O37: 274 | P37: 0.9
A38: Serene N 21 | B38: 4 | C38: 0.3 | D38: 1 | E38: Serene N 22 | F38: 3 | G38: 0.35 | H38: 0.52 | J38: Sediane N 21 | K38: 245 | L38: 0.95 | N38: Serene N 24 | O38: 305 | P38: 0.85
A39: Serene N 21 | B39: 5 | C39: 0 | D39: 1 | E39: Serene N 22 | F39: 4 | G39: 0.11 | H39: 0.2 | J39: Sediane N 21 | K39: 91 | L39: 0.4 | N39: Saline 24 | O39: 305 | P39: 0.85
A40: Serene N 22 | B40: 1 | C40: 1 | D40: 0.7 | E40: Serene N 22 | F40: 5 | G40: 0 | H40: 0.21 | J40: Sediane N 22 | K40: 92 | L40: 0.4 | N40: Sediane N 24 | O40: 152 | P40: 0.2
A41: Serene N 22 | B41: 2 | C41: 0.85 | D41: 0.8 | E41: Saline 21 | F41: 1 | G41: 1 | H41: 1 | J41: Sediane N 22 | K41: 153 | L41: 0.65 | N41: Sediane N 24 | O41: 213 | P41: 0.5
A42: Serene N 22 | B42: 3 | C42: 0.75 | D42: 1 | E42: Saline 21 | F42: 2 | G42: 0.45 | H42: 1 | J42: Sediane N 22 | K42: 214 | L42: 0.9 | N42: Sediane N 24 | O42: 305 | P42: 0.85
A43: Serene N 22 | B43: 4 | C43: 0 | D43: 1 | E43: Saline 21 | F43: 3 | G43: 0.15 | H43: 0.7 | J43: Sediane N 22 | K43: 245 | L43: 0.95 | N43: Serene Atl 25 | O43: 274 | P43: 0.9
A44: Saline 21 | B44: 1 | C44: 1 | D44: 0.25 | E44: Saline 21 | F44: 4 | G44: 0 | H44: 0.1 | J44: Sediane N 22 | K44: 91 | L44: 0.4 | N44: Serene Atl 25 | O44: 305 | P44: 0.85
A45: Saline 21 | B45: 2 | C45: 0.9 | D45: 0.55 | E45: Saline 22 | F45: 1 | G45: 1 | H45: 1 | J45: Serene Atl 23 | K45: 92 | L45: 0.35 | N45: Serene N 25 | O45: 274 | P45: 0.9
A46: Saline 21 | B46: 3 | C46: 0.45 | D46: 0.8 | E46: Saline 22 | F46: 2 | G46: 0.4 | H46: 1 | J46: Serene Atl 23 | K46: 213 | L46: 0.85 | N46: Serene N 25 | O46: 305 | P46: 0.85
A47: Saline 21 | B47: 4 | C47: 0 | D47: 1 | E47: Saline 22 | F47: 3 | G47: 0.2 | H47: 0.7 | J47: Serene Atl 23 | K47: 244 | L47: 0.95 | N47: Saline 25 | O47: 305 | P47: 0.85
... A66: Serene N 23 | B66: 2 | C66: 0.85 | D66: 0.8 | E66: Serene N 23 | F66: 2 | G66: 0.54 | H66: 0.75 | J66: Sediane N 24 | K66: 92 | L66: 0.4 | N66: Serene N 27 | O66: 305 | P66: 0.85
A67: Serene N 23 | B67: 3 | C67: 0.75 | D67: 1 | E67: Serene N 23 | F67: 3 | G67: 0.35 | H67: 0.52 | J67: Sediane N 24 | K67: 152 | L67: 0.65
A68: Serene N 23 | B68: 4 | C68: 0 | D68: 1 | E68: Serene N 23 | F68: 4 | G68: 0.11 | H68: 0.3 | J68: Sediane N 24 | K68: 213 | L68: 0.9
A69: Saline 23 | B69: 1 | C69: 1 | D69: 0.25 | E69: Serene N 23 | F69: 5 | G69: 0 | H69: 0.21 | J69: Sediane N 24 | K69: 244 | L69: 0.95
A70: Saline 23 | B70: 2 | C70: 0.95 | D70: 0.3 | E70: Saline 23 | F70: 1 | G70: 1 | H70: 1 | J70: Sediane N 24 | K70: 91 | L70: 0.4
A71: Saline 23 | B71: 3 | C71: 0.9 | D71: 0.55 | E71: Saline 23 | F71: 2 | G71: 0.4 | H71: 1 | J71: Serene Atl 25 | K71: 92 | L71: 0.35
A72: Saline 23 | B72: 4 | C72: 0.45 | D72: 0.85 | E72: Saline 23 | F72: 3 | G72: 0.2 | H72: 0.7 | J72: Serene Atl 25 | K72: 213 | L72: 0.85
A73: Saline 23 | B73: 5 | C73: 0 | D73: 1 | E73: Saline 23 | F73: 4 | G73: 0 | H73: 0.1 | J73: Serene Atl 25 | K73: 244 | L73: 0.95
A74: Sediane N 23 | B74: 1 | C74: 1 | D74: 0.35 | E74: Sediane N 23 | F74: 1 | G74: 1 | H74: 1 | J74: Serene Atl 25 | K74: 91 | L74: 0.35
A75: Sediane N 23 | B75: 2 | C75: 0.7 | D75: 0.75 | E75: Sediane N 23 | F75: 2 | G75: 0.8 | H75: 0.95 | J75: Serene N 25 | K75: 92 | L75: 0.35
A76: Sediane N 23 | B76: 3 | C76: 0.4 | D76: 1 | E76: Sediane N 23 | F76: 3 | G76: 0.3 | H76: 0.73 | J76: Serene N 25 | K76: 213 | L76: 0.85
A77: Sediane N 23 | B77: 4 | C77: 0 | D77: 1 | E77: Sediane N 23 | F77: 4 | G77: 0 | H77: 0.6 | J77: Serene N 25 | K77: 244 | L77: 0.95
A78: Saline 24 | B78: 1 | C78: 1 | D78: 0.25 | E78: Saline 24 | F78: 1 | G78: 1 | H78: 1 | J78: Serene N 25 | K78: 91 | L78: 0.35
... A109: Serene N 25 | B109: 2 | C109: 0.85 | D109: 0.8 | E109: Serene N 25 | F109: 2 | G109: 0.54 | H109: 0.75 | J109: Sediane 27 | K109: 91 | L109: 0.4
A110: Serene N 25 | B110: 3 | C110: 0.75 | D110: 1 | E110: Serene N 25 | F110: 3 | G110: 0.35 | H110: 0.52
A111: Serene N 25 | B111: 4 | C111: 0 | D111: 1 | E111: Serene N 25 | F111: 4 | G111: 0.11 | H111: 0.3
A112: Saline 26 | B112: 1 | C112: 1 | D112: 0.25 | E112: Serene N 25 | F112: 5 | G112: 0 | H112: 0.21
A113: Saline 26 | B113: 2 | C113: 0.95 | D113: 0.3 | E113: Saline 26 | F113: 1 | G113: 1 | H113: 1
A114: Saline 26 | B114: 3 | C114: 0.9 | D114: 0.55 | E114: Saline 26 | F114: 2 | G114: 0.4 | H114: 1
A115: Saline 26 | B115: 4 | C115: 0.45 | D115: 0.85 | E115: Saline 26 | F115: 3 | G115: 0.2 | H115: 0.7
A116: Saline 26 | B116: 5 | C116: 0 | D116: 1 | E116: Saline 26 | F116: 4 | G116: 0 | H116: 0.1
A117: Sediane N 26 | B117: 1 | C117: 1 | D117: 0.35 | E117: Sediane N 26 | F117: 1 | G117: 1 | H117: 1
A118: Sediane N 26 | B118: 2 | C118: 0.75 | D118: 0.75 | E118: Sediane N 26 | F118: 2 | G118: 0.78 | H118: 0.93
A119: Sediane N 26 | B119: 3 | C119: 0.57 | D119: 1 | E119: Sediane N 26 | F119: 3 | G119: 0.1 | H119: 0.62
A120: Sediane N 26 | B120: 4 | C120: 0 | D120: 1 | E120: Sediane N 26 | F120: 4 | G120: 0 | H120: 0.4
A121: Serene Atl 26 | B121: 1 | C121: 1 | D121: 0.8 | E121: Serene Atl 26 | F121: 1 | G121: 1 | H121: 1
... A145: Serene N 27 | B145: 4 | C145: 0 | D145: 1 | E145: Serene N 27 | F145: 3 | G145: 0.2 | H145: 0.5
E146: Serene N 27 | F146: 4 | G146: 0 | H146: 0.45

Sheet PT Storengy
A1: Les pourcentages indiqués sont les pourcentages de réduction appliqués sur la capacité journalière concernée. | H1: Version : | I1: 0
A2: Indicated percentages are reduction percentages applying to the daily capacity. | H2: Date de publication : | I2: 46304
A5: Date | B5: SALINE | D5: SEDIANE | F5: ATLANTIQUE | H5: SERENE NORD
B7: % Inject. | C7: % Withdr. | D7: % Inject. | E7: % Withdr. | F7: % Inject. | G7: % Withdr. | H7: % Inject. | I7: % Withdr.
A8: 46478 | B8: 0 | C8: 0.35 | D8: 0.45 | E8: 0.4 | F8: 0.35 | G8: 0.3 | H8: 0.55 | I8: 0.8
A9: 46479 | B9: 0 | C9: 0.35 | D9: 0.45 | E9: 0.4 | F9: 0.35 | G9: 0.3 | H9: 0.55 | I9: 0.8
A10: 46480 | B10: 0 | C10: 0.35 | D10: 0.45 | E10: 0.4 | F10: 0.35 | G10: 0.3 | H10: 0 | I10: 0.8
A11: 46481 | B11: 0 | C11: 0.35 | D11: 0.45 | E11: 0.4 | F11: 0.35 | G11: 0.3 | H11: 0 | I11: 0.8
A12: 46482 | B12: 0.1 | C12: 0.35 | D12: 0.45 | E12: 0.4 | F12: 0.35 | G12: 0.65 | H12: 0.5 | I12: 0.8
A13: 46483 | B13: 0.1 | C13: 0.35 | D13: 0.45 | E13: 0.4 | F13: 0.35 | G13: 0.65 | H13: 0.5 | I13: 0.8
A14: 46484 | B14: 0.1 | C14: 0.35 | D14: 0.45 | E14: 0.4 | F14: 0.35 | G14: 0.65 | H14: 0.5 | I14: 0.8
A15: 46485 | B15: 0.1 | C15: 0.35 | D15: 0.45 | E15: 0.4 | F15: 0.35 | G15: 0.65 | H15: 0.5 | I15: 0.8
A16: 46486 | B16: 0.1 | C16: 0.35 | D16: 0.45 | E16: 0.4 | F16: 0.35 | G16: 0.65 | H16: 0.5 | I16: 0.8
A17: 46487 | B17: 0.1 | C17: 0.35 | D17: 0.45 | E17: 0.4 | F17: 0.35 | G17: 0.65 | H17: 0.5 | I17: 0.8
A18: 46488 | B18: 0.1 | C18: 0.35 | D18: 0.45 | E18: 0.4 | F18: 0.35 | G18: 0.65 | H18: 0.5 | I18: 0.8
A19: 46489 | B19: 0.1 | C19: 0.35 | D19: 0.45 | E19: 0.4 | F19: 0.35 | G19: 0.65 | H19: 0.5 | I19: 0.8
... A373: 46843 | B373: 0.3 | C373: 0 | D373: 0 | E373: 0 | F373: 0.5 | G373: 0 | H373: 0 | I373: 0

Sheet PTC NaTran
A1: Programme Travaux Prévisionnel / Provisional Maintenance Schedule : PT_PREVISIONNEL-pub-csv_pt_previsionnel_v1-b1d89c6f-2a4d-48c8-ae5a-71cc282074df
A2: Réseau / Network : NaTran
A3: Période / Period : 01/01/2027 06:00 - 01/01/2028 06:00
A4: Date de mise à jour / Last update : 16/10/2026 18:12:46
A6: PCR / Service Point | B6: Libellé / Label | C6: Sens / Direction | D6: Journée Gazière / Gasday | E6: TRf Max | F6: TRf Probable | G6: TRf Max Nominal | H6: TRf Probable Nominal | I6: CPRTi | J6: CMNTt | K6: CPRTt | L6: ∑COSf | M6: ∑COSi | N6: ∑COSi A | O6: ∑COSi T | P6: ∑COSi M | Q6: ∑COSi Q | R6: CTNf | S6: Travaux Petits Impacts / Low Impacts Maintenance | T6: Date et Heure de Mise à jour / Update date and time
A7: BH0001 | B7: CONVERSION B VERS H | C7: REC | D7: 46388 | E7: 0 | F7: 0 | G7: 0 | H7: 0 | R7: 0 | S7: N | T7: 46311.754
A8: BH0001 | B8: CONVERSION B VERS H | C8: REC | D8: 46389 | E8: 0 | F8: 0 | G8: 0 | H8: 0 | R8: 0 | S8: N | T8: 46311.754
A9: BH0001 | B9: CONVERSION B VERS H | C9: REC | D9: 46390 | E9: 0 | F9: 0 | G9: 0 | H9: 0 | R9: 0 | S9: N | T9: 46311.754
A10: BH0001 | B10: CONVERSION B VERS H | C10: REC | D10: 46391 | E10: 0 | F10: 0 | G10: 0 | H10: 0 | R10: 0 | S10: N | T10: 46311.754
A11: BH0001 | B11: CONVERSION B VERS H | C11: REC | D11: 46392 | E11: 0 | F11: 0 | G11: 0 | H11: 0 | R11: 0 | S11: N | T11: 46311.754
A12: BH0001 | B12: CONVERSION B VERS H | C12: REC | D12: 46393 | E12: 0 | F12: 0 | G12: 0 | H12: 0 | R12: 0 | S12: N | T12: 46311.754
A13: BH0001 | B13: CONVERSION B VERS H | C13: REC | D13: 46394 | E13: 0 | F13: 0 | G13: 0 | H13: 0 | R13: 0 | S13: N | T13: 46311.754
A14: BH0001 | B14: CONVERSION B VERS H | C14: REC | D14: 46395 | E14: 0 | F14: 0 | G14: 0 | H14: 0 | R14: 0 | S14: N | T14: 46311.754
A15: BH0001 | B15: CONVERSION B VERS H | C15: REC | D15: 46396 | E15: 0 | F15: 0 | G15: 0 | H15: 0 | R15: 0 | S15: N | T15: 46311.754
A16: BH0001 | B16: CONVERSION B VERS H | C16: REC | D16: 46397 | E16: 0 | F16: 0 | G16: 0 | H16: 0 | R16: 0 | S16: N | T16: 46311.754
A17: BH0001 | B17: CONVERSION B VERS H | C17: REC | D17: 46398 | E17: 0 | F17: 0 | G17: 0 | H17: 0 | R17: 0 | S17: N | T17: 46311.754
A18: BH0001 | B18: CONVERSION B VERS H | C18: REC | D18: 46399 | E18: 0 | F18: 0 | G18: 0 | H18: 0 | R18: 0 | S18: N | T18: 46311.754
... A736: HB0002 | B736: CONVERSION H VERS B POINTE | C736: DEL | D736: 46752 | E736: 0 | F736: 0 | G736: 0 | H736: 0 | R736: 0 | S736: N | T736: 46311.754
A737: IR0006 | B737: DUNKERQUE | C737: REC | D737: 46388 | E737: 0 | F737: 0 | G737: 0 | H737: 0 | L737: 280.164 | R737: 568.52184 | S737: N | T737: 46311.754
A738: IR0006 | B738: DUNKERQUE | C738: REC | D738: 46389 | E738: 0 | F738: 0 | G738: 0 | H738: 0 | L738: 280.164 | R738: 568.52184 | S738: N | T738: 46311.754
A739: IR0006 | B739: DUNKERQUE | C739: REC | D739: 46390 | E739: 0 | F739: 0 | G739: 0 | H739: 0 | L739: 280.164 | R739: 568.52184 | S739: N | T739: 46311.754
A740: IR0006 | B740: DUNKERQUE | C740: REC | D740: 46391 | E740: 0 | F740: 0 | G740: 0 | H740: 0 | L740: 280.164 | R740: 568.52184 | S740: N | T740: 46311.754
A741: IR0006 | B741: DUNKERQUE | C741: REC | D741: 46392 | E741: 0 | F741: 0 | G741: 0 | H741: 0 | L741: 280.164 | R741: 568.52184 | S741: N | T741: 46311.754
A742: IR0006 | B742: DUNKERQUE | C742: REC | D742: 46393 | E742: 0 | F742: 0 | G742: 0 | H742: 0 | L742: 280.164 | R742: 568.52184 | S742: N | T742: 46311.754
A743: IR0006 | B743: DUNKERQUE | C743: REC | D743: 46394 | E743: 0 | F743: 0 | G743: 0 | H743: 0 | L743: 280.164 | R743: 568.52184 | S743: N | T743: 46311.754
A744: IR0006 | B744: DUNKERQUE | C744: REC | D744: 46395 | E744: 0 | F744: 0 | G744: 0 | H744: 0 | L744: 280.164 | R744: 568.52184 | S744: N | T744: 46311.754
A745: IR0006 | B745: DUNKERQUE | C745: REC | D745: 46396 | E745: 0 | F745: 0 | G745: 0 | H745: 0 | L745: 280.164 | R745: 568.52184 | S745: N | T745: 46311.754
A746: IR0006 | B746: DUNKERQUE | C746: REC | D746: 46397 | E746: 0 | F746: 0 | G746: 0 | H746: 0 | L746: 280.164 | R746: 568.52184 | S746: N | T746: 46311.754
A747: IR0006 | B747: DUNKERQUE | C747: REC | D747: 46398 | E747: 0 | F747: 0 | G747: 0 | H747: 0 | L747: 280.164 | R747: 568.52184 | S747: N | T747: 46311.754
A748: IR0006 | B748: DUNKERQUE | C748: REC | D748: 46399 | E748: 0 | F748: 0 | G748: 0 | H748: 0 | L748: 280.164 | R748: 568.52184 | S748: N | T748: 46311.754
... A895: IR0006 | B895: DUNKERQUE | C895: REC | D895: 46546 | E895: 0 | F895: 0 | G895: 0 | H895: 0 | L895: 280.164 | R895: 568.52184 | S895: N | T895: 46311.754
A896: IR0006 | B896: DUNKERQUE | C896: REC | D896: 46547 | E896: 0 | F896: 0 | G896: 0.16 | H896: 0.16 | J896: 480 | K896: 480 | L896: 280.164 | R896: 568.52184 | S896: N | T896: 46311.754
A897: IR0006 | B897: DUNKERQUE | C897: REC | D897: 46548 | E897: 0 | F897: 0 | G897: 0 | H897: 0 | L897: 280.164 | R897: 568.52184 | S897: N | T897: 46311.754
A898: IR0006 | B898: DUNKERQUE | C898: REC | D898: 46549 | E898: 0 | F898: 0 | G898: 0 | H898: 0 | L898: 280.164 | R898: 568.52184 | S898: N | T898: 46311.754
A899: IR0006 | B899: DUNKERQUE | C899: REC | D899: 46550 | E899: 0 | F899: 0 | G899: 0 | H899: 0 | L899: 280.164 | R899: 568.52184 | S899: N | T899: 46311.754
A900: IR0006 | B900: DUNKERQUE | C900: REC | D900: 46551 | E900: 0 | F900: 0 | G900: 0 | H900: 0 | L900: 280.164 | R900: 568.52184 | S900: N | T900: 46311.754
A901: IR0006 | B901: DUNKERQUE | C901: REC | D901: 46552 | E901: 0 | F901: 0 | G901: 0 | H901: 0 | L901: 280.164 | R901: 568.52184 | S901: N | T901: 46311.754
A902: IR0006 | B902: DUNKERQUE | C902: REC | D902: 46553 | E902: 0 | F902: 0 | G902: 0 | H902: 0 | L902: 280.164 | R902: 568.52184 | S902: N | T902: 46311.754
A903: IR0006 | B903: DUNKERQUE | C903: REC | D903: 46554 | E903: 0 | F903: 0 | G903: 0 | H903: 0 | L903: 280.164 | R903: 568.52184 | S903: N | T903: 46311.754
A904: IR0006 | B904: DUNKERQUE | C904: REC | D904: 46555 | E904: 0 | F904: 0 | G904: 0 | H904: 0 | L904: 280.164 | R904: 568.52184 | S904: N | T904: 46311.754
A905: IR0006 | B905: DUNKERQUE | C905: REC | D905: 46556 | E905: 0 | F905: 0 | G905: 0 | H905: 0 | L905: 280.164 | R905: 568.52184 | S905: N | T905: 46311.754
A906: IR0006 | B906: DUNKERQUE | C906: REC | D906: 46557 | E906: 0 | F906: 0 | G906: 0 | H906: 0 | L906: 280.164 | R906: 568.52184 | S906: N | T906: 46311.754
A907: IR0006 | B907: DUNKERQUE | C907: REC | D907: 46558 | E907: 0 | F907: 0 | G907: 0 | H907: 0 | L907: 280.164 | R907: 568.52184 | S907: N | T907: 46311.754
A908: IR0006 | B908: DUNKERQUE | C908: REC | D908: 46559 | E908: 0 | F908: 0 | G908: 0 | H908: 0 | L908: 280.164 | R908: 568.52184 | S908: N | T908: 46311.754
... A980: IR0006 | B980: DUNKERQUE | C980: REC | D980: 46631 | E980: 0 | F980: 0 | G980: 0 | H980: 0 | L980: 280.164 | R980: 568.52184 | S980: N | T980: 46311.754
A981: IR0006 | B981: DUNKERQUE | C981: REC | D981: 46632 | E981: 1 | F981: 1 | G981: 1 | H981: 1 | J981: 0 | K981: 0 | L981: 280.164 | R981: 568.52184 | S981: N | T981: 46311.754
A982: IR0006 | B982: DUNKERQUE | C982: REC | D982: 46633 | E982: 0.82 | F982: 0.41 | G982: 0.91 | H982: 0.71 | J982: 50 | K982: 165 | L982: 280.164 | R982: 568.52184 | S982: N | T982: 46311.754
A983: IR0006 | B983: DUNKERQUE | C983: REC | D983: 46634 | E983: 0 | F983: 0 | G983: 0 | H983: 0 | L983: 280.164 | R983: 568.52184 | S983: N | T983: 46311.754
A984: IR0006 | B984: DUNKERQUE | C984: REC | D984: 46635 | E984: 0 | F984: 0 | G984: 0 | H984: 0 | L984: 280.164 | R984: 568.52184 | S984: N | T984: 46311.754
A985: IR0006 | B985: DUNKERQUE | C985: REC | D985: 46636 | E985: 0 | F985: 0 | G985: 0.35 | H985: 0.34 | J985: 370 | K985: 375 | L985: 280.164 | R985: 568.52184 | S985: N | T985: 46311.754
A986: IR0006 | B986: DUNKERQUE | C986: REC | D986: 46637 | E986: 0 | F986: 0 | G986: 0.35 | H986: 0.34 | J986: 370 | K986: 375 | L986: 280.164 | R986: 568.52184 | S986: N | T986: 46311.754
A987: IR0006 | B987: DUNKERQUE | C987: REC | D987: 46638 | E987: 0 | F987: 0 | G987: 0.35 | H987: 0.34 | J987: 370 | K987: 375 | L987: 280.164 | R987: 568.52184 | S987: N | T987: 46311.754
A988: IR0006 | B988: DUNKERQUE | C988: REC | D988: 46639 | E988: 0 | F988: 0 | G988: 0 | H988: 0 | L988: 280.164 | R988: 568.52184 | S988: N | T988: 46311.754
A989: IR0006 | B989: DUNKERQUE | C989: REC | D989: 46640 | E989: 0 | F989: 0 | G989: 0 | H989: 0 | L989: 280.164 | R989: 568.52184 | S989: N | T989: 46311.754
A990: IR0006 | B990: DUNKERQUE | C990: REC | D990: 46641 | E990: 0 | F990: 0 | G990: 0 | H990: 0 | L990: 280.164 | R990: 568.52184 | S990: N | T990: 46311.754
A991: IR0006 | B991: DUNKERQUE | C991: REC | D991: 46642 | E991: 0 | F991: 0 | G991: 0 | H991: 0 | L991: 280.164 | R991: 568.52184 | S991: N | T991: 46311.754
A992: IR0006 | B992: DUNKERQUE | C992: REC | D992: 46643 | E992: 0 | F992: 0 | G992: 0 | H992: 0 | L992: 280.164 | R992: 568.52184 | S992: N | T992: 46311.754
A993: IR0006 | B993: DUNKERQUE | C993: REC | D993: 46644 | E993: 0 | F993: 0 | G993: 0 | H993: 0 | L993: 280.164 | R993: 568.52184 | S993: N | T993: 46311.754
A994: IR0006 | B994: DUNKERQUE | C994: REC | D994: 46645 | E994: 0 | F994: 0 | G994: 0 | H994: 0 | L994: 280.164 | R994: 568.52184 | S994: N | T994: 46311.754
A995: IR0006 | B995: DUNKERQUE | C995: REC | D995: 46646 | E995: 0 | F995: 0 | G995: 0 | H995: 0 | L995: 280.164 | R995: 568.52184 | S995: N | T995: 46311.754
A996: IR0006 | B996: DUNKERQUE | C996: REC | D996: 46647 | E996: 0 | F996: 0 | G996: 0 | H996: 0 | L996: 280.164 | R996: 568.52184 | S996: N | T996: 46311.754
A997: IR0006 | B997: DUNKERQUE | C997: REC | D997: 46648 | E997: 0 | F997: 0 | G997: 0 | H997: 0 | L997: 280.164 | R997: 568.52184 | S997: N | T997: 46311.754
A998: IR0006 | B998: DUNKERQUE | C998: REC | D998: 46649 | E998: 0 | F998: 0 | G998: 0 | H998: 0 | L998: 280.164 | R998: 568.52184 | S998: N | T998: 46311.754
A999: IR0006 | B999: DUNKERQUE | C999: REC | D999: 46650 | E999: 0 | F999: 0 | G999: 0 | H999: 0 | L999: 280.164 | R999: 568.52184 | S999: N | T999: 46311.754
... A1101: IR0006 | B1101: DUNKERQUE | C1101: REC | D1101: 46752 | E1101: 0 | F1101: 0 | G1101: 0 | H1101: 0 | L1101: 4.8 | R1101: 568.52184 | S1101: N | T1101: 46311.754
A1102: IR0010 | B1102: OBERGAILBACH | C1102: DEL | D1102: 46388 | E1102: 0 | F1102: 0 | G1102: 0 | H1102: 0 | R1102: 179.53321 | S1102: N | T1102: 46311.754
A1103: IR0010 | B1103: OBERGAILBACH | C1103: DEL | D1103: 46389 | E1103: 0 | F1103: 0 | G1103: 0 | H1103: 0 | R1103: 179.53321 | S1103: N | T1103: 46311.754
A1104: IR0010 | B1104: OBERGAILBACH | C1104: DEL | D1104: 46390 | E1104: 0 | F1104: 0 | G1104: 0 | H1104: 0 | R1104: 179.53321 | S1104: N | T1104: 46311.754
A1105: IR0010 | B1105: OBERGAILBACH | C1105: DEL | D1105: 46391 | E1105: 0 | F1105: 0 | G1105: 0 | H1105: 0 | R1105: 179.53321 | S1105: N | T1105: 46311.754
A1106: IR0010 | B1106: OBERGAILBACH | C1106: DEL | D1106: 46392 | E1106: 0 | F1106: 0 | G1106: 0 | H1106: 0 | R1106: 179.53321 | S1106: N | T1106: 46311.754
A1107: IR0010 | B1107: OBERGAILBACH | C1107: DEL | D1107: 46393 | E1107: 0 | F1107: 0 | G1107: 0 | H1107: 0 | R1107: 179.53321 | S1107: N | T1107: 46311.754
A1108: IR0010 | B1108: OBERGAILBACH | C1108: DEL | D1108: 46394 | E1108: 0 | F1108: 0 | G1108: 0 | H1108: 0 | R1108: 179.53321 | S1108: N | T1108: 46311.754
A1109: IR0010 | B1109: OBERGAILBACH | C1109: DEL | D1109: 46395 | E1109: 0 | F1109: 0 | G1109: 0 | H1109: 0 | R1109: 179.53321 | S1109: N | T1109: 46311.754
A1110: IR0010 | B1110: OBERGAILBACH | C1110: DEL | D1110: 46396 | E1110: 0 | F1110: 0 | G1110: 0 | H1110: 0 | R1110: 179.53321 | S1110: N | T1110: 46311.754
A1111: IR0010 | B1111: OBERGAILBACH | C1111: DEL | D1111: 46397 | E1111: 0 | F1111: 0 | G1111: 0 | H1111: 0 | R1111: 179.53321 | S1111: N | T1111: 46311.754
A1112: IR0010 | B1112: OBERGAILBACH | C1112: DEL | D1112: 46398 | E1112: 0 | F1112: 0 | G1112: 0 | H1112: 0 | R1112: 179.53321 | S1112: N | T1112: 46311.754
A1113: IR0010 | B1113: OBERGAILBACH | C1113: DEL | D1113: 46399 | E1113: 0 | F1113: 0 | G1113: 0 | H1113: 0 | R1113: 179.53321 | S1113: N | T1113: 46311.754
... A1466: IR0010 | B1466: OBERGAILBACH | C1466: DEL | D1466: 46752 | E1466: 0 | F1466: 0 | G1466: 0 | H1466: 0 | R1466: 179.53321 | S1466: N | T1466: 46311.754
A1467: IR0010 | B1467: OBERGAILBACH | C1467: REC | D1467: 46388 | E1467: 0 | F1467: 0 | G1467: 0 | H1467: 0 | L1467: 47.875524 | R1467: 618.39218 | S1467: N | T1467: 46311.754
A1468: IR0010 | B1468: OBERGAILBACH | C1468: REC | D1468: 46389 | E1468: 0 | F1468: 0 | G1468: 0 | H1468: 0 | L1468: 47.875524 | R1468: 618.39218 | S1468: N | T1468: 46311.754
A1469: IR0010 | B1469: OBERGAILBACH | C1469: REC | D1469: 46390 | E1469: 0 | F1469: 0 | G1469: 0 | H1469: 0 | L1469: 47.875524 | R1469: 618.39218 | S1469: N | T1469: 46311.754
A1470: IR0010 | B1470: OBERGAILBACH | C1470: REC | D1470: 46391 | E1470: 0 | F1470: 0 | G1470: 0 | H1470: 0 | L1470: 47.875524 | R1470: 618.39218 | S1470: N | T1470: 46311.754
A1471: IR0010 | B1471: OBERGAILBACH | C1471: REC | D1471: 46392 | E1471: 0 | F1471: 0 | G1471: 0 | H1471: 0 | L1471: 47.875524 | R1471: 618.39218 | S1471: N | T1471: 46311.754
A1472: IR0010 | B1472: OBERGAILBACH | C1472: REC | D1472: 46393 | E1472: 0 | F1472: 0 | G1472: 0 | H1472: 0 | L1472: 47.875524 | R1472: 618.39218 | S1472: N | T1472: 46311.754
A1473: IR0010 | B1473: OBERGAILBACH | C1473: REC | D1473: 46394 | E1473: 0 | F1473: 0 | G1473: 0 | H1473: 0 | L1473: 47.875524 | R1473: 618.39218 | S1473: N | T1473: 46311.754
A1474: IR0010 | B1474: OBERGAILBACH | C1474: REC | D1474: 46395 | E1474: 0 | F1474: 0 | G1474: 0 | H1474: 0 | L1474: 47.875524 | R1474: 618.39218 | S1474: N | T1474: 46311.754
A1475: IR0010 | B1475: OBERGAILBACH | C1475: REC | D1475: 46396 | E1475: 0 | F1475: 0 | G1475: 0 | H1475: 0 | L1475: 47.875524 | R1475: 618.39218 | S1475: N | T1475: 46311.754
A1476: IR0010 | B1476: OBERGAILBACH | C1476: REC | D1476: 46397 | E1476: 0 | F1476: 0 | G1476: 0 | H1476: 0 | L1476: 47.875524 | R1476: 618.39218 | S1476: N | T1476: 46311.754
A1477: IR0010 | B1477: OBERGAILBACH | C1477: REC | D1477: 46398 | E1477: 0 | F1477: 0 | G1477: 0 | H1477: 0 | L1477: 47.875524 | R1477: 618.39218 | S1477: N | T1477: 46311.754
A1478: IR0010 | B1478: OBERGAILBACH | C1478: REC | D1478: 46399 | E1478: 0 | F1478: 0 | G1478: 0 | H1478: 0 | L1478: 47.875524 | R1478: 618.39218 | S1478: N | T1478: 46311.754
... A1588: IR0010 | B1588: OBERGAILBACH | C1588: REC | D1588: 46509 | E1588: 0 | F1588: 0 | G1588: 0 | H1588: 0 | L1588: 47.875524 | R1588: 618.39218 | S1588: N | T1588: 46311.754
A1589: IR0010 | B1589: OBERGAILBACH | C1589: REC | D1589: 46510 | E1589: 0 | F1589: 0 | G1589: 0.7 | H1589: 0.68 | J1589: 185 | K1589: 200 | L1589: 47.875524 | R1589: 618.39218 | S1589: N | T1589: 46311.754
A1590: IR0010 | B1590: OBERGAILBACH | C1590: REC | D1590: 46511 | E1590: 0 | F1590: 0 | G1590: 0.7 | H1590: 0.68 | J1590: 185 | K1590: 200 | L1590: 47.875524 | R1590: 618.39218 | S1590: N | T1590: 46311.754
A1591: IR0010 | B1591: OBERGAILBACH | C1591: REC | D1591: 46512 | E1591: 0 | F1591: 0 | G1591: 0.7 | H1591: 0.68 | J1591: 185 | K1591: 200 | L1591: 47.875524 | R1591: 618.39218 | S1591: N | T1591: 46311.754
A1592: IR0010 | B1592: OBERGAILBACH | C1592: REC | D1592: 46513 | E1592: 0 | F1592: 0 | G1592: 0.7 | H1592: 0.68 | J1592: 185 | K1592: 200 | L1592: 47.875524 | R1592: 618.39218 | S1592: N | T1592: 46311.754
A1593: IR0010 | B1593: OBERGAILBACH | C1593: REC | D1593: 46514 | E1593: 0 | F1593: 0 | G1593: 0.7 | H1593: 0.68 | J1593: 185 | K1593: 200 | L1593: 47.875524 | R1593: 618.39218 | S1593: N | T1593: 46311.754
A1594: IR0010 | B1594: OBERGAILBACH | C1594: REC | D1594: 46515 | E1594: 0 | F1594: 0 | G1594: 0.7 | H1594: 0.68 | J1594: 185 | K1594: 200 | L1594: 47.875524 | R1594: 618.39218 | S1594: N | T1594: 46311.754
A1595: IR0010 | B1595: OBERGAILBACH | C1595: REC | D1595: 46516 | E1595: 0 | F1595: 0 | G1595: 0.7 | H1595: 0.68 | J1595: 185 | K1595: 200 | L1595: 47.875524 | R1595: 618.39218 | S1595: N | T1595: 46311.754
A1596: IR0010 | B1596: OBERGAILBACH | C1596: REC | D1596: 46517 | E1596: 0 | F1596: 0 | G1596: 0.7 | H1596: 0.68 | J1596: 185 | K1596: 200 | L1596: 47.875524 | R1596: 618.39218 | S1596: N | T1596: 46311.754
A1597: IR0010 | B1597: OBERGAILBACH | C1597: REC | D1597: 46518 | E1597: 0 | F1597: 0 | G1597: 0.7 | H1597: 0.68 | J1597: 185 | K1597: 200 | L1597: 47.875524 | R1597: 618.39218 | S1597: N | T1597: 46311.754
...

Sheet RESULTS
D2: Storengy's Maintenance Program published on the | E2: ='PT Storengy'!I2 -> 46304 | I2: NaTran's Maintenance Program published on the | J2: 46324
B4: Enter your volumes for the different products subscribed | H4: SY | I4: =DATE(J4,4,1) -> 46478 | J4: 2027 | K4: - | L4: =DATE(M4,3,31) -> 46843 | M4: =J4+1 -> 2028
C7: PITS | D7: Products | E7: Volumes (TWh) | F7: Stock on 01/04/2027 (TWh) | G7: Volumes Total (TWh) | H7: 1st D Injection | I7: 1st D Withdrawal | J7: Volume Max (TWh) | K7: Nominal INJ Max (GWh/j) | L7: Nominal WDR Max (GWh/j)
B9: Firm+Interuptible | C9: Atlantique | D9: Serene Atl 25 | E9: 17.013766 | F9: 0 | G9: =SUM(E9:E12) -> 45 | H9: 46478 | I9: 46675 | J9: =D172 -> 45 | K9: =G172 -> 375 | L9: =H172 -> 591
D10: Serene Atl 26 | E10: 14.10256
D11: Serene Atl 27 | E11: 13.883674
C14: Nord-Est | D14: Serene N 25 | E14: 1.5 | F14: 0 | G14: =SUM(E14:E16) -> 15 | H14: 46478 | I14: 46675 | J14: =D174 -> 15 | K14: =G174 -> 125 | L14: =H174 -> 138
D15: Serene N 26 | E15: 1.05408
D16: Serene N 27 | E16: 12.44592
C19: Nord-Ouest | D19: Sediane N 25 | E19: 0 | F19: 0 | G19: =SUM(E19:E22) -> 24.5 | H19: 46478 | I19: 46692 | J19: =D176 -> 24.5 | K19: =G176 -> 272 | L19: =H176 -> 402
D20: Sediane N 26 | E20: 0.225585
D21: Sediane 27 | E21: 24.274415
C24: Saline | D24: Saline 27 | E24: 11.7 | F24: 0 | G24: =SUM(E24:E27) -> 11.7 | H24: 46478 | I24: 46692 | J24: =D178 -> 11.7 | K24: =G178 -> 94 | L24: =H178 -> 650
C32: Results Injection | I32: Results Withdrawal
E33: End of injection period | G33: =DATE(YEAR(I4),10,31) -> 46691
D35: With Storengy maintenance only | F35: With Storengy and NaTran maintenance (probable case - CPRTt) | J35: With Storengy maintenance only
D36: 100% date | E36: Days of flexibility | F36: 100% date | G36: Days of flexibility | J36: 100% date | K36: Days of flexibility
C37: Serene Atlantique | D37: =Atlantique_I!G$14 -> 46645 | E37: =IFERROR($G$33-D37,"none") -> 46 | F37: =Atlantique_I!M$14 -> 46656 | G37: =IFERROR($G$33-F37,"none") -> 35 | I37: Serene Atlantique | J37: =Atlantique_W!G14 -> 46837 | K37: =DATE(M$4,3,31)-J37 -> 6
C38: Serene Nord | D38: ='Nord-Est_I'!G$14 -> 46645 | E38: =IFERROR($G$33-D38,"none") -> 46 | F38: ='Nord-Est_I'!M$14 -> 46645 | G38: =IFERROR($G$33-F38,"none") -> 46 | I38: Serene Nord | J38: ='Nord-Est_W'!G14 -> 46832 | K38: =DATE(M$4,3,31)-J38 -> 11
C39: Sediane | D39: ='Nord-Ouest_I'!G$14 -> 46643 | E39: =IFERROR($G$33-D39,"none") -> 48 | F39: ='Nord-Ouest_I'!M$14 -> 46646 | G39: =IFERROR($G$33-F39,"none") -> 45 | I39: Sediane | J39: ='Nord-Ouest_W'!G14 -> 46767 | K39: =DATE(M$4,3,31)-J39 -> 76
C40: Saline | D40: ='Sud-Est_I'!G$14 -> 46679 | E40: =IFERROR($G$33-D40,"none") -> 12 | F40: ='Sud-Est_I'!M$14 -> 46684 | G40: =IFERROR($G$33-F40,"none") -> 7 | I40: Saline | J40: ='Sud-Est_W'!G14 -> 46717 | K40: =DATE(M$4,3,31)-J40 -> 126
C45: Filling & Withdrawal
C97: Aggregated Reduction Factors and tunnels
C146: Aggregated Products - Simulator | F146: Based on the subscribed volumes defined above
M149: Deliberation CRE
M150: 2026-85
D151: Volumes (TWh) | E151: Nominal Injection Duration (Days) | F151: Nominal Withdrawal Duration (Days) | G151: Nominal Injection Capacité (GWh/d 0°C) | H151: Nominal Withdrawal Capacity (GWh/d 0°C) | I151: Effective Injection Duration (Days) | J151: Nominal Withdrawal Duration (Days) | K151: Withdrawal Capacity at 45% (GWh/d 0°C) | M151: Firm Injection Capacity (GWh/d)
C153: Serene Atlantique | D153: =Serene_A_I!D$3 -> 45 | E153: =Serene_A_I!D$4 -> 120 | F153: =D153*1000/H153 -> 76.18559 | G153: =Serene_A_I!D$5 -> 375 | H153: =Serene_A_W!D$5 -> 590.66288 | I153: =Atlantique_I!S14 -> 128 | J153: =Atlantique_W!K15 -> 158 | K153: =Serene_A_W!A77*H153 -> 333.45061 | M153: 340
C155: Serene Nord | D155: =Serene_N_I!D$3 -> 15 | E155: =Serene_N_I!D$4 -> 120 | F155: =Serene_N_W!D$4 -> 109.89184 | G155: =Serene_N_I!D$5 -> 125 | H155: =Serene_N_W!D$5 -> 138.27339 | I155: ='Nord-Est_I'!S14 -> 128 | J155: ='Nord-Est_W'!K15 -> 158 | K155: =Serene_N_W!A77*H155 -> 107.19548 | M155: 130
C157: Sediane | D157: =Sediane_I!D$3 -> 24.5 | E157: =Sediane_I!D$4 -> 90 | F157: =Sediane_W!D$4 -> 60.917132 | G157: =Sediane_I!D$5 -> 272.22222 | H157: =Sediane_W!D$5 -> 402.2794 | I157: ='Nord-Ouest_I'!S14 -> 122 | J157: ='Nord-Ouest_W'!K15 -> 76 | K157: =Sediane_W!A77*H157 -> 357.1074 | M157: 320
C159: Saline | D159: =Saline_I!D$3 -> 11.7 | E159: =Saline_I!D$4 -> 125 | F159: =Saline_W!D$4 -> 18 | G159: =Saline_I!D$5 -> 93.6 | H159: =Saline_W!D$5 -> 650 | I159: ='Sud-Est_I'!S14 -> 180 | J159: ='Sud-Est_W'!K15 -> 26 | K159: =Saline_W!A77*H159 -> 650 | M159: 145
C165: Total Offer 2027 | D165: Global ATS OFFERS
M168: =M149 -> Deliberation CRE
M169: =M150 -> 2026-85
D170: Volumes (TWh) | E170: Nominal Injection Duration (Days) | F170: Nominal Withdrawal Duration (Days) | G170: Nominal Injection Capacité (GWh/d 0°C) | H170: Nominal Withdrawal Capacity (GWh/d 0°C) | I170: Effective Injection Duration (Days) | J170: Nominal Withdrawal Duration (Days) | K170: Withdrawal Capacity at 45% (GWh/d 0°C) | M170: Firm Injection Capacity (GWh/d)
C172: Serene Atlantique | D172: 45 | E172: 120 | F172: 95 | G172: 375 | H172: 591 | I172: 128 | J172: 158 | K172: 333 | M172: =M153 -> 340
C174: Serene Nord | D174: 15 | E174: 120 | F174: 115 | G174: 125 | H174: 138 | I174: 128 | J174: 158 | K174: 107 | M174: =M155 -> 130
C176: Sediane | D176: 24.5 | E176: 90 | F176: 61 | G176: 272 | H176: 402 | I176: 122 | J176: 76 | K176: 357 | M176: =M157 -> 320
C178: Saline | D178: 11.7 | E178: 125 | F178: 18 | G178: 94 | H178: 650 | I178: 180 | J178: 26 | K178: 650 | M178: =M159 -> 145
C185: Reduction Factors - Simulator | F185: Based on the subscribed volumes defined above
C188: Serene Atlantique | F188: Serene Nord | I188: Saline | L188: Sediane
C190: Inj | D190: Sout | F190: Inj | G190: Sout | I190: Inj | J190: Sout | L190: Inj | M190: Sout
C191: =IF(Serene_A_I!$H$3>0,Serene_A_I!$I6,0) -> 1 | D191: =IF(Serene_A_W!$H$3>0,Serene_A_W!$I6,0) -> 1 | F191: =IF(Serene_N_I!$H$3>0,Serene_N_I!$I6,0) -> 1 | G191: =IF(Serene_N_W!$H$3>0,Serene_N_W!$I6,0) -> 1 | I191: =IF(Saline_I!$H$3>0,Saline_I!$I6,0) -> 1 | J191: =IF(Saline_W!$H$3>0,Saline_W!$I6,0) -> 1 | L191: =IF(Sediane_I!$H$3>0,Sediane_I!$I6,0) -> 0 | M191: =IF(Sediane_W!$H$3>0,Sediane_W!$I6,0) -> 0
C192: =IF(Serene_A_I!$H$3>0,Serene_A_I!$I7,0) -> 0.8 | D192: =IF(Serene_A_W!$H$3>0,Serene_A_W!$I7,0) -> 0.7 | F192: =IF(Serene_N_I!$H$3>0,Serene_N_I!$I7,0) -> 0.85 | G192: =IF(Serene_N_W!$H$3>0,Serene_N_W!$I7,0) -> 0.54 | I192: =IF(Saline_I!$H$3>0,Saline_I!$I7,0) -> 0.95 | J192: =IF(Saline_W!$H$3>0,Saline_W!$I7,0) -> 0.4 | L192: =IF(Sediane_I!$H$3>0,Sediane_I!$I7,0) -> 0 | M192: =IF(Sediane_W!$H$3>0,Sediane_W!$I7,0) -> 0
C193: =IF(Serene_A_I!$H$3>0,Serene_A_I!$I8,0) -> 0.5 | D193: =IF(Serene_A_W!$H$3>0,Serene_A_W!$I8,0) -> 0.25 | F193: =IF(Serene_N_I!$H$3>0,Serene_N_I!$I8,0) -> 0.75 | G193: =IF(Serene_N_W!$H$3>0,Serene_N_W!$I8,0) -> 0.35 | I193: =IF(Saline_I!$H$3>0,Saline_I!$I8,0) -> 0.9 | J193: =IF(Saline_W!$H$3>0,Saline_W!$I8,0) -> 0.2 | L193: =IF(Sediane_I!$H$3>0,Sediane_I!$I8,0) -> 0 | M193: =IF(Sediane_W!$H$3>0,Sediane_W!$I8,0) -> 0
C194: =IF(Serene_A_I!$H$3>0,Serene_A_I!$I9,0) -> 0 | D194: =IF(Serene_A_W!$H$3>0,Serene_A_W!$I9,0) -> 0.1 | F194: =IF(Serene_N_I!$H$3>0,Serene_N_I!$I9,0) -> 0 | G194: =IF(Serene_N_W!$H$3>0,Serene_N_W!$I9,0) -> 0.11 | I194: =IF(Saline_I!$H$3>0,Saline_I!$I9,0) -> 0.45 | J194: =IF(Saline_W!$H$3>0,Saline_W!$I9,0) -> 0 | L194: =IF(Sediane_I!$H$3>0,Sediane_I!$I9,0) -> 0 | M194: =IF(Sediane_W!$H$3>0,Sediane_W!$I9,0) -> 0
C195: =IF(Serene_A_I!$H$3>0,Serene_A_I!$I10,0) | D195: =IF(Serene_A_W!$H$3>0,Serene_A_W!$I10,0) -> 0 | F195: =IF(Serene_N_I!$H$3>0,Serene_N_I!$I10,0) | G195: =IF(Serene_N_W!$H$3>0,Serene_N_W!$I10,0) -> 0 | I195: =IF(Saline_I!$H$3>0,Saline_I!$I10,0) -> 0 | J195: =IF(Saline_W!$H$3>0,Saline_W!$I10,0) | L195: =IF(Sediane_I!$H$3>0,Sediane_I!$I10,0) -> 0 | M195: =IF(Sediane_W!$H$3>0,Sediane_W!$I10,0) -> 0
C196: =IF(Serene_A_I!$H$3>0,Serene_A_I!$I11,0) | D196: =IF(Serene_A_W!$H$3>0,Serene_A_W!$I11,0) | F196: =IF(Serene_N_I!$H$3>0,Serene_N_I!$I11,0) | G196: =IF(Serene_N_W!$H$3>0,Serene_N_W!$I11,0) | I196: =IF(Saline_I!$H$3>0,Saline_I!$I11,0) | J196: =IF(Saline_W!$H$3>0,Saline_W!$I11,0) | L196: =IF(Sediane_I!$H$3>0,Sediane_I!$I11,0) -> 0 | M196: =IF(Sediane_W!$H$3>0,Sediane_W!$I11,0) -> 0
C197: =IF(Serene_A_I!$M$3>0,Serene_A_I!$N6,0) -> 1 | D197: =IF(Serene_A_W!$M$3>0,Serene_A_W!$N6,0) -> 1 | F197: =IF(Serene_N_I!$M$3>0,Serene_N_I!$N6,0) -> 1 | G197: =IF(Serene_N_W!$M$3>0,Serene_N_W!$N6,0) -> 1 | I197: =IF(Saline_I!$M$3>0,Saline_I!$N6,0) -> 0 | J197: =IF(Saline_W!$M$3>0,Saline_W!$N6,0) -> 0 | L197: =IF(Sediane_I!$M$3>0,Sediane_I!$N6,0) -> 1 | M197: =IF(Sediane_W!$M$3>0,Sediane_W!$N6,0) -> 1
C198: =IF(Serene_A_I!$M$3>0,Serene_A_I!$N7,0) -> 0.8 | D198: =IF(Serene_A_W!$M$3>0,Serene_A_W!$N7,0) -> 0.7 | F198: =IF(Serene_N_I!$M$3>0,Serene_N_I!$N7,0) -> 0.85 | G198: =IF(Serene_N_W!$M$3>0,Serene_N_W!$N7,0) -> 0.54 | I198: =IF(Saline_I!$M$3>0,Saline_I!$N7,0) -> 0 | J198: =IF(Saline_W!$M$3>0,Saline_W!$N7,0) -> 0 | L198: =IF(Sediane_I!$M$3>0,Sediane_I!$N7,0) -> 0.75 | M198: =IF(Sediane_W!$M$3>0,Sediane_W!$N7,0) -> 0.78
C199: =IF(Serene_A_I!$M$3>0,Serene_A_I!$N8,0) -> 0.5 | D199: =IF(Serene_A_W!$M$3>0,Serene_A_W!$N8,0) -> 0.25 | F199: =IF(Serene_N_I!$M$3>0,Serene_N_I!$N8,0) -> 0.75 | G199: =IF(Serene_N_W!$M$3>0,Serene_N_W!$N8,0) -> 0.35 | I199: =IF(Saline_I!$M$3>0,Saline_I!$N8,0) -> 0 | J199: =IF(Saline_W!$M$3>0,Saline_W!$N8,0) -> 0 | L199: =IF(Sediane_I!$M$3>0,Sediane_I!$N8,0) -> 0.57 | M199: =IF(Sediane_W!$M$3>0,Sediane_W!$N8,0) -> 0.1
C200: =IF(Serene_A_I!$M$3>0,Serene_A_I!$N9,0) -> 0 | D200: =IF(Serene_A_W!$M$3>0,Serene_A_W!$N9,0) -> 0.1 | F200: =IF(Serene_N_I!$M$3>0,Serene_N_I!$N9,0) -> 0 | G200: =IF(Serene_N_W!$M$3>0,Serene_N_W!$N9,0) -> 0.11 | I200: =IF(Saline_I!$M$3>0,Saline_I!$N9,0) -> 0 | J200: =IF(Saline_W!$M$3>0,Saline_W!$N9,0) -> 0 | L200: =IF(Sediane_I!$M$3>0,Sediane_I!$N9,0) -> 0 | M200: =IF(Sediane_W!$M$3>0,Sediane_W!$N9,0) -> 0
C201: =IF(Serene_A_I!$M$3>0,Serene_A_I!$N10,0) | D201: =IF(Serene_A_W!$M$3>0,Serene_A_W!$N10,0) -> 0 | F201: =IF(Serene_N_I!$M$3>0,Serene_N_I!$N10,0) | G201: =IF(Serene_N_W!$M$3>0,Serene_N_W!$N10,0) -> 0 | I201: =IF(Saline_I!$M$3>0,Saline_I!$N10,0) -> 0 | J201: =IF(Saline_W!$M$3>0,Saline_W!$N10,0) -> 0 | L201: =IF(Sediane_I!$M$3>0,Sediane_I!$N10,0) | M201: =IF(Sediane_W!$M$3>0,Sediane_W!$N10,0)
C202: =IF(Serene_A_I!$M$3>0,Serene_A_I!$N11,0) | D202: =IF(Serene_A_W!$M$3>0,Serene_A_W!$N11,0) | F202: =IF(Serene_N_I!$M$3>0,Serene_N_I!$N11,0) | G202: =IF(Serene_N_W!$M$3>0,Serene_N_W!$N11,0) | I202: =IF(Saline_I!$M$3>0,Saline_I!$N11,0) -> 0 | J202: =IF(Saline_W!$M$3>0,Saline_W!$N11,0) -> 0 | L202: =IF(Sediane_I!$M$3>0,Sediane_I!$N11,0) | M202: =IF(Sediane_W!$M$3>0,Sediane_W!$N11,0)
C203: =IF(Serene_A_I!$R$3>0,Serene_A_I!$S6,0) -> 1 | D203: =IF(Serene_A_W!$R$3>0,Serene_A_W!$S6,0) -> 1 | F203: =IF(Serene_N_I!$R$3>0,Serene_N_I!$S6,0) -> 1 | G203: =IF(Serene_N_W!$R$3>0,Serene_N_W!$S6,0) -> 1 | I203: =IF(Saline_I!$R$3>0,Saline_I!$S6,0) -> 0 | J203: =IF(Saline_W!$R$3>0,Saline_W!$S6,0) -> 0 | L203: =IF(Sediane_I!$R$3>0,Sediane_I!$S6,0) -> 1 | M203: =IF(Sediane_W!$R$3>0,Sediane_W!$S6,0) -> 1
C204: =IF(Serene_A_I!$R$3>0,Serene_A_I!$S7,0) -> 0.8 | D204: =IF(Serene_A_W!$R$3>0,Serene_A_W!$S7,0) -> 0.66 | F204: =IF(Serene_N_I!$R$3>0,Serene_N_I!$S7,0) -> 0.85 | G204: =IF(Serene_N_W!$R$3>0,Serene_N_W!$S7,0) -> 0.6 | I204: =IF(Saline_I!$R$3>0,Saline_I!$S7,0) -> 0 | J204: =IF(Saline_W!$R$3>0,Saline_W!$S7,0) -> 0 | L204: =IF(Sediane_I!$R$3>0,Sediane_I!$S7,0) -> 0.6 | M204: =IF(Sediane_W!$R$3>0,Sediane_W!$S7,0) -> 0.65
C205: =IF(Serene_A_I!$R$3>0,Serene_A_I!$S8,0) -> 0.5 | D205: =IF(Serene_A_W!$R$3>0,Serene_A_W!$S8,0) -> 0.45 | F205: =IF(Serene_N_I!$R$3>0,Serene_N_I!$S8,0) -> 0.75 | G205: =IF(Serene_N_W!$R$3>0,Serene_N_W!$S8,0) -> 0.2 | I205: =IF(Saline_I!$R$3>0,Saline_I!$S8,0) -> 0 | J205: =IF(Saline_W!$R$3>0,Saline_W!$S8,0) -> 0 | L205: =IF(Sediane_I!$R$3>0,Sediane_I!$S8,0) -> 0.23 | M205: =IF(Sediane_W!$R$3>0,Sediane_W!$S8,0) -> 0.2
C206: =IF(Serene_A_I!$R$3>0,Serene_A_I!$S9,0) -> 0 | D206: =IF(Serene_A_W!$R$3>0,Serene_A_W!$S9,0) -> 0 | F206: =IF(Serene_N_I!$R$3>0,Serene_N_I!$S9,0) -> 0 | G206: =IF(Serene_N_W!$R$3>0,Serene_N_W!$S9,0) -> 0 | I206: =IF(Saline_I!$R$3>0,Saline_I!$S9,0) -> 0 | J206: =IF(Saline_W!$R$3>0,Saline_W!$S9,0) -> 0 | L206: =IF(Sediane_I!$R$3>0,Sediane_I!$S9,0) -> 0 | M206: =IF(Sediane_W!$R$3>0,Sediane_W!$S9,0) -> 0
C207: =IF(Serene_A_I!$R$3>0,Serene_A_I!$S10,0) | D207: =IF(Serene_A_W!$R$3>0,Serene_A_W!$S10,0) | F207: =IF(Serene_N_I!$R$3>0,Serene_N_I!$S10,0) | G207: =IF(Serene_N_W!$R$3>0,Serene_N_W!$S10,0) | I207: =IF(Saline_I!$R$3>0,Saline_I!$S10,0) -> 0 | J207: =IF(Saline_W!$R$3>0,Saline_W!$S10,0) -> 0 | L207: =IF(Sediane_I!$R$3>0,Sediane_I!$S10,0) | M207: =IF(Sediane_W!$R$3>0,Sediane_W!$S10,0)
C208: =IF(Serene_A_I!$R$3>0,Serene_A_I!$S11,0) | D208: =IF(Serene_A_W!$R$3>0,Serene_A_W!$S11,0) | F208: =IF(Serene_N_I!$R$3>0,Serene_N_I!$S11,0) | G208: =IF(Serene_N_W!$R$3>0,Serene_N_W!$S11,0) | I208: =IF(Saline_I!$R$3>0,Saline_I!$S11,0) -> 0 | J208: =IF(Saline_W!$R$3>0,Saline_W!$S11,0) -> 0 | L208: =IF(Sediane_I!$R$3>0,Sediane_I!$S11,0) | M208: =IF(Sediane_W!$R$3>0,Sediane_W!$S11,0)
C209: =IF(Serene_A_I!$W$3>0,Serene_A_I!$X6,0) -> 0 | D209: =IF(Serene_A_W!$W$3>0,Serene_A_W!$X6,0) -> 0 | F209: =IF(Serene_N_I!$W$3>0,Serene_N_I!$X6,0) -> 0 | G209: =IF(Serene_N_W!$W$3>0,Serene_N_W!$X6,0) -> 0 | I209: =IF(Saline_I!$W$3>0,Saline_I!$X6,0) -> 0 | J209: =IF(Saline_W!$W$3>0,Saline_W!$X6,0) -> 0 | L209: =IF(Sediane_I!$W$3>0,Sediane_I!$X6,0) -> 0 | M209: =IF(Sediane_W!$W$3>0,Sediane_W!$X6,0) -> 0
C210: =IF(Serene_A_I!$W$3>0,Serene_A_I!$X7,0) -> 0 | D210: =IF(Serene_A_W!$W$3>0,Serene_A_W!$X7,0) -> 0 | F210: =IF(Serene_N_I!$W$3>0,Serene_N_I!$X7,0) -> 0 | G210: =IF(Serene_N_W!$W$3>0,Serene_N_W!$X7,0) -> 0 | I210: =IF(Saline_I!$W$3>0,Saline_I!$X7,0) -> 0 | J210: =IF(Saline_W!$W$3>0,Saline_W!$X7,0) -> 0 | L210: =IF(Sediane_I!$W$3>0,Sediane_I!$X7,0) -> 0 | M210: =IF(Sediane_W!$W$3>0,Sediane_W!$X7,0) -> 0
C211: =IF(Serene_A_I!$W$3>0,Serene_A_I!$X8,0) -> 0 | D211: =IF(Serene_A_W!$W$3>0,Serene_A_W!$X8,0) -> 0 | F211: =IF(Serene_N_I!$W$3>0,Serene_N_I!$X8,0) -> 0 | G211: =IF(Serene_N_W!$W$3>0,Serene_N_W!$X8,0) -> 0 | I211: =IF(Saline_I!$W$3>0,Saline_I!$X8,0) -> 0 | J211: =IF(Saline_W!$W$3>0,Saline_W!$X8,0) -> 0 | L211: =IF(Sediane_I!$W$3>0,Sediane_I!$X8,0) -> 0 | M211: =IF(Sediane_W!$W$3>0,Sediane_W!$X8,0) -> 0
C212: =IF(Serene_A_I!$W$3>0,Serene_A_I!$X9,0) -> 0 | D212: =IF(Serene_A_W!$W$3>0,Serene_A_W!$X9,0) -> 0 | F212: =IF(Serene_N_I!$W$3>0,Serene_N_I!$X9,0) -> 0 | G212: =IF(Serene_N_W!$W$3>0,Serene_N_W!$X9,0) -> 0 | I212: =IF(Saline_I!$W$3>0,Saline_I!$X9,0) -> 0 | J212: =IF(Saline_W!$W$3>0,Saline_W!$X9,0) -> 0 | L212: =IF(Sediane_I!$W$3>0,Sediane_I!$X9,0) -> 0 | M212: =IF(Sediane_W!$W$3>0,Sediane_W!$X9,0) -> 0
C213: =IF(Serene_A_I!$W$3>0,Serene_A_I!$X10,0) -> 0 | D213: =IF(Serene_A_W!$W$3>0,Serene_A_W!$X10,0) -> 0 | F213: =IF(Serene_N_I!$W$3>0,Serene_N_I!$X10,0) -> 0 | G213: =IF(Serene_N_W!$W$3>0,Serene_N_W!$X10,0) -> 0 | I213: =IF(Saline_I!$W$3>0,Saline_I!$X10,0) -> 0 | J213: =IF(Saline_W!$W$3>0,Saline_W!$X10,0) -> 0 | L213: =IF(Sediane_I!$W$3>0,Sediane_I!$X10,0) -> 0 | M213: =IF(Sediane_W!$W$3>0,Sediane_W!$X10,0) -> 0
C214: =IF(Serene_A_I!$W$3>0,Serene_A_I!$X11,0) -> 0 | D214: =IF(Serene_A_W!$W$3>0,Serene_A_W!$X11,0) -> 0 | F214: =IF(Serene_N_I!$W$3>0,Serene_N_I!$X11,0) -> 0 | G214: =IF(Serene_N_W!$W$3>0,Serene_N_W!$X11,0) -> 0 | I214: =IF(Saline_I!$W$3>0,Saline_I!$X11,0) -> 0 | J214: =IF(Saline_W!$W$3>0,Saline_W!$X11,0) -> 0 | L214: =IF(Sediane_I!$W$3>0,Sediane_I!$X11,0) -> 0 | M214: =IF(Sediane_W!$W$3>0,Sediane_W!$X11,0) -> 0
C216: Injection | F216: Injection | I216: Injection | L216: Injection
C217: =E153 -> 120 | F217: =E155 -> 120 | I217: =E159 -> 125 | L217: =E157 -> 90
C218: {=_xlfn._xlws.SORT(_xlfn.UNIQUE(_xlfn._xlws.FILTER(C191:C214,C191:C214<>"")),,-1)} -> 1 | D218: =_xlfn.XLOOKUP(C218,Serene_A_I!$G$41:$G$141,Serene_A_I!$A$41:$A$141,"",0) -> 0.8 | F218: {=_xlfn._xlws.SORT(_xlfn.UNIQUE(_xlfn._xlws.FILTER(F191:F214,F191:F214<>"")),,-1)} -> 1 | G218: =_xlfn.XLOOKUP(F218,Serene_N_I!$G$41:$G$141,Serene_N_I!$A$41:$A$141,"",0) -> 0.7 | I218: {=_xlfn._xlws.SORT(_xlfn.UNIQUE(_xlfn._xlws.FILTER(I191:I214,I191:I214<>"")),,-1)} -> 1 | J218: =_xlfn.XLOOKUP(I218,Saline_I!$G$41:$G$141,Saline_I!$A$41:$A$141,"",0) -> 0.25 | L218: {=_xlfn._xlws.SORT(_xlfn.UNIQUE(_xlfn._xlws.FILTER(L191:L214,L191:L214<>"")),,-1)} -> 1 | M218: =_xlfn.XLOOKUP(L218,Sediane_I!$G$41:$G$141,Sediane_I!$A$41:$A$141,"",0) -> 0.36981585
C219: 0.8 | D219: =_xlfn.XLOOKUP(C219,Serene_A_I!$G$41:$G$141,Serene_A_I!$A$41:$A$141,"",0) -> 0.85 | F219: 0.85 | G219: =_xlfn.XLOOKUP(F219,Serene_N_I!$G$41:$G$141,Serene_N_I!$A$41:$A$141,"",0) -> 0.8 | I219: 0.95 | J219: =_xlfn.XLOOKUP(I219,Saline_I!$G$41:$G$141,Saline_I!$A$41:$A$141,"",0) -> 0.3 | L219: 0.75 | M219: =_xlfn.XLOOKUP(L219,Sediane_I!$G$41:$G$141,Sediane_I!$A$41:$A$141,"",0) -> 0.63977434
C220: 0.5 | D220: =_xlfn.XLOOKUP(C220,Serene_A_I!$G$41:$G$141,Serene_A_I!$A$41:$A$141,"",0) -> 1 | F220: 0.75 | G220: =_xlfn.XLOOKUP(F220,Serene_N_I!$G$41:$G$141,Serene_N_I!$A$41:$A$141,"",0) -> 1 | I220: 0.9 | J220: =_xlfn.XLOOKUP(I220,Saline_I!$G$41:$G$141,Saline_I!$A$41:$A$141,"",0) -> 0.55 | L220: 0.6 | M220: =_xlfn.XLOOKUP(L220,Sediane_I!$G$41:$G$141,Sediane_I!$A$41:$A$141,"",0) -> 0.80145786
C221: 0 | D221: =_xlfn.XLOOKUP(C221,Serene_A_I!$G$41:$G$141,Serene_A_I!$A$41:$A$141,"",0) -> 1 | F221: 0 | G221: =_xlfn.XLOOKUP(F221,Serene_N_I!$G$41:$G$141,Serene_N_I!$A$41:$A$141,"",0) -> 1 | I221: 0.45 | J221: =_xlfn.XLOOKUP(I221,Saline_I!$G$41:$G$141,Saline_I!$A$41:$A$141,"",0) -> 0.85 | L221: 0.57 | M221: =_xlfn.XLOOKUP(L221,Sediane_I!$G$41:$G$141,Sediane_I!$A$41:$A$141,"",0) -> 0.81790841
D222: =_xlfn.XLOOKUP(C222,Serene_A_I!$G$41:$G$141,Serene_A_I!$A$41:$A$141,"",0) | G222: =_xlfn.XLOOKUP(F222,Serene_N_I!$G$41:$G$141,Serene_N_I!$A$41:$A$141,"",0) | I222: 0 | J222: =_xlfn.XLOOKUP(I222,Saline_I!$G$41:$G$141,Saline_I!$A$41:$A$141,"",0) -> 1 | L222: 0.23 | M222: =_xlfn.XLOOKUP(L222,Sediane_I!$G$41:$G$141,Sediane_I!$A$41:$A$141,"",0) -> 1
D223: =_xlfn.XLOOKUP(C223,Serene_A_I!$G$41:$G$141,Serene_A_I!$A$41:$A$141,"",0) | G223: =_xlfn.XLOOKUP(F223,Serene_N_I!$G$41:$G$141,Serene_N_I!$A$41:$A$141,"",0) | J223: =_xlfn.XLOOKUP(I223,Saline_I!$G$41:$G$141,Saline_I!$A$41:$A$141,"",0) | L223: 0 | M223: =_xlfn.XLOOKUP(L223,Sediane_I!$G$41:$G$141,Sediane_I!$A$41:$A$141,"",0) -> 1
M224: =_xlfn.XLOOKUP(L224,Sediane_I!$G$41:$G$141,Sediane_I!$A$41:$A$141,"",0)
M225: =_xlfn.XLOOKUP(L225,Sediane_I!$G$41:$G$141,Sediane_I!$A$41:$A$141,"",0)
C228: Withdrawal | F228: Withdrawal | I228: Withdrawal | L228: Withdrawal
C229: =F153 -> 76.18559 | F229: =F155 -> 109.89184 | I229: =F159 -> 18 | L229: =F157 -> 60.917132
C230: {=_xlfn._xlws.SORT(_xlfn.UNIQUE(_xlfn._xlws.FILTER(D191:D214,D191:D214<>"")),,-1)} -> 1 | D230: =_xlfn.XLOOKUP(C230,Serene_A_W!$G$32:$G$132,Serene_A_W!$A$32:$A$132,"",0) -> 1 | F230: {=_xlfn._xlws.SORT(_xlfn.UNIQUE(_xlfn._xlws.FILTER(G191:G214,G191:G214<>"")),,-1)} -> 1 | G230: =_xlfn.XLOOKUP(F230,Serene_N_W!$G$32:$G$132,Serene_N_W!$A$32:$A$132,"",0) -> 1 | I230: {=_xlfn._xlws.SORT(_xlfn.UNIQUE(_xlfn._xlws.FILTER(J191:J214,J191:J214<>"")),,-1)} -> 1 | J230: =_xlfn.XLOOKUP(I230,Saline_W!$G$32:$G$132,Saline_W!$A$32:$A$132,"",0) -> 1 | L230: {=_xlfn._xlws.SORT(_xlfn.UNIQUE(_xlfn._xlws.FILTER(M191:M214,M191:M214<>"")),,-1)} -> 1 | M230: =_xlfn.XLOOKUP(L230,Sediane_W!$G$32:$G$132,Sediane_W!$A$32:$A$132,"",0) -> 1
C231: 0.7 | D231: =_xlfn.XLOOKUP(C231,Serene_A_W!$G$32:$G$132,Serene_A_W!$A$32:$A$132,"",0) -> 0.76744711 | F231: 0.6 | G231: =_xlfn.XLOOKUP(F231,Serene_N_W!$G$32:$G$132,Serene_N_W!$A$32:$A$132,"",0) -> 0.952759 | I231: 0.4 | J231: =_xlfn.XLOOKUP(I231,Saline_W!$G$32:$G$132,Saline_W!$A$32:$A$132,"",0) -> 1 | L231: 0.78 | M231: =_xlfn.XLOOKUP(L231,Sediane_W!$G$32:$G$132,Sediane_W!$A$32:$A$132,"",0) -> 0.99924512
C232: 0.66 | D232: =_xlfn.XLOOKUP(C232,Serene_A_W!$G$32:$G$132,Serene_A_W!$A$32:$A$132,"",0) -> 0.7404538 | F232: 0.54 | G232: =_xlfn.XLOOKUP(F232,Serene_N_W!$G$32:$G$132,Serene_N_W!$A$32:$A$132,"",0) -> 0.88697099 | I232: 0.2 | J232: =_xlfn.XLOOKUP(I232,Saline_W!$G$32:$G$132,Saline_W!$A$32:$A$132,"",0) -> 0.7 | L232: 0.65 | M232: =_xlfn.XLOOKUP(L232,Sediane_W!$G$32:$G$132,Sediane_W!$A$32:$A$132,"",0) -> 0.99860601
C233: 0.45 | D233: =_xlfn.XLOOKUP(C233,Serene_A_W!$G$32:$G$132,Serene_A_W!$A$32:$A$132,"",0) -> 0.56453625 | F233: 0.35 | G233: =_xlfn.XLOOKUP(F233,Serene_N_W!$G$32:$G$132,Serene_N_W!$A$32:$A$132,"",0) -> 0.65110081 | I233: 0 | J233: =_xlfn.XLOOKUP(I233,Saline_W!$G$32:$G$132,Saline_W!$A$32:$A$132,"",0) -> 0.1 | L233: 0.2 | M233: =_xlfn.XLOOKUP(L233,Sediane_W!$G$32:$G$132,Sediane_W!$A$32:$A$132,"",0) -> 0.74908971
C234: 0.25 | D234: =_xlfn.XLOOKUP(C234,Serene_A_W!$G$32:$G$132,Serene_A_W!$A$32:$A$132,"",0) -> 0.39353964 | F234: 0.2 | G234: =_xlfn.XLOOKUP(F234,Serene_N_W!$G$32:$G$132,Serene_N_W!$A$32:$A$132,"",0) -> 0.47446624 | J234: =_xlfn.XLOOKUP(I234,Saline_W!$G$32:$G$132,Saline_W!$A$32:$A$132,"",0) | L234: 0.1 | M234: =_xlfn.XLOOKUP(L234,Sediane_W!$G$32:$G$132,Sediane_W!$A$32:$A$132,"",0) -> 0.5458088
C235: 0.1 | D235: =_xlfn.XLOOKUP(C235,Serene_A_W!$G$32:$G$132,Serene_A_W!$A$32:$A$132,"",0) -> 0.25024066 | F235: 0.11 | G235: =_xlfn.XLOOKUP(F235,Serene_N_W!$G$32:$G$132,Serene_N_W!$A$32:$A$132,"",0) -> 0.43892772 | J235: =_xlfn.XLOOKUP(I235,Saline_W!$G$32:$G$132,Saline_W!$A$32:$A$132,"",0) | L235: 0 | M235: =_xlfn.XLOOKUP(L235,Sediane_W!$G$32:$G$132,Sediane_W!$A$32:$A$132,"",0) -> 0.34064704
C236: 0 | F236: 0
C240: Daily rights based on the stock level : | G240: =_xlfn.XLOOKUP(F240,Serene_N_W!$G$32:$G$132,Serene_N_W!$A$32:$A$132,"",0)
C242: Stock Level | D242: 0.4 | E242: % | F242: Stock Level | G242: 0.4 | H242: % | I242: Stock Level | J242: 0.4 | K242: % | L242: Stock Level | M242: 0.4 | N242: %
C243: Injection rights | D243: {=ROUND(G153/1.0026,6)*IF(D$242>=C$219,TREND(D$218:D$219,C$218:C$219,D$242),IF(D$242>=C$220,TREND(D$219:D$220,C$219:C$220,D$242),IF(D$242>=C$221,TREND(D$220:D$221,C$220:C$221,D$242),IF(D$242>=C$222,TREND(D$221:D$222,C$221:C$222,D$242),IF(D$242>=C$223,TREND(D$222:D$223,C$222:C$223,D$242),IF(D$242>=C$224,TREND(D$223:D$224,C$223:C$224,D$242),IF(D$242>=C$225,TREND(D$224:D$225,C$224:C$225,D$242),0)))))))*1000} -> 374027.53 | E243: MWh/d - 25°C | F243: Injection rights | G243: {=ROUND(G155/1.0026,6)*IF(G$242>=F$219,TREND(G$218:G$219,F$218:F$219,G$242),IF(G$242>=F$220,TREND(G$219:G$220,F$219:F$220,G$242),IF(G$242>=F$221,TREND(G$220:G$221,F$220:F$221,G$242),IF(G$242>=F$222,TREND(G$221:G$222,F$221:F$222,G$242),IF(G$242>=F$223,TREND(G$222:G$223,F$222:F$223,G$242),IF(G$242>=F$224,TREND(G$223:G$224,F$223:F$224,G$242),IF(G$242>=F$225,TREND(G$224:G$225,F$224:F$225,G$242),0)))))))*1000} -> 124675.84 | H243: MWh/d - 25°C | I243: Injection rights | J243: {=ROUND(G159/1.0026,6)*IF(J$242>=I$219,TREND(J$218:J$219,I$218:I$219,J$242),IF(J$242>=I$220,TREND(J$219:J$220,I$219:I$220,J$242),IF(J$242>=I$221,TREND(J$220:J$221,I$220:I$221,J$242),IF(J$242>=I$222,TREND(J$221:J$222,I$221:I$222,J$242),IF(J$242>=I$223,TREND(J$222:J$223,I$222:I$223,J$242),IF(J$242>=I$224,TREND(J$223:J$224,I$223:I$224,J$242),IF(J$242>=I$225,TREND(J$224:J$225,I$224:I$225,J$242),0)))))))*1000} -> 80909.635 | K243: MWh/d - 25°C | L243: Injection rights | M243: {=ROUND(G157/1.0026,6)*IF(M$242>=L$219,TREND(M$218:M$219,L$218:L$219,M$242),IF(M$242>=L$220,TREND(M$219:M$220,L$219:L$220,M$242),IF(M$242>=L$221,TREND(M$220:M$221,L$220:L$221,M$242),IF(M$242>=L$222,TREND(M$221:M$222,L$221:L$222,M$242),IF(M$242>=L$223,TREND(M$222:M$223,L$222:L$223,M$242),IF(M$242>=L$224,TREND(M$223:M$224,L$223:L$224,M$242),IF(M$242>=L$225,TREND(M$224:M$225,L$224:L$225,M$242),0)))))))*1000} -> 246795.87 | N243: MWh/d - 25°C
C244: Withdrawal rights | D244: {=ROUND(H153/1.0026,6)*IF(D$242>=C$231,TREND(D$230:D$231,C$230:C$231,D$242),IF(D$242>=C$232,TREND(D$231:D$232,C$231:C$232,D$242),IF(D$242>=C$233,TREND(D$232:D$233,C$232:C$233,D$242),IF(D$242>=C$234,TREND(D$233:D$234,C$233:C$234,D$242),IF(D$242>=C$235,TREND(D$234:D$235,C$234:C$235,D$242),0)))))*1000} -> 307401.03 | E244: MWh/d - 25°C | F244: Withdrawal rights | G244: {=ROUND(H155/1.0026,6)*IF(G$242>=F$231,TREND(G$230:G$231,F$230:F$231,G$242),IF(G$242>=F$232,TREND(G$231:G$232,F$231:F$232,G$242),IF(G$242>=F$233,TREND(G$232:G$233,F$232:F$233,G$242),IF(G$242>=F$234,TREND(G$233:G$234,F$233:F$234,G$242),IF(G$242>=F$235,TREND(G$234:G$235,F$234:F$235,G$242),0)))))*1000} -> 98356.97 | H244: MWh/d - 25°C | I244: Withdrawal rights | J244: {=ROUND(H159/1.0026,6)*IF(J$242>=I$231,TREND(J$230:J$231,I$230:I$231,J$242),IF(J$242>=I$232,TREND(J$231:J$232,I$231:I$232,J$242),IF(J$242>=I$233,TREND(J$232:J$233,I$232:I$233,J$242),IF(J$242>=I$234,TREND(J$233:J$234,I$233:I$234,J$242),IF(J$242>=I$235,TREND(J$234:J$235,I$234:I$235,J$242),0)))))*1000} -> 648314.38 | K244: MWh/d - 25°C | L244: Withdrawal rights | M244: {=ROUND(H157/1.0026,6)*IF(M$242>=L$231,TREND(M$230:M$231,L$230:L$231,M$242),IF(M$242>=L$232,TREND(M$231:M$232,L$231:L$232,M$242),IF(M$242>=L$233,TREND(M$232:M$233,L$232:L$233,M$242),IF(M$242>=L$234,TREND(M$233:M$234,L$233:L$234,M$242),IF(M$242>=L$235,TREND(M$234:M$235,L$234:L$235,M$242),0)))))*1000} -> 345057.44 | N244: MWh/d - 25°C

Sheet Calculs >>

Sheet Serene_A_I
A1: Agregation | G1: Daily capacities - basic offer : | K1: Injection | L1: Injection | AJ1: Tunnels
A3: Total Volume | D3: =H3+M3+R3+W3 -> 45 | E3: TWh | G3: =RESULTS!D9 -> Serene Atl 25 | H3: =RESULTS!E9 -> 17.013766 | I3: Injection | L3: =RESULTS!D10 -> Serene Atl 26 | M3: =RESULTS!E10 -> 14.10256 | N3: Injection | Q3: =RESULTS!D11 -> Serene Atl 27 | R3: =RESULTS!E11 -> 13.883674 | S3: Injection | V3: =RESULTS!D12 -> 0 | W3: =RESULTS!E12 -> 0 | X3: Injection
A4: Average Nominal Duration | D4: =IFERROR(D3/D5*1000,0) -> 120 | E4: days | G4: Nominal Duration | I4: =SUMIFS('Base Produits'!$S:$S,'Base Produits'!$R:$R,G3) -> 120 | L4: Nominal Duration | N4: =SUMIFS('Base Produits'!$S:$S,'Base Produits'!$R:$R,L3) -> 120 | Q4: Nominal Duration | S4: =SUMIFS('Base Produits'!$S:$S,'Base Produits'!$R:$R,Q3) -> 120 | V4: Nominal Duration | X4: =SUMIFS('Base Produits'!$S:$S,'Base Produits'!$R:$R,V3) -> 0
A5: Nominal Capacity | D5: =(IFERROR(H3/I4,0)+IFERROR(M3/N4,0)+IFERROR(R3/S4,0)+IFERROR(W3/X4,0))*1000 -> 375 | E5: GWh/d | G5: Reduction factors | I5: Stock level % | J5: Reduction Factor % | L5: Reduction factors | N5: Stock level % | O5: Reduction Factor % | Q5: Reduction factors | S5: Stock level % | T5: Reduction Factor % | V5: Reduction factors | X5: Stock level % | Y5: Reduction Factor %
I6: =SUMIFS('Base Produits'!$C:$C,'Base Produits'!$A:$A,G$3,'Base Produits'!$B:$B,1) -> 1 | J6: =SUMIFS('Base Produits'!$D:$D,'Base Produits'!$A:$A,G$3,'Base Produits'!$B:$B,1) -> 0.8 | N6: =SUMIFS('Base Produits'!$C:$C,'Base Produits'!$A:$A,L$3,'Base Produits'!$B:$B,1) -> 1 | O6: =SUMIFS('Base Produits'!$D:$D,'Base Produits'!$A:$A,L$3,'Base Produits'!$B:$B,1) -> 0.8 | S6: =SUMIFS('Base Produits'!$C:$C,'Base Produits'!$A:$A,Q$3,'Base Produits'!$B:$B,1) -> 1 | T6: =SUMIFS('Base Produits'!$D:$D,'Base Produits'!$A:$A,Q$3,'Base Produits'!$B:$B,1) -> 0.8 | X6: =SUMIFS('Base Produits'!$C:$C,'Base Produits'!$A:$A,V$3,'Base Produits'!$B:$B,1) -> 0 | Y6: =SUMIFS('Base Produits'!$D:$D,'Base Produits'!$A:$A,V$3,'Base Produits'!$B:$B,1) -> 0
I7: =IF(OR(I6=0,I6=""),"",SUMIFS('Base Produits'!$C:$C,'Base Produits'!$A:$A,G$3,'Base Produits'!$B:$B,2)) -> 0.8 | J7: =IF(OR(I6=0,I6=""),"",SUMIFS('Base Produits'!$D:$D,'Base Produits'!$A:$A,G$3,'Base Produits'!$B:$B,2)) -> 0.85 | N7: =IF(OR(N6=0,N6=""),"",SUMIFS('Base Produits'!$C:$C,'Base Produits'!$A:$A,L$3,'Base Produits'!$B:$B,2)) -> 0.8 | O7: =IF(OR(N6=0,N6=""),"",SUMIFS('Base Produits'!$D:$D,'Base Produits'!$A:$A,L$3,'Base Produits'!$B:$B,2)) -> 0.85 | S7: =IF(OR(S6=0,S6=""),"",SUMIFS('Base Produits'!$C:$C,'Base Produits'!$A:$A,Q$3,'Base Produits'!$B:$B,2)) -> 0.8 | T7: =IF(OR(S6=0,S6=""),"",SUMIFS('Base Produits'!$D:$D,'Base Produits'!$A:$A,Q$3,'Base Produits'!$B:$B,2)) -> 0.85 | X7: =IF(OR(X6=0,X6=""),"",SUMIFS('Base Produits'!$C:$C,'Base Produits'!$A:$A,V$3,'Base Produits'!$B:$B,2)) | Y7: =IF(OR(X6=0,X6=""),"",SUMIFS('Base Produits'!$D:$D,'Base Produits'!$A:$A,V$3,'Base Produits'!$B:$B,2))
I8: =IF(OR(I7=0,I7=""),"",SUMIFS('Base Produits'!$C:$C,'Base Produits'!$A:$A,G$3,'Base Produits'!$B:$B,3)) -> 0.5 | J8: =IF(OR(I7=0,I7=""),"",SUMIFS('Base Produits'!$D:$D,'Base Produits'!$A:$A,G$3,'Base Produits'!$B:$B,3)) -> 1 | N8: =IF(OR(N7=0,N7=""),"",SUMIFS('Base Produits'!$C:$C,'Base Produits'!$A:$A,L$3,'Base Produits'!$B:$B,3)) -> 0.5 | O8: =IF(OR(N7=0,N7=""),"",SUMIFS('Base Produits'!$D:$D,'Base Produits'!$A:$A,L$3,'Base Produits'!$B:$B,3)) -> 1 | S8: =IF(OR(S7=0,S7=""),"",SUMIFS('Base Produits'!$C:$C,'Base Produits'!$A:$A,Q$3,'Base Produits'!$B:$B,3)) -> 0.5 | T8: =IF(OR(S7=0,S7=""),"",SUMIFS('Base Produits'!$D:$D,'Base Produits'!$A:$A,Q$3,'Base Produits'!$B:$B,3)) -> 1 | X8: =IF(OR(X7=0,X7=""),"",SUMIFS('Base Produits'!$C:$C,'Base Produits'!$A:$A,V$3,'Base Produits'!$B:$B,3)) | Y8: =IF(OR(X7=0,X7=""),"",SUMIFS('Base Produits'!$D:$D,'Base Produits'!$A:$A,V$3,'Base Produits'!$B:$B,3))
A9: Max Inj | D9: =RESULTS!K9 -> 375 | I9: =IF(OR(I8=0,I8=""),"",SUMIFS('Base Produits'!$C:$C,'Base Produits'!$A:$A,G$3,'Base Produits'!$B:$B,4)) -> 0 | J9: =IF(OR(I8=0,I8=""),"",SUMIFS('Base Produits'!$D:$D,'Base Produits'!$A:$A,G$3,'Base Produits'!$B:$B,4)) -> 1 | N9: =IF(OR(N8=0,N8=""),"",SUMIFS('Base Produits'!$C:$C,'Base Produits'!$A:$A,L$3,'Base Produits'!$B:$B,4)) -> 0 | O9: =IF(OR(N8=0,N8=""),"",SUMIFS('Base Produits'!$D:$D,'Base Produits'!$A:$A,L$3,'Base Produits'!$B:$B,4)) -> 1 | S9: =IF(OR(S8=0,S8=""),"",SUMIFS('Base Produits'!$C:$C,'Base Produits'!$A:$A,Q$3,'Base Produits'!$B:$B,4)) -> 0 | T9: =IF(OR(S8=0,S8=""),"",SUMIFS('Base Produits'!$D:$D,'Base Produits'!$A:$A,Q$3,'Base Produits'!$B:$B,4)) -> 1 | X9: =IF(OR(X8=0,X8=""),"",SUMIFS('Base Produits'!$C:$C,'Base Produits'!$A:$A,V$3,'Base Produits'!$B:$B,4)) | Y9: =IF(OR(X8=0,X8=""),"",SUMIFS('Base Produits'!$D:$D,'Base Produits'!$A:$A,V$3,'Base Produits'!$B:$B,4))
A10: Max sout | D10: =RESULTS!L9 -> 591 | I10: =IF(OR(I9=0,I9=""),"",SUMIFS('Base Produits'!$C:$C,'Base Produits'!$A:$A,G$3,'Base Produits'!$B:$B,5)) | J10: =IF(OR(I9=0,I9=""),"",SUMIFS('Base Produits'!$D:$D,'Base Produits'!$A:$A,G$3,'Base Produits'!$B:$B,5)) | N10: =IF(OR(N9=0,N9=""),"",SUMIFS('Base Produits'!$C:$C,'Base Produits'!$A:$A,L$3,'Base Produits'!$B:$B,5)) | O10: =IF(OR(N9=0,N9=""),"",SUMIFS('Base Produits'!$D:$D,'Base Produits'!$A:$A,L$3,'Base Produits'!$B:$B,5)) | S10: =IF(OR(S9=0,S9=""),"",SUMIFS('Base Produits'!$C:$C,'Base Produits'!$A:$A,Q$3,'Base Produits'!$B:$B,5)) | T10: =IF(OR(S9=0,S9=""),"",SUMIFS('Base Produits'!$D:$D,'Base Produits'!$A:$A,Q$3,'Base Produits'!$B:$B,5)) | X10: =IF(OR(X9=0,X9=""),"",SUMIFS('Base Produits'!$C:$C,'Base Produits'!$A:$A,V$3,'Base Produits'!$B:$B,5)) | Y10: =IF(OR(X9=0,X9=""),"",SUMIFS('Base Produits'!$D:$D,'Base Produits'!$A:$A,V$3,'Base Produits'!$B:$B,5))
I11: =IF(OR(I10=0,I10=""),"",SUMIFS('Base Produits'!$C:$C,'Base Produits'!$A:$A,G$3,'Base Produits'!$B:$B,6)) | J11: =IF(OR(I10=0,I10=""),"",SUMIFS('Base Produits'!$D:$D,'Base Produits'!$A:$A,G$3,'Base Produits'!$B:$B,6)) | N11: =IF(OR(N10=0,N10=""),"",SUMIFS('Base Produits'!$C:$C,'Base Produits'!$A:$A,L$3,'Base Produits'!$B:$B,6)) | O11: =IF(OR(N10=0,N10=""),"",SUMIFS('Base Produits'!$D:$D,'Base Produits'!$A:$A,L$3,'Base Produits'!$B:$B,6)) | S11: =IF(OR(S10=0,S10=""),"",SUMIFS('Base Produits'!$C:$C,'Base Produits'!$A:$A,Q$3,'Base Produits'!$B:$B,6)) | T11: =IF(OR(S10=0,S10=""),"",SUMIFS('Base Produits'!$D:$D,'Base Produits'!$A:$A,Q$3,'Base Produits'!$B:$B,6)) | X11: =IF(OR(X10=0,X10=""),"",SUMIFS('Base Produits'!$C:$C,'Base Produits'!$A:$A,V$3,'Base Produits'!$B:$B,6)) | Y11: =IF(OR(X10=0,X10=""),"",SUMIFS('Base Produits'!$D:$D,'Base Produits'!$A:$A,V$3,'Base Produits'!$B:$B,6))
G12: Actual duration | I12: =SUMIFS('Base Produits'!$T:$T,'Base Produits'!$R:$R,G3) -> 128 | L12: Actual duration | N12: =SUMIFS('Base Produits'!$T:$T,'Base Produits'!$R:$R,L3) -> 128 | Q12: Actual duration | S12: =SUMIFS('Base Produits'!$T:$T,'Base Produits'!$R:$R,Q3) -> 128 | V12: Actual duration | X12: =SUMIFS('Base Produits'!$T:$T,'Base Produits'!$R:$R,V3) -> 0
A14: Date | B14: Maximum stock level % | D14: TWh | G14: Date | H14: Maximum stock level % | J14: TWh | L14: Date | M14: Maximum stock level % | O14: TWh | Q14: Date | R14: Maximum stock level % | T14: TWh | V14: Date | W14: Maximum stock level % | Y14: TWh
G15: =IF($A15<DATE(2000,1,1),"",$A15) | L15: =IF($A15<DATE(2000,1,1),"",$A15) | Q15: =IF($A15<DATE(2000,1,1),"",$A15) | V15: =IF($A15<DATE(2000,1,1),"",$A15)
A16: =DATE(RESULTS!$J$4,4,1) -> 46478 | B16: =D16/SUM($H$3,$M$3,$R$3,$W$3,$AB$3) -> 0.35 | D16: =SUM(J16,O16,T16,Y16) -> 15.75 | G16: =$A16 -> 46478 | H16: =IF(SUMIFS('Base Produits'!$L:$L,'Base Produits'!$J:$J,G$3,'Base Produits'!$K:$K,DATE(1900,MONTH($A16),DAY($A16)))=0,100%,SUMIFS('Base Produits'!$L:$L,'Base Produits'!$J:$J,G$3,'Base Produits'!$K:$K,DATE(1900,MONTH($A16),DAY($A16)))) -> 0.35 | J16: =H16*H$3 -> 5.9548181 | L16: =$A16 -> 46478 | M16: =IF(SUMIFS('Base Produits'!$L:$L,'Base Produits'!$J:$J,L$3,'Base Produits'!$K:$K,DATE(1900,MONTH($A16),DAY($A16)))=0,100%,SUMIFS('Base Produits'!$L:$L,'Base Produits'!$J:$J,L$3,'Base Produits'!$K:$K,DATE(1900,MONTH($A16),DAY($A16)))) -> 0.35 | O16: =M16*M$3 -> 4.935896 | Q16: =$A16 -> 46478 | R16: =IF(SUMIFS('Base Produits'!$L:$L,'Base Produits'!$J:$J,Q$3,'Base Produits'!$K:$K,DATE(1900,MONTH($A16),DAY($A16)))=0,100%,SUMIFS('Base Produits'!$L:$L,'Base Produits'!$J:$J,Q$3,'Base Produits'!$K:$K,DATE(1900,MONTH($A16),DAY($A16)))) -> 0.35 | T16: =R16*R$3 -> 4.8592859 | V16: =$A16 -> 46478 | W16: =IF(SUMIFS('Base Produits'!$L:$L,'Base Produits'!$J:$J,V$3,'Base Produits'!$K:$K,DATE(1900,MONTH($A16),DAY($A16)))=0,100%,SUMIFS('Base Produits'!$L:$L,'Base Produits'!$J:$J,V$3,'Base Produits'!$K:$K,DATE(1900,MONTH($A16),DAY($A16)))) -> 1 | Y16: =W16*W$3 -> 0
A17: =A18-1 -> 46538 | B17: =D17/SUM($H$3,$M$3,$R$3,$W$3,$AB$3) -> 1 | D17: =SUM(J17,O17,T17,Y17) -> 45 | G17: =$A17 -> 46538 | H17: =IF(SUMIFS('Base Produits'!$L:$L,'Base Produits'!$J:$J,G$3,'Base Produits'!$K:$K,DATE(1900,MONTH($A17),DAY($A17)))=0,100%,SUMIFS('Base Produits'!$L:$L,'Base Produits'!$J:$J,G$3,'Base Produits'!$K:$K,DATE(1900,MONTH($A17),DAY($A17)))) -> 1 | J17: =H17*H$3 -> 17.013766 | L17: =$A17 -> 46538 | M17: =IF(SUMIFS('Base Produits'!$L:$L,'Base Produits'!$J:$J,L$3,'Base Produits'!$K:$K,DATE(1900,MONTH($A17),DAY($A17)))=0,100%,SUMIFS('Base Produits'!$L:$L,'Base Produits'!$J:$J,L$3,'Base Produits'!$K:$K,DATE(1900,MONTH($A17),DAY($A17)))) -> 1 | O17: =M17*M$3 -> 14.10256 | Q17: =$A17 -> 46538 | R17: =IF(SUMIFS('Base Produits'!$L:$L,'Base Produits'!$J:$J,Q$3,'Base Produits'!$K:$K,DATE(1900,MONTH($A17),DAY($A17)))=0,100%,SUMIFS('Base Produits'!$L:$L,'Base Produits'!$J:$J,Q$3,'Base Produits'!$K:$K,DATE(1900,MONTH($A17),DAY($A17)))) -> 1 | T17: =R17*R$3 -> 13.883674 | V17: =$A17 -> 46538 | W17: =IF(SUMIFS('Base Produits'!$L:$L,'Base Produits'!$J:$J,V$3,'Base Produits'!$K:$K,DATE(1900,MONTH($A17),DAY($A17)))=0,100%,SUMIFS('Base Produits'!$L:$L,'Base Produits'!$J:$J,V$3,'Base Produits'!$K:$K,DATE(1900,MONTH($A17),DAY($A17)))) -> 1 | Y17: =W17*W$3 -> 0
A18: =DATE(RESULTS!$J$4,6,1) -> 46539 | B18: =D18/SUM($H$3,$M$3,$R$3,$W$3,$AB$3) -> 1 | D18: =SUM(J18,O18,T18,Y18) -> 45 | G18: =$A18 -> 46539 | H18: =IF(SUMIFS('Base Produits'!$L:$L,'Base Produits'!$J:$J,G$3,'Base Produits'!$K:$K,DATE(1900,MONTH($A18),DAY($A18)))=0,100%,SUMIFS('Base Produits'!$L:$L,'Base Produits'!$J:$J,G$3,'Base Produits'!$K:$K,DATE(1900,MONTH($A18),DAY($A18)))) -> 1 | J18: =H18*H$3 -> 17.013766 | L18: =$A18 -> 46539 | M18: =IF(SUMIFS('Base Produits'!$L:$L,'Base Produits'!$J:$J,L$3,'Base Produits'!$K:$K,DATE(1900,MONTH($A18),DAY($A18)))=0,100%,SUMIFS('Base Produits'!$L:$L,'Base Produits'!$J:$J,L$3,'Base Produits'!$K:$K,DATE(1900,MONTH($A18),DAY($A18)))) -> 1 | O18: =M18*M$3 -> 14.10256 | Q18: =$A18 -> 46539 | R18: =IF(SUMIFS('Base Produits'!$L:$L,'Base Produits'!$J:$J,Q$3,'Base Produits'!$K:$K,DATE(1900,MONTH($A18),DAY($A18)))=0,100%,SUMIFS('Base Produits'!$L:$L,'Base Produits'!$J:$J,Q$3,'Base Produits'!$K:$K,DATE(1900,MONTH($A18),DAY($A18)))) -> 1 | T18: =R18*R$3 -> 13.883674 | V18: =$A18 -> 46539 | W18: =IF(SUMIFS('Base Produits'!$L:$L,'Base Produits'!$J:$J,V$3,'Base Produits'!$K:$K,DATE(1900,MONTH($A18),DAY($A18)))=0,100%,SUMIFS('Base Produits'!$L:$L,'Base Produits'!$J:$J,V$3,'Base Produits'!$K:$K,DATE(1900,MONTH($A18),DAY($A18)))) -> 1 | Y18: =W18*W$3 -> 0
A19: =A20-1 -> 46599 | B19: =D19/SUM($H$3,$M$3,$R$3,$W$3,$AB$3) -> 0.85 | D19: =SUM(J19,O19,T19,Y19) -> 38.25 | G19: =$A19 -> 46599 | H19: =IF(SUMIFS('Base Produits'!$L:$L,'Base Produits'!$J:$J,G$3,'Base Produits'!$K:$K,DATE(1900,MONTH($A19),DAY($A19)))=0,100%,SUMIFS('Base Produits'!$L:$L,'Base Produits'!$J:$J,G$3,'Base Produits'!$K:$K,DATE(1900,MONTH($A19),DAY($A19)))) -> 0.85 | J19: =H19*H$3 -> 14.461701 | L19: =$A19 -> 46599 | M19: =IF(SUMIFS('Base Produits'!$L:$L,'Base Produits'!$J:$J,L$3,'Base Produits'!$K:$K,DATE(1900,MONTH($A19),DAY($A19)))=0,100%,SUMIFS('Base Produits'!$L:$L,'Base Produits'!$J:$J,L$3,'Base Produits'!$K:$K,DATE(1900,MONTH($A19),DAY($A19)))) -> 0.85 | O19: =M19*M$3 -> 11.987176 | Q19: =$A19 -> 46599 | R19: =IF(SUMIFS('Base Produits'!$L:$L,'Base Produits'!$J:$J,Q$3,'Base Produits'!$K:$K,DATE(1900,MONTH($A19),DAY($A19)))=0,100%,SUMIFS('Base Produits'!$L:$L,'Base Produits'!$J:$J,Q$3,'Base Produits'!$K:$K,DATE(1900,MONTH($A19),DAY($A19)))) -> 0.85 | T19: =R19*R$3 -> 11.801123 | V19: =$A19 -> 46599 | W19: =IF(SUMIFS('Base Produits'!$L:$L,'Base Produits'!$J:$J,V$3,'Base Produits'!$K:$K,DATE(1900,MONTH($A19),DAY($A19)))=0,100%,SUMIFS('Base Produits'!$L:$L,'Base Produits'!$J:$J,V$3,'Base Produits'!$K:$K,DATE(1900,MONTH($A19),DAY($A19)))) -> 1 | Y19: =W19*W$3 -> 0
A20: =DATE(RESULTS!$J$4,8,1) -> 46600 | B20: =D20/SUM($H$3,$M$3,$R$3,$W$3,$AB$3) -> 1 | D20: =SUM(J20,O20,T20,Y20) -> 45 | G20: =$A20 -> 46600 | H20: =IF(SUMIFS('Base Produits'!$L:$L,'Base Produits'!$J:$J,G$3,'Base Produits'!$K:$K,DATE(1900,MONTH($A20),DAY($A20)))=0,100%,SUMIFS('Base Produits'!$L:$L,'Base Produits'!$J:$J,G$3,'Base Produits'!$K:$K,DATE(1900,MONTH($A20),DAY($A20)))) -> 1 | J20: =H20*H$3 -> 17.013766 | L20: =$A20 -> 46600 | M20: =IF(SUMIFS('Base Produits'!$L:$L,'Base Produits'!$J:$J,L$3,'Base Produits'!$K:$K,DATE(1900,MONTH($A20),DAY($A20)))=0,100%,SUMIFS('Base Produits'!$L:$L,'Base Produits'!$J:$J,L$3,'Base Produits'!$K:$K,DATE(1900,MONTH($A20),DAY($A20)))) -> 1 | O20: =M20*M$3 -> 14.10256 | Q20: =$A20 -> 46600 | R20: =IF(SUMIFS('Base Produits'!$L:$L,'Base Produits'!$J:$J,Q$3,'Base Produits'!$K:$K,DATE(1900,MONTH($A20),DAY($A20)))=0,100%,SUMIFS('Base Produits'!$L:$L,'Base Produits'!$J:$J,Q$3,'Base Produits'!$K:$K,DATE(1900,MONTH($A20),DAY($A20)))) -> 1 | T20: =R20*R$3 -> 13.883674 | V20: =$A20 -> 46600 | W20: =IF(SUMIFS('Base Produits'!$L:$L,'Base Produits'!$J:$J,V$3,'Base Produits'!$K:$K,DATE(1900,MONTH($A20),DAY($A20)))=0,100%,SUMIFS('Base Produits'!$L:$L,'Base Produits'!$J:$J,V$3,'Base Produits'!$K:$K,DATE(1900,MONTH($A20),DAY($A20)))) -> 1 | Y20: =W20*W$3 -> 0
A21: =A22-1 -> 46630 | B21: =D21/SUM($H$3,$M$3,$R$3,$W$3,$AB$3) -> 0.95 | D21: =SUM(J21,O21,T21,Y21) -> 42.75 | G21: =$A21 -> 46630 | H21: =IF(SUMIFS('Base Produits'!$L:$L,'Base Produits'!$J:$J,G$3,'Base Produits'!$K:$K,DATE(1900,MONTH($A21),DAY($A21)))=0,100%,SUMIFS('Base Produits'!$L:$L,'Base Produits'!$J:$J,G$3,'Base Produits'!$K:$K,DATE(1900,MONTH($A21),DAY($A21)))) -> 0.95 | J21: =H21*H$3 -> 16.163078 | L21: =$A21 -> 46630 | M21: =IF(SUMIFS('Base Produits'!$L:$L,'Base Produits'!$J:$J,L$3,'Base Produits'!$K:$K,DATE(1900,MONTH($A21),DAY($A21)))=0,100%,SUMIFS('Base Produits'!$L:$L,'Base Produits'!$J:$J,L$3,'Base Produits'!$K:$K,DATE(1900,MONTH($A21),DAY($A21)))) -> 0.95 | O21: =M21*M$3 -> 13.397432 | Q21: =$A21 -> 46630 | R21: =IF(SUMIFS('Base Produits'!$L:$L,'Base Produits'!$J:$J,Q$3,'Base Produits'!$K:$K,DATE(1900,MONTH($A21),DAY($A21)))=0,100%,SUMIFS('Base Produits'!$L:$L,'Base Produits'!$J:$J,Q$3,'Base Produits'!$K:$K,DATE(1900,MONTH($A21),DAY($A21)))) -> 0.95 | T21: =R21*R$3 -> 13.18949 | V21: =$A21 -> 46630 | W21: =IF(SUMIFS('Base Produits'!$L:$L,'Base Produits'!$J:$J,V$3,'Base Produits'!$K:$K,DATE(1900,MONTH($A21),DAY($A21)))=0,100%,SUMIFS('Base Produits'!$L:$L,'Base Produits'!$J:$J,V$3,'Base Produits'!$K:$K,DATE(1900,MONTH($A21),DAY($A21)))) -> 1 | Y21: =W21*W$3 -> 0
A22: =DATE(RESULTS!$J$4,9,1) -> 46631 | B22: =D22/SUM($H$3,$M$3,$R$3,$W$3,$AB$3) -> 1 | D22: =SUM(J22,O22,T22,Y22) -> 45 | G22: =$A22 -> 46631 | H22: =IF(SUMIFS('Base Produits'!$L:$L,'Base Produits'!$J:$J,G$3,'Base Produits'!$K:$K,DATE(1900,MONTH($A22),DAY($A22)))=0,100%,SUMIFS('Base Produits'!$L:$L,'Base Produits'!$J:$J,G$3,'Base Produits'!$K:$K,DATE(1900,MONTH($A22),DAY($A22)))) -> 1 | J22: =H22*H$3 -> 17.013766 | L22: =$A22 -> 46631 | M22: =IF(SUMIFS('Base Produits'!$L:$L,'Base Produits'!$J:$J,L$3,'Base Produits'!$K:$K,DATE(1900,MONTH($A22),DAY($A22)))=0,100%,SUMIFS('Base Produits'!$L:$L,'Base Produits'!$J:$J,L$3,'Base Produits'!$K:$K,DATE(1900,MONTH($A22),DAY($A22)))) -> 1 | O22: =M22*M$3 -> 14.10256 | Q22: =$A22 -> 46631 | R22: =IF(SUMIFS('Base Produits'!$L:$L,'Base Produits'!$J:$J,Q$3,'Base Produits'!$K:$K,DATE(1900,MONTH($A22),DAY($A22)))=0,100%,SUMIFS('Base Produits'!$L:$L,'Base Produits'!$J:$J,Q$3,'Base Produits'!$K:$K,DATE(1900,MONTH($A22),DAY($A22)))) -> 1 | T22: =R22*R$3 -> 13.883674 | V22: =$A22 -> 46631 | W22: =IF(SUMIFS('Base Produits'!$L:$L,'Base Produits'!$J:$J,V$3,'Base Produits'!$K:$K,DATE(1900,MONTH($A22),DAY($A22)))=0,100%,SUMIFS('Base Produits'!$L:$L,'Base Produits'!$J:$J,V$3,'Base Produits'!$K:$K,DATE(1900,MONTH($A22),DAY($A22)))) -> 1 | Y22: =W22*W$3 -> 0
A23: =DATE(RESULTS!M4,3,31) -> 46843 | B23: =D23/SUM($H$3,$M$3,$R$3,$W$3,$AB$3) -> 0.35 | D23: =SUM(J23,O23,T23,Y23) -> 15.75 | G23: =$A23 -> 46843 | H23: =IF(SUMIFS('Base Produits'!$L:$L,'Base Produits'!$J:$J,G$3,'Base Produits'!$K:$K,DATE(1900,MONTH($A23),DAY($A23)))=0,100%,SUMIFS('Base Produits'!$L:$L,'Base Produits'!$J:$J,G$3,'Base Produits'!$K:$K,DATE(1900,MONTH($A23),DAY($A23)))) -> 0.35 | J23: =H23*H$3 -> 5.9548181 | L23: =$A23 -> 46843 | M23: =IF(SUMIFS('Base Produits'!$L:$L,'Base Produits'!$J:$J,L$3,'Base Produits'!$K:$K,DATE(1900,MONTH($A23),DAY($A23)))=0,100%,SUMIFS('Base Produits'!$L:$L,'Base Produits'!$J:$J,L$3,'Base Produits'!$K:$K,DATE(1900,MONTH($A23),DAY($A23)))) -> 0.35 | O23: =M23*M$3 -> 4.935896 | Q23: =$A23 -> 46843 | R23: =IF(SUMIFS('Base Produits'!$L:$L,'Base Produits'!$J:$J,Q$3,'Base Produits'!$K:$K,DATE(1900,MONTH($A23),DAY($A23)))=0,100%,SUMIFS('Base Produits'!$L:$L,'Base Produits'!$J:$J,Q$3,'Base Produits'!$K:$K,DATE(1900,MONTH($A23),DAY($A23)))) -> 0.35 | T23: =R23*R$3 -> 4.8592859 | V23: =$A23 -> 46843 | W23: =IF(SUMIFS('Base Produits'!$L:$L,'Base Produits'!$J:$J,V$3,'Base Produits'!$K:$K,DATE(1900,MONTH($A23),DAY($A23)))=0,100%,SUMIFS('Base Produits'!$L:$L,'Base Produits'!$J:$J,V$3,'Base Produits'!$K:$K,DATE(1900,MONTH($A23),DAY($A23)))) -> 1 | Y23: =W23*W$3 -> 0
G24: =IF($A24<DATE(2000,1,1),"",$A24) | L24: =IF($A24<DATE(2000,1,1),"",$A24) | Q24: =IF($A24<DATE(2000,1,1),"",$A24) | V24: =IF($A24<DATE(2000,1,1),"",$A24)
A26: Date | B26: Minimum stock level % | D26: TWh | G26: Date | H26: Minimum stock level % | J26: TWh | L26: Date | M26: Minimum stock level % | O26: TWh | Q26: Date | R26: Minimum stock level % | T26: TWh | V26: Date | W26: Minimum stock level % | Y26: TWh
G27: =IF($A27<DATE(2000,1,1),"",$A27) | J27: =H27*H$3 -> 0 | L27: =IF($A27<DATE(2000,1,1),"",$A27) | O27: =M27*M$3 -> 0 | Q27: =IF($A27<DATE(2000,1,1),"",$A27) | T27: =R27*R$3 -> 0 | V27: =IF($A27<DATE(2000,1,1),"",$A27) | Y27: =W27*W$3 -> 0
A28: =A29-1 -> 46538 | B28: =D28/SUM($H$3,$M$3,$R$3,$W$3,$AB$3) -> 0 | D28: =SUM(J28,O28,T28,Y28) -> 0 | G28: =$A28 -> 46538 | H28: =IF(SUMIFS('Base Produits'!$P:$P,'Base Produits'!$N:$N,G$3,'Base Produits'!$O:$O,DATE(1900,MONTH($A28),DAY($A28)))=0,0%,SUMIFS('Base Produits'!$P:$P,'Base Produits'!$N:$N,G$3,'Base Produits'!$O:$O,DATE(1900,MONTH($A28),DAY($A28)))) -> 0 | J28: =H28*H$3 -> 0 | L28: =$A28 -> 46538 | M28: =IF(SUMIFS('Base Produits'!$P:$P,'Base Produits'!$N:$N,L$3,'Base Produits'!$O:$O,DATE(1900,MONTH($A28),DAY($A28)))=0,0%,SUMIFS('Base Produits'!$P:$P,'Base Produits'!$N:$N,L$3,'Base Produits'!$O:$O,DATE(1900,MONTH($A28),DAY($A28)))) -> 0 | O28: =M28*M$3 -> 0 | Q28: =$A28 -> 46538 | R28: =IF(SUMIFS('Base Produits'!$P:$P,'Base Produits'!$N:$N,Q$3,'Base Produits'!$O:$O,DATE(1900,MONTH($A28),DAY($A28)))=0,0%,SUMIFS('Base Produits'!$P:$P,'Base Produits'!$N:$N,Q$3,'Base Produits'!$O:$O,DATE(1900,MONTH($A28),DAY($A28)))) -> 0 | T28: =R28*R$3 -> 0 | V28: =$A28 -> 46538 | W28: =IF(SUMIFS('Base Produits'!$P:$P,'Base Produits'!$N:$N,V$3,'Base Produits'!$O:$O,DATE(1900,MONTH($A28),DAY($A28)))=0,0%,SUMIFS('Base Produits'!$P:$P,'Base Produits'!$N:$N,V$3,'Base Produits'!$O:$O,DATE(1900,MONTH($A28),DAY($A28)))) -> 0 | Y28: =W28*W$3 -> 0
A29: =DATE(RESULTS!$J$4,6,1) -> 46539 | B29: =D29/SUM($H$3,$M$3,$R$3,$W$3,$AB$3) -> 0 | D29: =SUM(J29,O29,T29,Y29) -> 0 | G29: =$A29 -> 46539 | H29: =IF(SUMIFS('Base Produits'!$P:$P,'Base Produits'!$N:$N,G$3,'Base Produits'!$O:$O,DATE(1900,MONTH($A29),DAY($A29)))=0,0%,SUMIFS('Base Produits'!$P:$P,'Base Produits'!$N:$N,G$3,'Base Produits'!$O:$O,DATE(1900,MONTH($A29),DAY($A29)))) -> 0 | J29: =H29*H$3 -> 0 | L29: =$A29 -> 46539 | M29: =IF(SUMIFS('Base Produits'!$P:$P,'Base Produits'!$N:$N,L$3,'Base Produits'!$O:$O,DATE(1900,MONTH($A29),DAY($A29)))=0,0%,SUMIFS('Base Produits'!$P:$P,'Base Produits'!$N:$N,L$3,'Base Produits'!$O:$O,DATE(1900,MONTH($A29),DAY($A29)))) -> 0 | O29: =M29*M$3 -> 0 | Q29: =$A29 -> 46539 | R29: =IF(SUMIFS('Base Produits'!$P:$P,'Base Produits'!$N:$N,Q$3,'Base Produits'!$O:$O,DATE(1900,MONTH($A29),DAY($A29)))=0,0%,SUMIFS('Base Produits'!$P:$P,'Base Produits'!$N:$N,Q$3,'Base Produits'!$O:$O,DATE(1900,MONTH($A29),DAY($A29)))) -> 0 | T29: =R29*R$3 -> 0 | V29: =$A29 -> 46539 | W29: =IF(SUMIFS('Base Produits'!$P:$P,'Base Produits'!$N:$N,V$3,'Base Produits'!$O:$O,DATE(1900,MONTH($A29),DAY($A29)))=0,0%,SUMIFS('Base Produits'!$P:$P,'Base Produits'!$N:$N,V$3,'Base Produits'!$O:$O,DATE(1900,MONTH($A29),DAY($A29)))) -> 0 | Y29: =W29*W$3 -> 0
A30: =A31-1 -> 46599 | B30: =D30/SUM($H$3,$M$3,$R$3,$W$3,$AB$3) -> 0 | D30: =SUM(J30,O30,T30,Y30) -> 0 | G30: =$A30 -> 46599 | H30: =IF(SUMIFS('Base Produits'!$P:$P,'Base Produits'!$N:$N,G$3,'Base Produits'!$O:$O,DATE(1900,MONTH($A30),DAY($A30)))=0,0%,SUMIFS('Base Produits'!$P:$P,'Base Produits'!$N:$N,G$3,'Base Produits'!$O:$O,DATE(1900,MONTH($A30),DAY($A30)))) -> 0 | J30: =H30*H$3 -> 0 | L30: =$A30 -> 46599 | M30: =IF(SUMIFS('Base Produits'!$P:$P,'Base Produits'!$N:$N,L$3,'Base Produits'!$O:$O,DATE(1900,MONTH($A30),DAY($A30)))=0,0%,SUMIFS('Base Produits'!$P:$P,'Base Produits'!$N:$N,L$3,'Base Produits'!$O:$O,DATE(1900,MONTH($A30),DAY($A30)))) -> 0 | O30: =M30*M$3 -> 0 | Q30: =$A30 -> 46599 | R30: =IF(SUMIFS('Base Produits'!$P:$P,'Base Produits'!$N:$N,Q$3,'Base Produits'!$O:$O,DATE(1900,MONTH($A30),DAY($A30)))=0,0%,SUMIFS('Base Produits'!$P:$P,'Base Produits'!$N:$N,Q$3,'Base Produits'!$O:$O,DATE(1900,MONTH($A30),DAY($A30)))) -> 0 | T30: =R30*R$3 -> 0 | V30: =$A30 -> 46599 | W30: =IF(SUMIFS('Base Produits'!$P:$P,'Base Produits'!$N:$N,V$3,'Base Produits'!$O:$O,DATE(1900,MONTH($A30),DAY($A30)))=0,0%,SUMIFS('Base Produits'!$P:$P,'Base Produits'!$N:$N,V$3,'Base Produits'!$O:$O,DATE(1900,MONTH($A30),DAY($A30)))) -> 0 | Y30: =W30*W$3 -> 0
A31: =DATE(RESULTS!$J$4,8,1) -> 46600 | B31: =D31/SUM($H$3,$M$3,$R$3,$W$3,$AB$3) -> 0 | D31: =SUM(J31,O31,T31,Y31) -> 0 | G31: =$A31 -> 46600 | H31: =IF(SUMIFS('Base Produits'!$P:$P,'Base Produits'!$N:$N,G$3,'Base Produits'!$O:$O,DATE(1900,MONTH($A31),DAY($A31)))=0,0%,SUMIFS('Base Produits'!$P:$P,'Base Produits'!$N:$N,G$3,'Base Produits'!$O:$O,DATE(1900,MONTH($A31),DAY($A31)))) -> 0 | J31: =H31*H$3 -> 0 | L31: =$A31 -> 46600 | M31: =IF(SUMIFS('Base Produits'!$P:$P,'Base Produits'!$N:$N,L$3,'Base Produits'!$O:$O,DATE(1900,MONTH($A31),DAY($A31)))=0,0%,SUMIFS('Base Produits'!$P:$P,'Base Produits'!$N:$N,L$3,'Base Produits'!$O:$O,DATE(1900,MONTH($A31),DAY($A31)))) -> 0 | O31: =M31*M$3 -> 0 | Q31: =$A31 -> 46600 | R31: =IF(SUMIFS('Base Produits'!$P:$P,'Base Produits'!$N:$N,Q$3,'Base Produits'!$O:$O,DATE(1900,MONTH($A31),DAY($A31)))=0,0%,SUMIFS('Base Produits'!$P:$P,'Base Produits'!$N:$N,Q$3,'Base Produits'!$O:$O,DATE(1900,MONTH($A31),DAY($A31)))) -> 0 | T31: =R31*R$3 -> 0 | V31: =$A31 -> 46600 | W31: =IF(SUMIFS('Base Produits'!$P:$P,'Base Produits'!$N:$N,V$3,'Base Produits'!$O:$O,DATE(1900,MONTH($A31),DAY($A31)))=0,0%,SUMIFS('Base Produits'!$P:$P,'Base Produits'!$N:$N,V$3,'Base Produits'!$O:$O,DATE(1900,MONTH($A31),DAY($A31)))) -> 0 | Y31: =W31*W$3 -> 0
A32: =A33-1 -> 46660 | B32: =D32/SUM($H$3,$M$3,$R$3,$W$3,$AB$3) -> 0.9 | D32: =SUM(J32,O32,T32,Y32) -> 40.5 | G32: =$A32 -> 46660 | H32: =IF(SUMIFS('Base Produits'!$P:$P,'Base Produits'!$N:$N,G$3,'Base Produits'!$O:$O,DATE(1900,MONTH($A32),DAY($A32)))=0,0%,SUMIFS('Base Produits'!$P:$P,'Base Produits'!$N:$N,G$3,'Base Produits'!$O:$O,DATE(1900,MONTH($A32),DAY($A32)))) -> 0.9 | J32: =H32*H$3 -> 15.312389 | L32: =$A32 -> 46660 | M32: =IF(SUMIFS('Base Produits'!$P:$P,'Base Produits'!$N:$N,L$3,'Base Produits'!$O:$O,DATE(1900,MONTH($A32),DAY($A32)))=0,0%,SUMIFS('Base Produits'!$P:$P,'Base Produits'!$N:$N,L$3,'Base Produits'!$O:$O,DATE(1900,MONTH($A32),DAY($A32)))) -> 0.9 | O32: =M32*M$3 -> 12.692304 | Q32: =$A32 -> 46660 | R32: =IF(SUMIFS('Base Produits'!$P:$P,'Base Produits'!$N:$N,Q$3,'Base Produits'!$O:$O,DATE(1900,MONTH($A32),DAY($A32)))=0,0%,SUMIFS('Base Produits'!$P:$P,'Base Produits'!$N:$N,Q$3,'Base Produits'!$O:$O,DATE(1900,MONTH($A32),DAY($A32)))) -> 0.9 | T32: =R32*R$3 -> 12.495307 | V32: =$A32 -> 46660 | W32: =IF(SUMIFS('Base Produits'!$P:$P,'Base Produits'!$N:$N,V$3,'Base Produits'!$O:$O,DATE(1900,MONTH($A32),DAY($A32)))=0,0%,SUMIFS('Base Produits'!$P:$P,'Base Produits'!$N:$N,V$3,'Base Produits'!$O:$O,DATE(1900,MONTH($A32),DAY($A32)))) -> 0 | Y32: =W32*W$3 -> 0
A33: =DATE(RESULTS!$J$4,10,1) -> 46661 | B33: =D33/SUM($H$3,$M$3,$R$3,$W$3,$AB$3) -> 0 | D33: =SUM(J33,O33,T33,Y33) -> 0 | G33: =$A33 -> 46661 | H33: =IF(SUMIFS('Base Produits'!$P:$P,'Base Produits'!$N:$N,G$3,'Base Produits'!$O:$O,DATE(1900,MONTH($A33),DAY($A33)))=0,0%,SUMIFS('Base Produits'!$P:$P,'Base Produits'!$N:$N,G$3,'Base Produits'!$O:$O,DATE(1900,MONTH($A33),DAY($A33)))) -> 0 | J33: =H33*H$3 -> 0 | L33: =$A33 -> 46661 | M33: =IF(SUMIFS('Base Produits'!$P:$P,'Base Produits'!$N:$N,L$3,'Base Produits'!$O:$O,DATE(1900,MONTH($A33),DAY($A33)))=0,0%,SUMIFS('Base Produits'!$P:$P,'Base Produits'!$N:$N,L$3,'Base Produits'!$O:$O,DATE(1900,MONTH($A33),DAY($A33)))) -> 0 | O33: =M33*M$3 -> 0 | Q33: =$A33 -> 46661 | R33: =IF(SUMIFS('Base Produits'!$P:$P,'Base Produits'!$N:$N,Q$3,'Base Produits'!$O:$O,DATE(1900,MONTH($A33),DAY($A33)))=0,0%,SUMIFS('Base Produits'!$P:$P,'Base Produits'!$N:$N,Q$3,'Base Produits'!$O:$O,DATE(1900,MONTH($A33),DAY($A33)))) -> 0 | T33: =R33*R$3 -> 0 | V33: =$A33 -> 46661 | W33: =IF(SUMIFS('Base Produits'!$P:$P,'Base Produits'!$N:$N,V$3,'Base Produits'!$O:$O,DATE(1900,MONTH($A33),DAY($A33)))=0,0%,SUMIFS('Base Produits'!$P:$P,'Base Produits'!$N:$N,V$3,'Base Produits'!$O:$O,DATE(1900,MONTH($A33),DAY($A33)))) -> 0 | Y33: =W33*W$3 -> 0
A34: =A35-1 -> 46691 | B34: =D34/SUM($H$3,$M$3,$R$3,$W$3,$AB$3) -> 0.85 | D34: =SUM(J34,O34,T34,Y34) -> 38.25 | G34: =$A34 -> 46691 | H34: =IF(SUMIFS('Base Produits'!$P:$P,'Base Produits'!$N:$N,G$3,'Base Produits'!$O:$O,DATE(1900,MONTH($A34),DAY($A34)))=0,0%,SUMIFS('Base Produits'!$P:$P,'Base Produits'!$N:$N,G$3,'Base Produits'!$O:$O,DATE(1900,MONTH($A34),DAY($A34)))) -> 0.85 | J34: =H34*H$3 -> 14.461701 | L34: =$A34 -> 46691 | M34: =IF(SUMIFS('Base Produits'!$P:$P,'Base Produits'!$N:$N,L$3,'Base Produits'!$O:$O,DATE(1900,MONTH($A34),DAY($A34)))=0,0%,SUMIFS('Base Produits'!$P:$P,'Base Produits'!$N:$N,L$3,'Base Produits'!$O:$O,DATE(1900,MONTH($A34),DAY($A34)))) -> 0.85 | O34: =M34*M$3 -> 11.987176 | Q34: =$A34 -> 46691 | R34: =IF(SUMIFS('Base Produits'!$P:$P,'Base Produits'!$N:$N,Q$3,'Base Produits'!$O:$O,DATE(1900,MONTH($A34),DAY($A34)))=0,0%,SUMIFS('Base Produits'!$P:$P,'Base Produits'!$N:$N,Q$3,'Base Produits'!$O:$O,DATE(1900,MONTH($A34),DAY($A34)))) -> 0.85 | T34: =R34*R$3 -> 11.801123 | V34: =$A34 -> 46691 | W34: =IF(SUMIFS('Base Produits'!$P:$P,'Base Produits'!$N:$N,V$3,'Base Produits'!$O:$O,DATE(1900,MONTH($A34),DAY($A34)))=0,0%,SUMIFS('Base Produits'!$P:$P,'Base Produits'!$N:$N,V$3,'Base Produits'!$O:$O,DATE(1900,MONTH($A34),DAY($A34)))) -> 0 | Y34: =W34*W$3 -> 0
A35: =DATE(RESULTS!$J$4,11,1) -> 46692 | B35: =D35/SUM($H$3,$M$3,$R$3,$W$3,$AB$3) -> 0 | D35: =SUM(J35,O35,T35,Y35) -> 0 | G35: =$A35 -> 46692 | H35: =IF(SUMIFS('Base Produits'!$P:$P,'Base Produits'!$N:$N,G$3,'Base Produits'!$O:$O,DATE(1900,MONTH($A35),DAY($A35)))=0,0%,SUMIFS('Base Produits'!$P:$P,'Base Produits'!$N:$N,G$3,'Base Produits'!$O:$O,DATE(1900,MONTH($A35),DAY($A35)))) -> 0 | J35: =H35*H$3 -> 0 | L35: =$A35 -> 46692 | M35: =IF(SUMIFS('Base Produits'!$P:$P,'Base Produits'!$N:$N,L$3,'Base Produits'!$O:$O,DATE(1900,MONTH($A35),DAY($A35)))=0,0%,SUMIFS('Base Produits'!$P:$P,'Base Produits'!$N:$N,L$3,'Base Produits'!$O:$O,DATE(1900,MONTH($A35),DAY($A35)))) -> 0 | O35: =M35*M$3 -> 0 | Q35: =$A35 -> 46692 | R35: =IF(SUMIFS('Base Produits'!$P:$P,'Base Produits'!$N:$N,Q$3,'Base Produits'!$O:$O,DATE(1900,MONTH($A35),DAY($A35)))=0,0%,SUMIFS('Base Produits'!$P:$P,'Base Produits'!$N:$N,Q$3,'Base Produits'!$O:$O,DATE(1900,MONTH($A35),DAY($A35)))) -> 0 | T35: =R35*R$3 -> 0 | V35: =$A35 -> 46692 | W35: =IF(SUMIFS('Base Produits'!$P:$P,'Base Produits'!$N:$N,V$3,'Base Produits'!$O:$O,DATE(1900,MONTH($A35),DAY($A35)))=0,0%,SUMIFS('Base Produits'!$P:$P,'Base Produits'!$N:$N,V$3,'Base Produits'!$O:$O,DATE(1900,MONTH($A35),DAY($A35)))) -> 0 | Y35: =W35*W$3 -> 0
G36: =IF($A36<DATE(2000,1,1),"",$A36) | L36: =IF($A36<DATE(2000,1,1),"",$A36) | Q36: =IF($A36<DATE(2000,1,1),"",$A36) | V36: =IF($A36<DATE(2000,1,1),"",$A36)
A40: Qi% foisonement | G40: VU | I40: Qi % reduction | N40: Qi % reduction | S40: Qi % reduction | X40: Qi % reduction | AK40: Min Brut | AL40: Max Brut | AM40: Min cor. Inj | AN40: Min.cor Sout | AO40: Max corrigé
A41: =(IFERROR((I41*$H$3/$I$4),0)+IFERROR((N41*$M$3/$N$4),0)+IFERROR((S41*$R$3/$S$4),0)+IFERROR((X41*$W$3/$X$4),0))/($D$5/1000) -> 1 | G41: 0 | I41: {=IF($G41>=I$7,TREND(J$6:J$7,I$6:I$7,$G41),IF($G41>=I$8,TREND(J$7:J$8,I$7:I$8,$G41),IF($G41>=I$9,TREND(J$8:J$9,I$8:I$9,$G41),IF($G41>=I$10,TREND(J$9:J$10,I$9:I$10,$G41),IF($G41>=I$11,TREND(J$10:J$11,I$10:I$11,$G41),0)))))} -> 1 | N41: {=IF($G41>=N$7,TREND(O$6:O$7,N$6:N$7,$G41),IF($G41>=N$8,TREND(O$7:O$8,N$7:N$8,$G41),IF($G41>=N$9,TREND(O$8:O$9,N$8:N$9,$G41),IF($G41>=N$10,TREND(O$9:O$10,N$9:N$10,$G41),IF($G41>=N$11,TREND(O$10:O$11,N$10:N$11,$G41),0)))))} -> 1 | S41: {=IF($G41>=S$7,TREND(T$6:T$7,S$6:S$7,$G41),IF($G41>=S$8,TREND(T$7:T$8,S$7:S$8,$G41),IF($G41>=S$9,TREND(T$8:T$9,S$8:S$9,$G41),IF($G41>=S$10,TREND(T$9:T$10,S$9:S$10,$G41),IF($G41>=S$11,TREND(T$10:T$11,S$10:S$11,$G41),0)))))} -> 1 | X41: {=IF($G41>=X$7,TREND(Y$6:Y$7,X$6:X$7,$G41),IF($G41>=X$8,TREND(Y$7:Y$8,X$7:X$8,$G41),IF($G41>=X$9,TREND(Y$8:Y$9,X$8:X$9,$G41),IF($G41>=X$10,TREND(Y$9:Y$10,X$9:X$10,$G41),IF($G41>=X$11,TREND(Y$10:Y$11,X$10:X$11,$G41),0)))))} -> 0 | AJ41: =DATE(RESULTS!J4,4,1) -> 46478 | AK41: =_xlfn.XLOOKUP(AJ41,A$27:A$36,B$27:B$36,0,0) -> 0 | AL41: =_xlfn.XLOOKUP(AJ41,A$15:A$24,B$15:B$24,1,0) -> 0.35 | AM41: =_xlfn.XLOOKUP(AJ41,A$27:A$36,B$27:B$36,0,-1) -> 0 | AN41: =AK41 -> 0 | AO41: =IF(AL41=1,AO42,AL41) -> 0.35
A42: =(IFERROR((I42*$H$3/$I$4),0)+IFERROR((N42*$M$3/$N$4),0)+IFERROR((S42*$R$3/$S$4),0)+IFERROR((X42*$W$3/$X$4),0))/($D$5/1000) -> 1 | G42: 0.01 | I42: {=IF($G42>=I$7,TREND(J$6:J$7,I$6:I$7,$G42),IF($G42>=I$8,TREND(J$7:J$8,I$7:I$8,$G42),IF($G42>=I$9,TREND(J$8:J$9,I$8:I$9,$G42),IF($G42>=I$10,TREND(J$9:J$10,I$9:I$10,$G42),IF($G42>=I$11,TREND(J$10:J$11,I$10:I$11,$G42),0)))))} -> 1 | N42: {=IF($G42>=N$7,TREND(O$6:O$7,N$6:N$7,$G42),IF($G42>=N$8,TREND(O$7:O$8,N$7:N$8,$G42),IF($G42>=N$9,TREND(O$8:O$9,N$8:N$9,$G42),IF($G42>=N$10,TREND(O$9:O$10,N$9:N$10,$G42),IF($G42>=N$11,TREND(O$10:O$11,N$10:N$11,$G42),0)))))} -> 1 | S42: {=IF($G42>=S$7,TREND(T$6:T$7,S$6:S$7,$G42),IF($G42>=S$8,TREND(T$7:T$8,S$7:S$8,$G42),IF($G42>=S$9,TREND(T$8:T$9,S$8:S$9,$G42),IF($G42>=S$10,TREND(T$9:T$10,S$9:S$10,$G42),IF($G42>=S$11,TREND(T$10:T$11,S$10:S$11,$G42),0)))))} -> 1 | X42: {=IF($G42>=X$7,TREND(Y$6:Y$7,X$6:X$7,$G42),IF($G42>=X$8,TREND(Y$7:Y$8,X$7:X$8,$G42),IF($G42>=X$9,TREND(Y$8:Y$9,X$8:X$9,$G42),IF($G42>=X$10,TREND(Y$9:Y$10,X$9:X$10,$G42),IF($G42>=X$11,TREND(Y$10:Y$11,X$10:X$11,$G42),0)))))} -> 0 | AJ42: =AJ41+1 -> 46479 | AK42: =_xlfn.XLOOKUP(AJ42,A$27:A$36,B$27:B$36,0,0) -> 0 | AL42: =_xlfn.XLOOKUP(AJ42,A$15:A$24,B$15:B$24,1,0) -> 1 | AM42: =_xlfn.XLOOKUP(AJ42,A$27:A$36,B$27:B$36,0,-1) -> 0 | AN42: =AK42 -> 0 | AO42: =IF(AL42=1,AO43,AL42) -> 0.85
A43: =(IFERROR((I43*$H$3/$I$4),0)+IFERROR((N43*$M$3/$N$4),0)+IFERROR((S43*$R$3/$S$4),0)+IFERROR((X43*$W$3/$X$4),0))/($D$5/1000) -> 1 | G43: 0.02 | I43: {=IF($G43>=I$7,TREND(J$6:J$7,I$6:I$7,$G43),IF($G43>=I$8,TREND(J$7:J$8,I$7:I$8,$G43),IF($G43>=I$9,TREND(J$8:J$9,I$8:I$9,$G43),IF($G43>=I$10,TREND(J$9:J$10,I$9:I$10,$G43),IF($G43>=I$11,TREND(J$10:J$11,I$10:I$11,$G43),0)))))} -> 1 | N43: {=IF($G43>=N$7,TREND(O$6:O$7,N$6:N$7,$G43),IF($G43>=N$8,TREND(O$7:O$8,N$7:N$8,$G43),IF($G43>=N$9,TREND(O$8:O$9,N$8:N$9,$G43),IF($G43>=N$10,TREND(O$9:O$10,N$9:N$10,$G43),IF($G43>=N$11,TREND(O$10:O$11,N$10:N$11,$G43),0)))))} -> 1 | S43: {=IF($G43>=S$7,TREND(T$6:T$7,S$6:S$7,$G43),IF($G43>=S$8,TREND(T$7:T$8,S$7:S$8,$G43),IF($G43>=S$9,TREND(T$8:T$9,S$8:S$9,$G43),IF($G43>=S$10,TREND(T$9:T$10,S$9:S$10,$G43),IF($G43>=S$11,TREND(T$10:T$11,S$10:S$11,$G43),0)))))} -> 1 | X43: {=IF($G43>=X$7,TREND(Y$6:Y$7,X$6:X$7,$G43),IF($G43>=X$8,TREND(Y$7:Y$8,X$7:X$8,$G43),IF($G43>=X$9,TREND(Y$8:Y$9,X$8:X$9,$G43),IF($G43>=X$10,TREND(Y$9:Y$10,X$9:X$10,$G43),IF($G43>=X$11,TREND(Y$10:Y$11,X$10:X$11,$G43),0)))))} -> 0 | AJ43: =AJ42+1 -> 46480 | AK43: =_xlfn.XLOOKUP(AJ43,A$27:A$36,B$27:B$36,0,0) -> 0 | AL43: =_xlfn.XLOOKUP(AJ43,A$15:A$24,B$15:B$24,1,0) -> 1 | AM43: =_xlfn.XLOOKUP(AJ43,A$27:A$36,B$27:B$36,0,-1) -> 0 | AN43: =AK43 -> 0 | AO43: =IF(AL43=1,AO44,AL43) -> 0.85
A44: =(IFERROR((I44*$H$3/$I$4),0)+IFERROR((N44*$M$3/$N$4),0)+IFERROR((S44*$R$3/$S$4),0)+IFERROR((X44*$W$3/$X$4),0))/($D$5/1000) -> 1 | G44: 0.03 | I44: {=IF($G44>=I$7,TREND(J$6:J$7,I$6:I$7,$G44),IF($G44>=I$8,TREND(J$7:J$8,I$7:I$8,$G44),IF($G44>=I$9,TREND(J$8:J$9,I$8:I$9,$G44),IF($G44>=I$10,TREND(J$9:J$10,I$9:I$10,$G44),IF($G44>=I$11,TREND(J$10:J$11,I$10:I$11,$G44),0)))))} -> 1 | N44: {=IF($G44>=N$7,TREND(O$6:O$7,N$6:N$7,$G44),IF($G44>=N$8,TREND(O$7:O$8,N$7:N$8,$G44),IF($G44>=N$9,TREND(O$8:O$9,N$8:N$9,$G44),IF($G44>=N$10,TREND(O$9:O$10,N$9:N$10,$G44),IF($G44>=N$11,TREND(O$10:O$11,N$10:N$11,$G44),0)))))} -> 1 | S44: {=IF($G44>=S$7,TREND(T$6:T$7,S$6:S$7,$G44),IF($G44>=S$8,TREND(T$7:T$8,S$7:S$8,$G44),IF($G44>=S$9,TREND(T$8:T$9,S$8:S$9,$G44),IF($G44>=S$10,TREND(T$9:T$10,S$9:S$10,$G44),IF($G44>=S$11,TREND(T$10:T$11,S$10:S$11,$G44),0)))))} -> 1 | X44: {=IF($G44>=X$7,TREND(Y$6:Y$7,X$6:X$7,$G44),IF($G44>=X$8,TREND(Y$7:Y$8,X$7:X$8,$G44),IF($G44>=X$9,TREND(Y$8:Y$9,X$8:X$9,$G44),IF($G44>=X$10,TREND(Y$9:Y$10,X$9:X$10,$G44),IF($G44>=X$11,TREND(Y$10:Y$11,X$10:X$11,$G44),0)))))} -> 0 | AJ44: =AJ43+1 -> 46481 | AK44: =_xlfn.XLOOKUP(AJ44,A$27:A$36,B$27:B$36,0,0) -> 0 | AL44: =_xlfn.XLOOKUP(AJ44,A$15:A$24,B$15:B$24,1,0) -> 1 | AM44: =_xlfn.XLOOKUP(AJ44,A$27:A$36,B$27:B$36,0,-1) -> 0 | AN44: =AK44 -> 0 | AO44: =IF(AL44=1,AO45,AL44) -> 0.85
A45: =(IFERROR((I45*$H$3/$I$4),0)+IFERROR((N45*$M$3/$N$4),0)+IFERROR((S45*$R$3/$S$4),0)+IFERROR((X45*$W$3/$X$4),0))/($D$5/1000) -> 1 | G45: 0.04 | I45: {=IF($G45>=I$7,TREND(J$6:J$7,I$6:I$7,$G45),IF($G45>=I$8,TREND(J$7:J$8,I$7:I$8,$G45),IF($G45>=I$9,TREND(J$8:J$9,I$8:I$9,$G45),IF($G45>=I$10,TREND(J$9:J$10,I$9:I$10,$G45),IF($G45>=I$11,TREND(J$10:J$11,I$10:I$11,$G45),0)))))} -> 1 | N45: {=IF($G45>=N$7,TREND(O$6:O$7,N$6:N$7,$G45),IF($G45>=N$8,TREND(O$7:O$8,N$7:N$8,$G45),IF($G45>=N$9,TREND(O$8:O$9,N$8:N$9,$G45),IF($G45>=N$10,TREND(O$9:O$10,N$9:N$10,$G45),IF($G45>=N$11,TREND(O$10:O$11,N$10:N$11,$G45),0)))))} -> 1 | S45: {=IF($G45>=S$7,TREND(T$6:T$7,S$6:S$7,$G45),IF($G45>=S$8,TREND(T$7:T$8,S$7:S$8,$G45),IF($G45>=S$9,TREND(T$8:T$9,S$8:S$9,$G45),IF($G45>=S$10,TREND(T$9:T$10,S$9:S$10,$G45),IF($G45>=S$11,TREND(T$10:T$11,S$10:S$11,$G45),0)))))} -> 1 | X45: {=IF($G45>=X$7,TREND(Y$6:Y$7,X$6:X$7,$G45),IF($G45>=X$8,TREND(Y$7:Y$8,X$7:X$8,$G45),IF($G45>=X$9,TREND(Y$8:Y$9,X$8:X$9,$G45),IF($G45>=X$10,TREND(Y$9:Y$10,X$9:X$10,$G45),IF($G45>=X$11,TREND(Y$10:Y$11,X$10:X$11,$G45),0)))))} -> 0 | AJ45: =AJ44+1 -> 46482 | AK45: =_xlfn.XLOOKUP(AJ45,A$27:A$36,B$27:B$36,0,0) -> 0 | AL45: =_xlfn.XLOOKUP(AJ45,A$15:A$24,B$15:B$24,1,0) -> 1 | AM45: =_xlfn.XLOOKUP(AJ45,A$27:A$36,B$27:B$36,0,-1) -> 0 | AN45: =AK45 -> 0 | AO45: =IF(AL45=1,AO46,AL45) -> 0.85
A46: =(IFERROR((I46*$H$3/$I$4),0)+IFERROR((N46*$M$3/$N$4),0)+IFERROR((S46*$R$3/$S$4),0)+IFERROR((X46*$W$3/$X$4),0))/($D$5/1000) -> 1 | G46: 0.05 | I46: {=IF($G46>=I$7,TREND(J$6:J$7,I$6:I$7,$G46),IF($G46>=I$8,TREND(J$7:J$8,I$7:I$8,$G46),IF($G46>=I$9,TREND(J$8:J$9,I$8:I$9,$G46),IF($G46>=I$10,TREND(J$9:J$10,I$9:I$10,$G46),IF($G46>=I$11,TREND(J$10:J$11,I$10:I$11,$G46),0)))))} -> 1 | N46: {=IF($G46>=N$7,TREND(O$6:O$7,N$6:N$7,$G46),IF($G46>=N$8,TREND(O$7:O$8,N$7:N$8,$G46),IF($G46>=N$9,TREND(O$8:O$9,N$8:N$9,$G46),IF($G46>=N$10,TREND(O$9:O$10,N$9:N$10,$G46),IF($G46>=N$11,TREND(O$10:O$11,N$10:N$11,$G46),0)))))} -> 1 | S46: {=IF($G46>=S$7,TREND(T$6:T$7,S$6:S$7,$G46),IF($G46>=S$8,TREND(T$7:T$8,S$7:S$8,$G46),IF($G46>=S$9,TREND(T$8:T$9,S$8:S$9,$G46),IF($G46>=S$10,TREND(T$9:T$10,S$9:S$10,$G46),IF($G46>=S$11,TREND(T$10:T$11,S$10:S$11,$G46),0)))))} -> 1 | X46: {=IF($G46>=X$7,TREND(Y$6:Y$7,X$6:X$7,$G46),IF($G46>=X$8,TREND(Y$7:Y$8,X$7:X$8,$G46),IF($G46>=X$9,TREND(Y$8:Y$9,X$8:X$9,$G46),IF($G46>=X$10,TREND(Y$9:Y$10,X$9:X$10,$G46),IF($G46>=X$11,TREND(Y$10:Y$11,X$10:X$11,$G46),0)))))} -> 0 | AJ46: =AJ45+1 -> 46483 | AK46: =_xlfn.XLOOKUP(AJ46,A$27:A$36,B$27:B$36,0,0) -> 0 | AL46: =_xlfn.XLOOKUP(AJ46,A$15:A$24,B$15:B$24,1,0) -> 1 | AM46: =_xlfn.XLOOKUP(AJ46,A$27:A$36,B$27:B$36,0,-1) -> 0 | AN46: =AK46 -> 0 | AO46: =IF(AL46=1,AO47,AL46) -> 0.85
A47: =(IFERROR((I47*$H$3/$I$4),0)+IFERROR((N47*$M$3/$N$4),0)+IFERROR((S47*$R$3/$S$4),0)+IFERROR((X47*$W$3/$X$4),0))/($D$5/1000) -> 1 | G47: 0.06 | I47: {=IF($G47>=I$7,TREND(J$6:J$7,I$6:I$7,$G47),IF($G47>=I$8,TREND(J$7:J$8,I$7:I$8,$G47),IF($G47>=I$9,TREND(J$8:J$9,I$8:I$9,$G47),IF($G47>=I$10,TREND(J$9:J$10,I$9:I$10,$G47),IF($G47>=I$11,TREND(J$10:J$11,I$10:I$11,$G47),0)))))} -> 1 | N47: {=IF($G47>=N$7,TREND(O$6:O$7,N$6:N$7,$G47),IF($G47>=N$8,TREND(O$7:O$8,N$7:N$8,$G47),IF($G47>=N$9,TREND(O$8:O$9,N$8:N$9,$G47),IF($G47>=N$10,TREND(O$9:O$10,N$9:N$10,$G47),IF($G47>=N$11,TREND(O$10:O$11,N$10:N$11,$G47),0)))))} -> 1 | S47: {=IF($G47>=S$7,TREND(T$6:T$7,S$6:S$7,$G47),IF($G47>=S$8,TREND(T$7:T$8,S$7:S$8,$G47),IF($G47>=S$9,TREND(T$8:T$9,S$8:S$9,$G47),IF($G47>=S$10,TREND(T$9:T$10,S$9:S$10,$G47),IF($G47>=S$11,TREND(T$10:T$11,S$10:S$11,$G47),0)))))} -> 1 | X47: {=IF($G47>=X$7,TREND(Y$6:Y$7,X$6:X$7,$G47),IF($G47>=X$8,TREND(Y$7:Y$8,X$7:X$8,$G47),IF($G47>=X$9,TREND(Y$8:Y$9,X$8:X$9,$G47),IF($G47>=X$10,TREND(Y$9:Y$10,X$9:X$10,$G47),IF($G47>=X$11,TREND(Y$10:Y$11,X$10:X$11,$G47),0)))))} -> 0 | AJ47: =AJ46+1 -> 46484 | AK47: =_xlfn.XLOOKUP(AJ47,A$27:A$36,B$27:B$36,0,0) -> 0 | AL47: =_xlfn.XLOOKUP(AJ47,A$15:A$24,B$15:B$24,1,0) -> 1 | AM47: =_xlfn.XLOOKUP(AJ47,A$27:A$36,B$27:B$36,0,-1) -> 0 | AN47: =AK47 -> 0 | AO47: =IF(AL47=1,AO48,AL47) -> 0.85
A48: =(IFERROR((I48*$H$3/$I$4),0)+IFERROR((N48*$M$3/$N$4),0)+IFERROR((S48*$R$3/$S$4),0)+IFERROR((X48*$W$3/$X$4),0))/($D$5/1000) -> 1 | G48: 0.07 | I48: {=IF($G48>=I$7,TREND(J$6:J$7,I$6:I$7,$G48),IF($G48>=I$8,TREND(J$7:J$8,I$7:I$8,$G48),IF($G48>=I$9,TREND(J$8:J$9,I$8:I$9,$G48),IF($G48>=I$10,TREND(J$9:J$10,I$9:I$10,$G48),IF($G48>=I$11,TREND(J$10:J$11,I$10:I$11,$G48),0)))))} -> 1 | N48: {=IF($G48>=N$7,TREND(O$6:O$7,N$6:N$7,$G48),IF($G48>=N$8,TREND(O$7:O$8,N$7:N$8,$G48),IF($G48>=N$9,TREND(O$8:O$9,N$8:N$9,$G48),IF($G48>=N$10,TREND(O$9:O$10,N$9:N$10,$G48),IF($G48>=N$11,TREND(O$10:O$11,N$10:N$11,$G48),0)))))} -> 1 | S48: {=IF($G48>=S$7,TREND(T$6:T$7,S$6:S$7,$G48),IF($G48>=S$8,TREND(T$7:T$8,S$7:S$8,$G48),IF($G48>=S$9,TREND(T$8:T$9,S$8:S$9,$G48),IF($G48>=S$10,TREND(T$9:T$10,S$9:S$10,$G48),IF($G48>=S$11,TREND(T$10:T$11,S$10:S$11,$G48),0)))))} -> 1 | X48: {=IF($G48>=X$7,TREND(Y$6:Y$7,X$6:X$7,$G48),IF($G48>=X$8,TREND(Y$7:Y$8,X$7:X$8,$G48),IF($G48>=X$9,TREND(Y$8:Y$9,X$8:X$9,$G48),IF($G48>=X$10,TREND(Y$9:Y$10,X$9:X$10,$G48),IF($G48>=X$11,TREND(Y$10:Y$11,X$10:X$11,$G48),0)))))} -> 0 | AJ48: =AJ47+1 -> 46485 | AK48: =_xlfn.XLOOKUP(AJ48,A$27:A$36,B$27:B$36,0,0) -> 0 | AL48: =_xlfn.XLOOKUP(AJ48,A$15:A$24,B$15:B$24,1,0) -> 1 | AM48: =_xlfn.XLOOKUP(AJ48,A$27:A$36,B$27:B$36,0,-1) -> 0 | AN48: =AK48 -> 0 | AO48: =IF(AL48=1,AO49,AL48) -> 0.85
A49: =(IFERROR((I49*$H$3/$I$4),0)+IFERROR((N49*$M$3/$N$4),0)+IFERROR((S49*$R$3/$S$4),0)+IFERROR((X49*$W$3/$X$4),0))/($D$5/1000) -> 1 | G49: 0.08 | I49: {=IF($G49>=I$7,TREND(J$6:J$7,I$6:I$7,$G49),IF($G49>=I$8,TREND(J$7:J$8,I$7:I$8,$G49),IF($G49>=I$9,TREND(J$8:J$9,I$8:I$9,$G49),IF($G49>=I$10,TREND(J$9:J$10,I$9:I$10,$G49),IF($G49>=I$11,TREND(J$10:J$11,I$10:I$11,$G49),0)))))} -> 1 | N49: {=IF($G49>=N$7,TREND(O$6:O$7,N$6:N$7,$G49),IF($G49>=N$8,TREND(O$7:O$8,N$7:N$8,$G49),IF($G49>=N$9,TREND(O$8:O$9,N$8:N$9,$G49),IF($G49>=N$10,TREND(O$9:O$10,N$9:N$10,$G49),IF($G49>=N$11,TREND(O$10:O$11,N$10:N$11,$G49),0)))))} -> 1 | S49: {=IF($G49>=S$7,TREND(T$6:T$7,S$6:S$7,$G49),IF($G49>=S$8,TREND(T$7:T$8,S$7:S$8,$G49),IF($G49>=S$9,TREND(T$8:T$9,S$8:S$9,$G49),IF($G49>=S$10,TREND(T$9:T$10,S$9:S$10,$G49),IF($G49>=S$11,TREND(T$10:T$11,S$10:S$11,$G49),0)))))} -> 1 | X49: {=IF($G49>=X$7,TREND(Y$6:Y$7,X$6:X$7,$G49),IF($G49>=X$8,TREND(Y$7:Y$8,X$7:X$8,$G49),IF($G49>=X$9,TREND(Y$8:Y$9,X$8:X$9,$G49),IF($G49>=X$10,TREND(Y$9:Y$10,X$9:X$10,$G49),IF($G49>=X$11,TREND(Y$10:Y$11,X$10:X$11,$G49),0)))))} -> 0 | AJ49: =AJ48+1 -> 46486 | AK49: =_xlfn.XLOOKUP(AJ49,A$27:A$36,B$27:B$36,0,0) -> 0 | AL49: =_xlfn.XLOOKUP(AJ49,A$15:A$24,B$15:B$24,1,0) -> 1 | AM49: =_xlfn.XLOOKUP(AJ49,A$27:A$36,B$27:B$36,0,-1) -> 0 | AN49: =AK49 -> 0 | AO49: =IF(AL49=1,AO50,AL49) -> 0.85
A50: =(IFERROR((I50*$H$3/$I$4),0)+IFERROR((N50*$M$3/$N$4),0)+IFERROR((S50*$R$3/$S$4),0)+IFERROR((X50*$W$3/$X$4),0))/($D$5/1000) -> 1 | G50: 0.09 | I50: {=IF($G50>=I$7,TREND(J$6:J$7,I$6:I$7,$G50),IF($G50>=I$8,TREND(J$7:J$8,I$7:I$8,$G50),IF($G50>=I$9,TREND(J$8:J$9,I$8:I$9,$G50),IF($G50>=I$10,TREND(J$9:J$10,I$9:I$10,$G50),IF($G50>=I$11,TREND(J$10:J$11,I$10:I$11,$G50),0)))))} -> 1 | N50: {=IF($G50>=N$7,TREND(O$6:O$7,N$6:N$7,$G50),IF($G50>=N$8,TREND(O$7:O$8,N$7:N$8,$G50),IF($G50>=N$9,TREND(O$8:O$9,N$8:N$9,$G50),IF($G50>=N$10,TREND(O$9:O$10,N$9:N$10,$G50),IF($G50>=N$11,TREND(O$10:O$11,N$10:N$11,$G50),0)))))} -> 1 | S50: {=IF($G50>=S$7,TREND(T$6:T$7,S$6:S$7,$G50),IF($G50>=S$8,TREND(T$7:T$8,S$7:S$8,$G50),IF($G50>=S$9,TREND(T$8:T$9,S$8:S$9,$G50),IF($G50>=S$10,TREND(T$9:T$10,S$9:S$10,$G50),IF($G50>=S$11,TREND(T$10:T$11,S$10:S$11,$G50),0)))))} -> 1 | X50: {=IF($G50>=X$7,TREND(Y$6:Y$7,X$6:X$7,$G50),IF($G50>=X$8,TREND(Y$7:Y$8,X$7:X$8,$G50),IF($G50>=X$9,TREND(Y$8:Y$9,X$8:X$9,$G50),IF($G50>=X$10,TREND(Y$9:Y$10,X$9:X$10,$G50),IF($G50>=X$11,TREND(Y$10:Y$11,X$10:X$11,$G50),0)))))} -> 0 | AJ50: =AJ49+1 -> 46487 | AK50: =_xlfn.XLOOKUP(AJ50,A$27:A$36,B$27:B$36,0,0) -> 0 | AL50: =_xlfn.XLOOKUP(AJ50,A$15:A$24,B$15:B$24,1,0) -> 1 | AM50: =_xlfn.XLOOKUP(AJ50,A$27:A$36,B$27:B$36,0,-1) -> 0 | AN50: =AK50 -> 0 | AO50: =IF(AL50=1,AO51,AL50) -> 0.85
A51: =(IFERROR((I51*$H$3/$I$4),0)+IFERROR((N51*$M$3/$N$4),0)+IFERROR((S51*$R$3/$S$4),0)+IFERROR((X51*$W$3/$X$4),0))/($D$5/1000) -> 1 | G51: 0.1 | I51: {=IF($G51>=I$7,TREND(J$6:J$7,I$6:I$7,$G51),IF($G51>=I$8,TREND(J$7:J$8,I$7:I$8,$G51),IF($G51>=I$9,TREND(J$8:J$9,I$8:I$9,$G51),IF($G51>=I$10,TREND(J$9:J$10,I$9:I$10,$G51),IF($G51>=I$11,TREND(J$10:J$11,I$10:I$11,$G51),0)))))} -> 1 | N51: {=IF($G51>=N$7,TREND(O$6:O$7,N$6:N$7,$G51),IF($G51>=N$8,TREND(O$7:O$8,N$7:N$8,$G51),IF($G51>=N$9,TREND(O$8:O$9,N$8:N$9,$G51),IF($G51>=N$10,TREND(O$9:O$10,N$9:N$10,$G51),IF($G51>=N$11,TREND(O$10:O$11,N$10:N$11,$G51),0)))))} -> 1 | S51: {=IF($G51>=S$7,TREND(T$6:T$7,S$6:S$7,$G51),IF($G51>=S$8,TREND(T$7:T$8,S$7:S$8,$G51),IF($G51>=S$9,TREND(T$8:T$9,S$8:S$9,$G51),IF($G51>=S$10,TREND(T$9:T$10,S$9:S$10,$G51),IF($G51>=S$11,TREND(T$10:T$11,S$10:S$11,$G51),0)))))} -> 1 | X51: {=IF($G51>=X$7,TREND(Y$6:Y$7,X$6:X$7,$G51),IF($G51>=X$8,TREND(Y$7:Y$8,X$7:X$8,$G51),IF($G51>=X$9,TREND(Y$8:Y$9,X$8:X$9,$G51),IF($G51>=X$10,TREND(Y$9:Y$10,X$9:X$10,$G51),IF($G51>=X$11,TREND(Y$10:Y$11,X$10:X$11,$G51),0)))))} -> 0 | AJ51: =AJ50+1 -> 46488 | AK51: =_xlfn.XLOOKUP(AJ51,A$27:A$36,B$27:B$36,0,0) -> 0 | AL51: =_xlfn.XLOOKUP(AJ51,A$15:A$24,B$15:B$24,1,0) -> 1 | AM51: =_xlfn.XLOOKUP(AJ51,A$27:A$36,B$27:B$36,0,-1) -> 0 | AN51: =AK51 -> 0 | AO51: =IF(AL51=1,AO52,AL51) -> 0.85
A52: =(IFERROR((I52*$H$3/$I$4),0)+IFERROR((N52*$M$3/$N$4),0)+IFERROR((S52*$R$3/$S$4),0)+IFERROR((X52*$W$3/$X$4),0))/($D$5/1000) -> 1 | G52: 0.11 | I52: {=IF($G52>=I$7,TREND(J$6:J$7,I$6:I$7,$G52),IF($G52>=I$8,TREND(J$7:J$8,I$7:I$8,$G52),IF($G52>=I$9,TREND(J$8:J$9,I$8:I$9,$G52),IF($G52>=I$10,TREND(J$9:J$10,I$9:I$10,$G52),IF($G52>=I$11,TREND(J$10:J$11,I$10:I$11,$G52),0)))))} -> 1 | N52: {=IF($G52>=N$7,TREND(O$6:O$7,N$6:N$7,$G52),IF($G52>=N$8,TREND(O$7:O$8,N$7:N$8,$G52),IF($G52>=N$9,TREND(O$8:O$9,N$8:N$9,$G52),IF($G52>=N$10,TREND(O$9:O$10,N$9:N$10,$G52),IF($G52>=N$11,TREND(O$10:O$11,N$10:N$11,$G52),0)))))} -> 1 | S52: {=IF($G52>=S$7,TREND(T$6:T$7,S$6:S$7,$G52),IF($G52>=S$8,TREND(T$7:T$8,S$7:S$8,$G52),IF($G52>=S$9,TREND(T$8:T$9,S$8:S$9,$G52),IF($G52>=S$10,TREND(T$9:T$10,S$9:S$10,$G52),IF($G52>=S$11,TREND(T$10:T$11,S$10:S$11,$G52),0)))))} -> 1 | X52: {=IF($G52>=X$7,TREND(Y$6:Y$7,X$6:X$7,$G52),IF($G52>=X$8,TREND(Y$7:Y$8,X$7:X$8,$G52),IF($G52>=X$9,TREND(Y$8:Y$9,X$8:X$9,$G52),IF($G52>=X$10,TREND(Y$9:Y$10,X$9:X$10,$G52),IF($G52>=X$11,TREND(Y$10:Y$11,X$10:X$11,$G52),0)))))} -> 0 | AJ52: =AJ51+1 -> 46489 | AK52: =_xlfn.XLOOKUP(AJ52,A$27:A$36,B$27:B$36,0,0) -> 0 | AL52: =_xlfn.XLOOKUP(AJ52,A$15:A$24,B$15:B$24,1,0) -> 1 | AM52: =_xlfn.XLOOKUP(AJ52,A$27:A$36,B$27:B$36,0,-1) -> 0 | AN52: =AK52 -> 0 | AO52: =IF(AL52=1,AO53,AL52) -> 0.85
A53: =(IFERROR((I53*$H$3/$I$4),0)+IFERROR((N53*$M$3/$N$4),0)+IFERROR((S53*$R$3/$S$4),0)+IFERROR((X53*$W$3/$X$4),0))/($D$5/1000) -> 1 | G53: 0.12 | I53: {=IF($G53>=I$7,TREND(J$6:J$7,I$6:I$7,$G53),IF($G53>=I$8,TREND(J$7:J$8,I$7:I$8,$G53),IF($G53>=I$9,TREND(J$8:J$9,I$8:I$9,$G53),IF($G53>=I$10,TREND(J$9:J$10,I$9:I$10,$G53),IF($G53>=I$11,TREND(J$10:J$11,I$10:I$11,$G53),0)))))} -> 1 | N53: {=IF($G53>=N$7,TREND(O$6:O$7,N$6:N$7,$G53),IF($G53>=N$8,TREND(O$7:O$8,N$7:N$8,$G53),IF($G53>=N$9,TREND(O$8:O$9,N$8:N$9,$G53),IF($G53>=N$10,TREND(O$9:O$10,N$9:N$10,$G53),IF($G53>=N$11,TREND(O$10:O$11,N$10:N$11,$G53),0)))))} -> 1 | S53: {=IF($G53>=S$7,TREND(T$6:T$7,S$6:S$7,$G53),IF($G53>=S$8,TREND(T$7:T$8,S$7:S$8,$G53),IF($G53>=S$9,TREND(T$8:T$9,S$8:S$9,$G53),IF($G53>=S$10,TREND(T$9:T$10,S$9:S$10,$G53),IF($G53>=S$11,TREND(T$10:T$11,S$10:S$11,$G53),0)))))} -> 1 | X53: {=IF($G53>=X$7,TREND(Y$6:Y$7,X$6:X$7,$G53),IF($G53>=X$8,TREND(Y$7:Y$8,X$7:X$8,$G53),IF($G53>=X$9,TREND(Y$8:Y$9,X$8:X$9,$G53),IF($G53>=X$10,TREND(Y$9:Y$10,X$9:X$10,$G53),IF($G53>=X$11,TREND(Y$10:Y$11,X$10:X$11,$G53),0)))))} -> 0 | AJ53: =AJ52+1 -> 46490 | AK53: =_xlfn.XLOOKUP(AJ53,A$27:A$36,B$27:B$36,0,0) -> 0 | AL53: =_xlfn.XLOOKUP(AJ53,A$15:A$24,B$15:B$24,1,0) -> 1 | AM53: =_xlfn.XLOOKUP(AJ53,A$27:A$36,B$27:B$36,0,-1) -> 0 | AN53: =AK53 -> 0 | AO53: =IF(AL53=1,AO54,AL53) -> 0.85
... A141: =(IFERROR((I141*$H$3/$I$4),0)+IFERROR((N141*$M$3/$N$4),0)+IFERROR((S141*$R$3/$S$4),0)+IFERROR((X141*$W$3/$X$4),0))/($D$5/1000) -> 0.8 | G141: 1 | I141: {=IF($G141>=I$7,TREND(J$6:J$7,I$6:I$7,$G141),IF($G141>=I$8,TREND(J$7:J$8,I$7:I$8,$G141),IF($G141>=I$9,TREND(J$8:J$9,I$8:I$9,$G141),IF($G141>=I$10,TREND(J$9:J$10,I$9:I$10,$G141),IF($G141>=I$11,TREND(J$10:J$11,I$10:I$11,$G141),0)))))} -> 0.8 | N141: {=IF($G141>=N$7,TREND(O$6:O$7,N$6:N$7,$G141),IF($G141>=N$8,TREND(O$7:O$8,N$7:N$8,$G141),IF($G141>=N$9,TREND(O$8:O$9,N$8:N$9,$G141),IF($G141>=N$10,TREND(O$9:O$10,N$9:N$10,$G141),IF($G141>=N$11,TREND(O$10:O$11,N$10:N$11,$G141),0)))))} -> 0.8 | S141: {=IF($G141>=S$7,TREND(T$6:T$7,S$6:S$7,$G141),IF($G141>=S$8,TREND(T$7:T$8,S$7:S$8,$G141),IF($G141>=S$9,TREND(T$8:T$9,S$8:S$9,$G141),IF($G141>=S$10,TREND(T$9:T$10,S$9:S$10,$G141),IF($G141>=S$11,TREND(T$10:T$11,S$10:S$11,$G141),0)))))} -> 0.8 | X141: {=IF($G141>=X$7,TREND(Y$6:Y$7,X$6:X$7,$G141),IF($G141>=X$8,TREND(Y$7:Y$8,X$7:X$8,$G141),IF($G141>=X$9,TREND(Y$8:Y$9,X$8:X$9,$G141),IF($G141>=X$10,TREND(Y$9:Y$10,X$9:X$10,$G141),IF($G141>=X$11,TREND(Y$10:Y$11,X$10:X$11,$G141),0)))))} -> 0 | AJ141: =AJ140+1 -> 46578 | AK141: =_xlfn.XLOOKUP(AJ141,A$27:A$36,B$27:B$36,0,0) -> 0 | AL141: =_xlfn.XLOOKUP(AJ141,A$15:A$24,B$15:B$24,1,0) -> 1 | AM141: =_xlfn.XLOOKUP(AJ141,A$27:A$36,B$27:B$36,0,-1) -> 0 | AN141: =AK141 -> 0 | AO141: =IF(AL141=1,AO142,AL141) -> 0.85
AJ142: =AJ141+1 -> 46579 | AK142: =_xlfn.XLOOKUP(AJ142,A$27:A$36,B$27:B$36,0,0) -> 0 | AL142: =_xlfn.XLOOKUP(AJ142,A$15:A$24,B$15:B$24,1,0) -> 1 | AM142: =_xlfn.XLOOKUP(AJ142,A$27:A$36,B$27:B$36,0,-1) -> 0 | AN142: =AK142 -> 0 | AO142: =IF(AL142=1,AO143,AL142) -> 0.85
AJ143: =AJ142+1 -> 46580 | AK143: =_xlfn.XLOOKUP(AJ143,A$27:A$36,B$27:B$36,0,0) -> 0 | AL143: =_xlfn.XLOOKUP(AJ143,A$15:A$24,B$15:B$24,1,0) -> 1 | AM143: =_xlfn.XLOOKUP(AJ143,A$27:A$36,B$27:B$36,0,-1) -> 0 | AN143: =AK143 -> 0 | AO143: =IF(AL143=1,AO144,AL143) -> 0.85
AJ144: =AJ143+1 -> 46581 | AK144: =_xlfn.XLOOKUP(AJ144,A$27:A$36,B$27:B$36,0,0) -> 0 | AL144: =_xlfn.XLOOKUP(AJ144,A$15:A$24,B$15:B$24,1,0) -> 1 | AM144: =_xlfn.XLOOKUP(AJ144,A$27:A$36,B$27:B$36,0,-1) -> 0 | AN144: =AK144 -> 0 | AO144: =IF(AL144=1,AO145,AL144) -> 0.85
AJ145: =AJ144+1 -> 46582 | AK145: =_xlfn.XLOOKUP(AJ145,A$27:A$36,B$27:B$36,0,0) -> 0 | AL145: =_xlfn.XLOOKUP(AJ145,A$15:A$24,B$15:B$24,1,0) -> 1 | AM145: =_xlfn.XLOOKUP(AJ145,A$27:A$36,B$27:B$36,0,-1) -> 0 | AN145: =AK145 -> 0 | AO145: =IF(AL145=1,AO146,AL145) -> 0.85
AJ146: =AJ145+1 -> 46583 | AK146: =_xlfn.XLOOKUP(AJ146,A$27:A$36,B$27:B$36,0,0) -> 0 | AL146: =_xlfn.XLOOKUP(AJ146,A$15:A$24,B$15:B$24,1,0) -> 1 | AM146: =_xlfn.XLOOKUP(AJ146,A$27:A$36,B$27:B$36,0,-1) -> 0 | AN146: =AK146 -> 0 | AO146: =IF(AL146=1,AO147,AL146) -> 0.85
AJ147: =AJ146+1 -> 46584 | AK147: =_xlfn.XLOOKUP(AJ147,A$27:A$36,B$27:B$36,0,0) -> 0 | AL147: =_xlfn.XLOOKUP(AJ147,A$15:A$24,B$15:B$24,1,0) -> 1 | AM147: =_xlfn.XLOOKUP(AJ147,A$27:A$36,B$27:B$36,0,-1) -> 0 | AN147: =AK147 -> 0 | AO147: =IF(AL147=1,AO148,AL147) -> 0.85
AJ148: =AJ147+1 -> 46585 | AK148: =_xlfn.XLOOKUP(AJ148,A$27:A$36,B$27:B$36,0,0) -> 0 | AL148: =_xlfn.XLOOKUP(AJ148,A$15:A$24,B$15:B$24,1,0) -> 1 | AM148: =_xlfn.XLOOKUP(AJ148,A$27:A$36,B$27:B$36,0,-1) -> 0 | AN148: =AK148 -> 0 | AO148: =IF(AL148=1,AO149,AL148) -> 0.85
AJ149: =AJ148+1 -> 46586 | AK149: =_xlfn.XLOOKUP(AJ149,A$27:A$36,B$27:B$36,0,0) -> 0 | AL149: =_xlfn.XLOOKUP(AJ149,A$15:A$24,B$15:B$24,1,0) -> 1 | AM149: =_xlfn.XLOOKUP(AJ149,A$27:A$36,B$27:B$36,0,-1) -> 0 | AN149: =AK149 -> 0 | AO149: =IF(AL149=1,AO150,AL149) -> 0.85
AJ150: =AJ149+1 -> 46587 | AK150: =_xlfn.XLOOKUP(AJ150,A$27:A$36,B$27:B$36,0,0) -> 0 | AL150: =_xlfn.XLOOKUP(AJ150,A$15:A$24,B$15:B$24,1,0) -> 1 | AM150: =_xlfn.XLOOKUP(AJ150,A$27:A$36,B$27:B$36,0,-1) -> 0 | AN150: =AK150 -> 0 | AO150: =IF(AL150=1,AO151,AL150) -> 0.85
AJ151: =AJ150+1 -> 46588 | AK151: =_xlfn.XLOOKUP(AJ151,A$27:A$36,B$27:B$36,0,0) -> 0 | AL151: =_xlfn.XLOOKUP(AJ151,A$15:A$24,B$15:B$24,1,0) -> 1 | AM151: =_xlfn.XLOOKUP(AJ151,A$27:A$36,B$27:B$36,0,-1) -> 0 | AN151: =AK151 -> 0 | AO151: =IF(AL151=1,AO152,AL151) -> 0.85
AJ152: =AJ151+1 -> 46589 | AK152: =_xlfn.XLOOKUP(AJ152,A$27:A$36,B$27:B$36,0,0) -> 0 | AL152: =_xlfn.XLOOKUP(AJ152,A$15:A$24,B$15:B$24,1,0) -> 1 | AM152: =_xlfn.XLOOKUP(AJ152,A$27:A$36,B$27:B$36,0,-1) -> 0 | AN152: =AK152 -> 0 | AO152: =IF(AL152=1,AO153,AL152) -> 0.85
AJ153: =AJ152+1 -> 46590 | AK153: =_xlfn.XLOOKUP(AJ153,A$27:A$36,B$27:B$36,0,0) -> 0 | AL153: =_xlfn.XLOOKUP(AJ153,A$15:A$24,B$15:B$24,1,0) -> 1 | AM153: =_xlfn.XLOOKUP(AJ153,A$27:A$36,B$27:B$36,0,-1) -> 0 | AN153: =AK153 -> 0 | AO153: =IF(AL153=1,AO154,AL153) -> 0.85
... AJ162: =AJ161+1 -> 46599 | AK162: =_xlfn.XLOOKUP(AJ162,A$27:A$36,B$27:B$36,0,0) -> 0 | AL162: =_xlfn.XLOOKUP(AJ162,A$15:A$24,B$15:B$24,1,0) -> 0.85 | AM162: =_xlfn.XLOOKUP(AJ162,A$27:A$36,B$27:B$36,0,-1) -> 0 | AN162: =AK162 -> 0 | AO162: =IF(AL162=1,AO163,AL162) -> 0.85
AJ163: =AJ162+1 -> 46600 | AK163: =_xlfn.XLOOKUP(AJ163,A$27:A$36,B$27:B$36,0,0) -> 0 | AL163: =_xlfn.XLOOKUP(AJ163,A$15:A$24,B$15:B$24,1,0) -> 1 | AM163: =_xlfn.XLOOKUP(AJ163,A$27:A$36,B$27:B$36,0,-1) -> 0 | AN163: =AK163 -> 0 | AO163: =AO164 -> 0.95
AJ164: =AJ163+1 -> 46601 | AK164: =_xlfn.XLOOKUP(AJ164,A$27:A$36,B$27:B$36,0,0) -> 0 | AL164: =_xlfn.XLOOKUP(AJ164,A$15:A$24,B$15:B$24,1,0) -> 1 | AM164: =_xlfn.XLOOKUP(AJ164,A$27:A$36,B$27:B$36,0,-1) -> 0 | AN164: =AK164 -> 0 | AO164: =IF(AL164=1,AO165,AL164) -> 0.95
AJ165: =AJ164+1 -> 46602 | AK165: =_xlfn.XLOOKUP(AJ165,A$27:A$36,B$27:B$36,0,0) -> 0 | AL165: =_xlfn.XLOOKUP(AJ165,A$15:A$24,B$15:B$24,1,0) -> 1 | AM165: =_xlfn.XLOOKUP(AJ165,A$27:A$36,B$27:B$36,0,-1) -> 0 | AN165: =AK165 -> 0 | AO165: =IF(AL165=1,AO166,AL165) -> 0.95
AJ166: =AJ165+1 -> 46603 | AK166: =_xlfn.XLOOKUP(AJ166,A$27:A$36,B$27:B$36,0,0) -> 0 | AL166: =_xlfn.XLOOKUP(AJ166,A$15:A$24,B$15:B$24,1,0) -> 1 | AM166: =_xlfn.XLOOKUP(AJ166,A$27:A$36,B$27:B$36,0,-1) -> 0 | AN166: =AK166 -> 0 | AO166: =IF(AL166=1,AO167,AL166) -> 0.95
AJ167: =AJ166+1 -> 46604 | AK167: =_xlfn.XLOOKUP(AJ167,A$27:A$36,B$27:B$36,0,0) -> 0 | AL167: =_xlfn.XLOOKUP(AJ167,A$15:A$24,B$15:B$24,1,0) -> 1 | AM167: =_xlfn.XLOOKUP(AJ167,A$27:A$36,B$27:B$36,0,-1) -> 0 | AN167: =AK167 -> 0 | AO167: =IF(AL167=1,AO168,AL167) -> 0.95
AJ168: =AJ167+1 -> 46605 | AK168: =_xlfn.XLOOKUP(AJ168,A$27:A$36,B$27:B$36,0,0) -> 0 | AL168: =_xlfn.XLOOKUP(AJ168,A$15:A$24,B$15:B$24,1,0) -> 1 | AM168: =_xlfn.XLOOKUP(AJ168,A$27:A$36,B$27:B$36,0,-1) -> 0 | AN168: =AK168 -> 0 | AO168: =IF(AL168=1,AO169,AL168) -> 0.95
AJ169: =AJ168+1 -> 46606 | AK169: =_xlfn.XLOOKUP(AJ169,A$27:A$36,B$27:B$36,0,0) -> 0 | AL169: =_xlfn.XLOOKUP(AJ169,A$15:A$24,B$15:B$24,1,0) -> 1 | AM169: =_xlfn.XLOOKUP(AJ169,A$27:A$36,B$27:B$36,0,-1) -> 0 | AN169: =AK169 -> 0 | AO169: =IF(AL169=1,AO170,AL169) -> 0.95
AJ170: =AJ169+1 -> 46607 | AK170: =_xlfn.XLOOKUP(AJ170,A$27:A$36,B$27:B$36,0,0) -> 0 | AL170: =_xlfn.XLOOKUP(AJ170,A$15:A$24,B$15:B$24,1,0) -> 1 | AM170: =_xlfn.XLOOKUP(AJ170,A$27:A$36,B$27:B$36,0,-1) -> 0 | AN170: =AK170 -> 0 | AO170: =IF(AL170=1,AO171,AL170) -> 0.95
AJ171: =AJ170+1 -> 46608 | AK171: =_xlfn.XLOOKUP(AJ171,A$27:A$36,B$27:B$36,0,0) -> 0 | AL171: =_xlfn.XLOOKUP(AJ171,A$15:A$24,B$15:B$24,1,0) -> 1 | AM171: =_xlfn.XLOOKUP(AJ171,A$27:A$36,B$27:B$36,0,-1) -> 0 | AN171: =AK171 -> 0 | AO171: =IF(AL171=1,AO172,AL171) -> 0.95
AJ172: =AJ171+1 -> 46609 | AK172: =_xlfn.XLOOKUP(AJ172,A$27:A$36,B$27:B$36,0,0) -> 0 | AL172: =_xlfn.XLOOKUP(AJ172,A$15:A$24,B$15:B$24,1,0) -> 1 | AM172: =_xlfn.XLOOKUP(AJ172,A$27:A$36,B$27:B$36,0,-1) -> 0 | AN172: =AK172 -> 0 | AO172: =IF(AL172=1,AO173,AL172) -> 0.95
AJ173: =AJ172+1 -> 46610 | AK173: =_xlfn.XLOOKUP(AJ173,A$27:A$36,B$27:B$36,0,0) -> 0 | AL173: =_xlfn.XLOOKUP(AJ173,A$15:A$24,B$15:B$24,1,0) -> 1 | AM173: =_xlfn.XLOOKUP(AJ173,A$27:A$36,B$27:B$36,0,-1) -> 0 | AN173: =AK173 -> 0 | AO173: =IF(AL173=1,AO174,AL173) -> 0.95
AJ174: =AJ173+1 -> 46611 | AK174: =_xlfn.XLOOKUP(AJ174,A$27:A$36,B$27:B$36,0,0) -> 0 | AL174: =_xlfn.XLOOKUP(AJ174,A$15:A$24,B$15:B$24,1,0) -> 1 | AM174: =_xlfn.XLOOKUP(AJ174,A$27:A$36,B$27:B$36,0,-1) -> 0 | AN174: =AK174 -> 0 | AO174: =IF(AL174=1,AO175,AL174) -> 0.95
AJ175: =AJ174+1 -> 46612 | AK175: =_xlfn.XLOOKUP(AJ175,A$27:A$36,B$27:B$36,0,0) -> 0 | AL175: =_xlfn.XLOOKUP(AJ175,A$15:A$24,B$15:B$24,1,0) -> 1 | AM175: =_xlfn.XLOOKUP(AJ175,A$27:A$36,B$27:B$36,0,-1) -> 0 | AN175: =AK175 -> 0 | AO175: =IF(AL175=1,AO176,AL175) -> 0.95
... AJ223: =AJ222+1 -> 46660 | AK223: =_xlfn.XLOOKUP(AJ223,A$27:A$36,B$27:B$36,0,0) -> 0.9 | AL223: =_xlfn.XLOOKUP(AJ223,A$15:A$24,B$15:B$24,1,0) -> 1 | AM223: =_xlfn.XLOOKUP(AJ223,A$27:A$36,B$27:B$36,0,-1) -> 0.9 | AN223: =AK223 -> 0.9 | AO223: =IF(AL223=1,AO224,AL223) -> 1
AJ224: =AJ223+1 -> 46661 | AK224: =_xlfn.XLOOKUP(AJ224,A$27:A$36,B$27:B$36,0,0) -> 0 | AL224: =_xlfn.XLOOKUP(AJ224,A$15:A$24,B$15:B$24,1,0) -> 1 | AM224: =_xlfn.XLOOKUP(AJ224,A$27:A$36,B$27:B$36,0,-1) -> 0 | AN224: =AN225 -> 0.85 | AO224: =IF(AL224=1,AO225,AL224) -> 1
AJ225: =AJ224+1 -> 46662 | AK225: =_xlfn.XLOOKUP(AJ225,A$27:A$36,B$27:B$36,0,0) -> 0 | AL225: =_xlfn.XLOOKUP(AJ225,A$15:A$24,B$15:B$24,1,0) -> 1 | AM225: =_xlfn.XLOOKUP(AJ225,A$27:A$36,B$27:B$36,0,-1) -> 0 | AN225: =_xlfn.XLOOKUP(AJ225,A$27:A$36,B$27:B$36,0,1) -> 0.85 | AO225: =IF(AL225=1,AO226,AL225) -> 1
AJ226: =AJ225+1 -> 46663 | AK226: =_xlfn.XLOOKUP(AJ226,A$27:A$36,B$27:B$36,0,0) -> 0 | AL226: =_xlfn.XLOOKUP(AJ226,A$15:A$24,B$15:B$24,1,0) -> 1 | AM226: =_xlfn.XLOOKUP(AJ226,A$27:A$36,B$27:B$36,0,-1) -> 0 | AN226: =_xlfn.XLOOKUP(AJ226,A$27:A$36,B$27:B$36,0,1) -> 0.85 | AO226: =IF(AL226=1,AO227,AL226) -> 1
AJ227: =AJ226+1 -> 46664 | AK227: =_xlfn.XLOOKUP(AJ227,A$27:A$36,B$27:B$36,0,0) -> 0 | AL227: =_xlfn.XLOOKUP(AJ227,A$15:A$24,B$15:B$24,1,0) -> 1 | AM227: =_xlfn.XLOOKUP(AJ227,A$27:A$36,B$27:B$36,0,-1) -> 0 | AN227: =_xlfn.XLOOKUP(AJ227,A$27:A$36,B$27:B$36,0,1) -> 0.85 | AO227: =IF(AL227=1,AO228,AL227) -> 1
AJ228: =AJ227+1 -> 46665 | AK228: =_xlfn.XLOOKUP(AJ228,A$27:A$36,B$27:B$36,0,0) -> 0 | AL228: =_xlfn.XLOOKUP(AJ228,A$15:A$24,B$15:B$24,1,0) -> 1 | AM228: =_xlfn.XLOOKUP(AJ228,A$27:A$36,B$27:B$36,0,-1) -> 0 | AN228: =_xlfn.XLOOKUP(AJ228,A$27:A$36,B$27:B$36,0,1) -> 0.85 | AO228: =IF(AL228=1,AO229,AL228) -> 1
AJ229: =AJ228+1 -> 46666 | AK229: =_xlfn.XLOOKUP(AJ229,A$27:A$36,B$27:B$36,0,0) -> 0 | AL229: =_xlfn.XLOOKUP(AJ229,A$15:A$24,B$15:B$24,1,0) -> 1 | AM229: =_xlfn.XLOOKUP(AJ229,A$27:A$36,B$27:B$36,0,-1) -> 0 | AN229: =_xlfn.XLOOKUP(AJ229,A$27:A$36,B$27:B$36,0,1) -> 0.85 | AO229: =IF(AL229=1,AO230,AL229) -> 1
AJ230: =AJ229+1 -> 46667 | AK230: =_xlfn.XLOOKUP(AJ230,A$27:A$36,B$27:B$36,0,0) -> 0 | AL230: =_xlfn.XLOOKUP(AJ230,A$15:A$24,B$15:B$24,1,0) -> 1 | AM230: =_xlfn.XLOOKUP(AJ230,A$27:A$36,B$27:B$36,0,-1) -> 0 | AN230: =_xlfn.XLOOKUP(AJ230,A$27:A$36,B$27:B$36,0,1) -> 0.85 | AO230: =IF(AL230=1,AO231,AL230) -> 1
AJ231: =AJ230+1 -> 46668 | AK231: =_xlfn.XLOOKUP(AJ231,A$27:A$36,B$27:B$36,0,0) -> 0 | AL231: =_xlfn.XLOOKUP(AJ231,A$15:A$24,B$15:B$24,1,0) -> 1 | AM231: =_xlfn.XLOOKUP(AJ231,A$27:A$36,B$27:B$36,0,-1) -> 0 | AN231: =_xlfn.XLOOKUP(AJ231,A$27:A$36,B$27:B$36,0,1) -> 0.85 | AO231: =IF(AL231=1,AO232,AL231) -> 1
AJ232: =AJ231+1 -> 46669 | AK232: =_xlfn.XLOOKUP(AJ232,A$27:A$36,B$27:B$36,0,0) -> 0 | AL232: =_xlfn.XLOOKUP(AJ232,A$15:A$24,B$15:B$24,1,0) -> 1 | AM232: =_xlfn.XLOOKUP(AJ232,A$27:A$36,B$27:B$36,0,-1) -> 0 | AN232: =_xlfn.XLOOKUP(AJ232,A$27:A$36,B$27:B$36,0,1) -> 0.85 | AO232: =IF(AL232=1,AO233,AL232) -> 1
AJ233: =AJ232+1 -> 46670 | AK233: =_xlfn.XLOOKUP(AJ233,A$27:A$36,B$27:B$36,0,0) -> 0 | AL233: =_xlfn.XLOOKUP(AJ233,A$15:A$24,B$15:B$24,1,0) -> 1 | AM233: =_xlfn.XLOOKUP(AJ233,A$27:A$36,B$27:B$36,0,-1) -> 0 | AN233: =_xlfn.XLOOKUP(AJ233,A$27:A$36,B$27:B$36,0,1) -> 0.85 | AO233: =IF(AL233=1,AO234,AL233) -> 1
AJ234: =AJ233+1 -> 46671 | AK234: =_xlfn.XLOOKUP(AJ234,A$27:A$36,B$27:B$36,0,0) -> 0 | AL234: =_xlfn.XLOOKUP(AJ234,A$15:A$24,B$15:B$24,1,0) -> 1 | AM234: =_xlfn.XLOOKUP(AJ234,A$27:A$36,B$27:B$36,0,-1) -> 0 | AN234: =_xlfn.XLOOKUP(AJ234,A$27:A$36,B$27:B$36,0,1) -> 0.85 | AO234: =IF(AL234=1,AO235,AL234) -> 1
AJ235: =AJ234+1 -> 46672 | AK235: =_xlfn.XLOOKUP(AJ235,A$27:A$36,B$27:B$36,0,0) -> 0 | AL235: =_xlfn.XLOOKUP(AJ235,A$15:A$24,B$15:B$24,1,0) -> 1 | AM235: =_xlfn.XLOOKUP(AJ235,A$27:A$36,B$27:B$36,0,-1) -> 0 | AN235: =_xlfn.XLOOKUP(AJ235,A$27:A$36,B$27:B$36,0,1) -> 0.85 | AO235: =IF(AL235=1,AO236,AL235) -> 1
AJ236: =AJ235+1 -> 46673 | AK236: =_xlfn.XLOOKUP(AJ236,A$27:A$36,B$27:B$36,0,0) -> 0 | AL236: =_xlfn.XLOOKUP(AJ236,A$15:A$24,B$15:B$24,1,0) -> 1 | AM236: =_xlfn.XLOOKUP(AJ236,A$27:A$36,B$27:B$36,0,-1) -> 0 | AN236: =_xlfn.XLOOKUP(AJ236,A$27:A$36,B$27:B$36,0,1) -> 0.85 | AO236: =IF(AL236=1,AO237,AL236) -> 1
... AJ254: =AJ253+1 -> 46691 | AK254: =_xlfn.XLOOKUP(AJ254,A$27:A$36,B$27:B$36,0,0) -> 0.85 | AL254: =_xlfn.XLOOKUP(AJ254,A$15:A$24,B$15:B$24,1,0) -> 1 | AM254: =_xlfn.XLOOKUP(AJ254,A$27:A$36,B$27:B$36,0,-1) -> 0.85 | AN254: =_xlfn.XLOOKUP(AJ254,A$27:A$36,B$27:B$36,0,1) -> 0.85 | AO254: =IF(AL254=1,AO255,AL254) -> 1
AJ255: =AJ254+1 -> 46692 | AK255: =_xlfn.XLOOKUP(AJ255,A$27:A$36,B$27:B$36,0,0) -> 0 | AL255: =_xlfn.XLOOKUP(AJ255,A$15:A$24,B$15:B$24,1,0) -> 1 | AM255: =_xlfn.XLOOKUP(AJ255,A$27:A$36,B$27:B$36,0,-1) -> 0 | AN255: =_xlfn.XLOOKUP(AJ255,A$27:A$36,B$27:B$36,0,1) -> 0 | AO255: =AL255 -> 1
AJ256: =AJ255+1 -> 46693 | AK256: =_xlfn.XLOOKUP(AJ256,A$27:A$36,B$27:B$36,0,0) -> 0 | AL256: =_xlfn.XLOOKUP(AJ256,A$15:A$24,B$15:B$24,1,0) -> 1 | AM256: =_xlfn.XLOOKUP(AJ256,A$27:A$36,B$27:B$36,0,-1) -> 0 | AN256: =_xlfn.XLOOKUP(AJ256,A$27:A$36,B$27:B$36,0,1) -> 0 | AO256: =AL256 -> 1
AJ257: =AJ256+1 -> 46694 | AK257: =_xlfn.XLOOKUP(AJ257,A$27:A$36,B$27:B$36,0,0) -> 0 | AL257: =_xlfn.XLOOKUP(AJ257,A$15:A$24,B$15:B$24,1,0) -> 1 | AM257: =_xlfn.XLOOKUP(AJ257,A$27:A$36,B$27:B$36,0,-1) -> 0 | AN257: =_xlfn.XLOOKUP(AJ257,A$27:A$36,B$27:B$36,0,1) -> 0 | AO257: =AL257 -> 1
AJ258: =AJ257+1 -> 46695 | AK258: =_xlfn.XLOOKUP(AJ258,A$27:A$36,B$27:B$36,0,0) -> 0 | AL258: =_xlfn.XLOOKUP(AJ258,A$15:A$24,B$15:B$24,1,0) -> 1 | AM258: =_xlfn.XLOOKUP(AJ258,A$27:A$36,B$27:B$36,0,-1) -> 0 | AN258: =_xlfn.XLOOKUP(AJ258,A$27:A$36,B$27:B$36,0,1) -> 0 | AO258: =AL258 -> 1
AJ259: =AJ258+1 -> 46696 | AK259: =_xlfn.XLOOKUP(AJ259,A$27:A$36,B$27:B$36,0,0) -> 0 | AL259: =_xlfn.XLOOKUP(AJ259,A$15:A$24,B$15:B$24,1,0) -> 1 | AM259: =_xlfn.XLOOKUP(AJ259,A$27:A$36,B$27:B$36,0,-1) -> 0 | AN259: =_xlfn.XLOOKUP(AJ259,A$27:A$36,B$27:B$36,0,1) -> 0 | AO259: =AL259 -> 1
AJ260: =AJ259+1 -> 46697 | AK260: =_xlfn.XLOOKUP(AJ260,A$27:A$36,B$27:B$36,0,0) -> 0 | AL260: =_xlfn.XLOOKUP(AJ260,A$15:A$24,B$15:B$24,1,0) -> 1 | AM260: =_xlfn.XLOOKUP(AJ260,A$27:A$36,B$27:B$36,0,-1) -> 0 | AN260: =_xlfn.XLOOKUP(AJ260,A$27:A$36,B$27:B$36,0,1) -> 0 | AO260: =AL260 -> 1
AJ261: =AJ260+1 -> 46698 | AK261: =_xlfn.XLOOKUP(AJ261,A$27:A$36,B$27:B$36,0,0) -> 0 | AL261: =_xlfn.XLOOKUP(AJ261,A$15:A$24,B$15:B$24,1,0) -> 1 | AM261: =_xlfn.XLOOKUP(AJ261,A$27:A$36,B$27:B$36,0,-1) -> 0 | AN261: =_xlfn.XLOOKUP(AJ261,A$27:A$36,B$27:B$36,0,1) -> 0 | AO261: =AL261 -> 1
AJ262: =AJ261+1 -> 46699 | AK262: =_xlfn.XLOOKUP(AJ262,A$27:A$36,B$27:B$36,0,0) -> 0 | AL262: =_xlfn.XLOOKUP(AJ262,A$15:A$24,B$15:B$24,1,0) -> 1 | AM262: =_xlfn.XLOOKUP(AJ262,A$27:A$36,B$27:B$36,0,-1) -> 0 | AN262: =_xlfn.XLOOKUP(AJ262,A$27:A$36,B$27:B$36,0,1) -> 0 | AO262: =AL262 -> 1
AJ263: =AJ262+1 -> 46700 | AK263: =_xlfn.XLOOKUP(AJ263,A$27:A$36,B$27:B$36,0,0) -> 0 | AL263: =_xlfn.XLOOKUP(AJ263,A$15:A$24,B$15:B$24,1,0) -> 1 | AM263: =_xlfn.XLOOKUP(AJ263,A$27:A$36,B$27:B$36,0,-1) -> 0 | AN263: =_xlfn.XLOOKUP(AJ263,A$27:A$36,B$27:B$36,0,1) -> 0 | AO263: =AL263 -> 1
AJ264: =AJ263+1 -> 46701 | AK264: =_xlfn.XLOOKUP(AJ264,A$27:A$36,B$27:B$36,0,0) -> 0 | AL264: =_xlfn.XLOOKUP(AJ264,A$15:A$24,B$15:B$24,1,0) -> 1 | AM264: =_xlfn.XLOOKUP(AJ264,A$27:A$36,B$27:B$36,0,-1) -> 0 | AN264: =_xlfn.XLOOKUP(AJ264,A$27:A$36,B$27:B$36,0,1) -> 0 | AO264: =AL264 -> 1
AJ265: =AJ264+1 -> 46702 | AK265: =_xlfn.XLOOKUP(AJ265,A$27:A$36,B$27:B$36,0,0) -> 0 | AL265: =_xlfn.XLOOKUP(AJ265,A$15:A$24,B$15:B$24,1,0) -> 1 | AM265: =_xlfn.XLOOKUP(AJ265,A$27:A$36,B$27:B$36,0,-1) -> 0 | AN265: =_xlfn.XLOOKUP(AJ265,A$27:A$36,B$27:B$36,0,1) -> 0 | AO265: =AL265 -> 1
...

Sheet Serene_A_W
A1: Agregation | G1: Daily capacities - basic offer : | K1: Withdrawal
A3: Total Volume | D3: =H3+M3+R3+W3 -> 45 | E3: TWh | G3: =Serene_A_I!G3 -> Serene Atl 25 | H3: =Serene_A_I!H3 -> 17.013766 | I3: Withdrawal | L3: =Serene_A_I!L3 -> Serene Atl 26 | M3: =Serene_A_I!M3 -> 14.10256 | N3: Withdrawal | Q3: =Serene_A_I!Q3 -> Serene Atl 27 | R3: =Serene_A_I!R3 -> 13.883674 | S3: Withdrawal | V3: =Serene_A_I!V3 -> 0 | W3: =Serene_A_I!W3 -> 0 | X3: Withdrawal
A4: Average Nominal Duration | D4: =(H3*I4+M3*N4+R3*S4+W3*X4)/D3 -> 77.713152 | E4: days | G4: Nominal Duration | I4: =SUMIFS('Base Produits'!$W:$W,'Base Produits'!$V:$V,G3) -> 70 | L4: Nominal Duration | N4: =SUMIFS('Base Produits'!$W:$W,'Base Produits'!$V:$V,L3) -> 70 | Q4: Nominal Duration | S4: =SUMIFS('Base Produits'!$W:$W,'Base Produits'!$V:$V,Q3) -> 95 | V4: Nominal Duration | X4: =SUMIFS('Base Produits'!$W:$W,'Base Produits'!$V:$V,V3) -> 0
A5: Nominal Capacity | D5: =(IFERROR(H3/I4,0)+IFERROR(M3/N4,0)+IFERROR(R3/S4,0)+IFERROR(W3/X4,0))*1000 -> 590.66288 | E5: GWh/d | G5: Reduction factors | I5: Stock level % | J5: Reduction Factor % | L5: Reduction factors | N5: Stock level % | O5: Reduction Factor % | Q5: Reduction factors | S5: Stock level % | T5: Reduction Factor % | V5: Reduction factors | X5: Stock level % | Y5: Reduction Factor %
I6: =SUMIFS('Base Produits'!$G:$G,'Base Produits'!$E:$E,G$3,'Base Produits'!$F:$F,1) -> 1 | J6: =SUMIFS('Base Produits'!$H:$H,'Base Produits'!$E:$E,G$3,'Base Produits'!$F:$F,1) -> 1 | N6: =SUMIFS('Base Produits'!$G:$G,'Base Produits'!$E:$E,L$3,'Base Produits'!$F:$F,1) -> 1 | O6: =SUMIFS('Base Produits'!$H:$H,'Base Produits'!$E:$E,L$3,'Base Produits'!$F:$F,1) -> 1 | S6: =SUMIFS('Base Produits'!$G:$G,'Base Produits'!$E:$E,Q$3,'Base Produits'!$F:$F,1) -> 1 | T6: =SUMIFS('Base Produits'!$H:$H,'Base Produits'!$E:$E,Q$3,'Base Produits'!$F:$F,1) -> 1 | X6: =SUMIFS('Base Produits'!$G:$G,'Base Produits'!$E:$E,V$3,'Base Produits'!$F:$F,1) -> 0 | Y6: =SUMIFS('Base Produits'!$H:$H,'Base Produits'!$E:$E,V$3,'Base Produits'!$F:$F,1) -> 0
I7: =IF(OR(I6=0,I6=""),"",SUMIFS('Base Produits'!$G:$G,'Base Produits'!$E:$E,G$3,'Base Produits'!$F:$F,2)) -> 0.7 | J7: =IF(OR(I6=0,I6=""),"",SUMIFS('Base Produits'!$H:$H,'Base Produits'!$E:$E,G$3,'Base Produits'!$F:$F,2)) -> 0.72 | N7: =IF(OR(N6=0,N6=""),"",SUMIFS('Base Produits'!$G:$G,'Base Produits'!$E:$E,L$3,'Base Produits'!$F:$F,2)) -> 0.7 | O7: =IF(OR(N6=0,N6=""),"",SUMIFS('Base Produits'!$H:$H,'Base Produits'!$E:$E,L$3,'Base Produits'!$F:$F,2)) -> 0.72 | S7: =IF(OR(S6=0,S6=""),"",SUMIFS('Base Produits'!$G:$G,'Base Produits'!$E:$E,Q$3,'Base Produits'!$F:$F,2)) -> 0.66 | T7: =IF(OR(S6=0,S6=""),"",SUMIFS('Base Produits'!$H:$H,'Base Produits'!$E:$E,Q$3,'Base Produits'!$F:$F,2)) -> 0.9 | X7: =IF(OR(X6=0,X6=""),"",SUMIFS('Base Produits'!$G:$G,'Base Produits'!$E:$E,V$3,'Base Produits'!$F:$F,2)) | Y7: =IF(OR(X6=0,X6=""),"",SUMIFS('Base Produits'!$H:$H,'Base Produits'!$E:$E,V$3,'Base Produits'!$F:$F,2))
I8: =IF(OR(I7=0,I7=""),"",SUMIFS('Base Produits'!$G:$G,'Base Produits'!$E:$E,G$3,'Base Produits'!$F:$F,3)) -> 0.25 | J8: =IF(OR(I7=0,I7=""),"",SUMIFS('Base Produits'!$H:$H,'Base Produits'!$E:$E,G$3,'Base Produits'!$F:$F,3)) -> 0.36 | N8: =IF(OR(N7=0,N7=""),"",SUMIFS('Base Produits'!$G:$G,'Base Produits'!$E:$E,L$3,'Base Produits'!$F:$F,3)) -> 0.25 | O8: =IF(OR(N7=0,N7=""),"",SUMIFS('Base Produits'!$H:$H,'Base Produits'!$E:$E,L$3,'Base Produits'!$F:$F,3)) -> 0.36 | S8: =IF(OR(S7=0,S7=""),"",SUMIFS('Base Produits'!$G:$G,'Base Produits'!$E:$E,Q$3,'Base Produits'!$F:$F,3)) -> 0.45 | T8: =IF(OR(S7=0,S7=""),"",SUMIFS('Base Produits'!$H:$H,'Base Produits'!$E:$E,Q$3,'Base Produits'!$F:$F,3)) -> 0.7 | X8: =IF(OR(X7=0,X7=""),"",SUMIFS('Base Produits'!$G:$G,'Base Produits'!$E:$E,V$3,'Base Produits'!$F:$F,3)) | Y8: =IF(OR(X7=0,X7=""),"",SUMIFS('Base Produits'!$H:$H,'Base Produits'!$E:$E,V$3,'Base Produits'!$F:$F,3))
I9: =IF(OR(I8=0,I8=""),"",SUMIFS('Base Produits'!$G:$G,'Base Produits'!$E:$E,G$3,'Base Produits'!$F:$F,4)) -> 0.1 | J9: =IF(OR(I8=0,I8=""),"",SUMIFS('Base Produits'!$H:$H,'Base Produits'!$E:$E,G$3,'Base Produits'!$F:$F,4)) -> 0.22 | N9: =IF(OR(N8=0,N8=""),"",SUMIFS('Base Produits'!$G:$G,'Base Produits'!$E:$E,L$3,'Base Produits'!$F:$F,4)) -> 0.1 | O9: =IF(OR(N8=0,N8=""),"",SUMIFS('Base Produits'!$H:$H,'Base Produits'!$E:$E,L$3,'Base Produits'!$F:$F,4)) -> 0.22 | S9: =IF(OR(S8=0,S8=""),"",SUMIFS('Base Produits'!$G:$G,'Base Produits'!$E:$E,Q$3,'Base Produits'!$F:$F,4)) -> 0 | T9: =IF(OR(S8=0,S8=""),"",SUMIFS('Base Produits'!$H:$H,'Base Produits'!$E:$E,Q$3,'Base Produits'!$F:$F,4)) -> 0.24 | X9: =IF(OR(X8=0,X8=""),"",SUMIFS('Base Produits'!$G:$G,'Base Produits'!$E:$E,V$3,'Base Produits'!$F:$F,4)) | Y9: =IF(OR(X8=0,X8=""),"",SUMIFS('Base Produits'!$H:$H,'Base Produits'!$E:$E,V$3,'Base Produits'!$F:$F,4))
I10: =IF(OR(I9=0,I9=""),"",SUMIFS('Base Produits'!$G:$G,'Base Produits'!$E:$E,G$3,'Base Produits'!$F:$F,5)) -> 0 | J10: =IF(OR(I9=0,I9=""),"",SUMIFS('Base Produits'!$H:$H,'Base Produits'!$E:$E,G$3,'Base Produits'!$F:$F,5)) -> 0.17 | N10: =IF(OR(N9=0,N9=""),"",SUMIFS('Base Produits'!$G:$G,'Base Produits'!$E:$E,L$3,'Base Produits'!$F:$F,5)) -> 0 | O10: =IF(OR(N9=0,N9=""),"",SUMIFS('Base Produits'!$H:$H,'Base Produits'!$E:$E,L$3,'Base Produits'!$F:$F,5)) -> 0.17 | S10: =IF(OR(S9=0,S9=""),"",SUMIFS('Base Produits'!$G:$G,'Base Produits'!$E:$E,Q$3,'Base Produits'!$F:$F,5)) | T10: =IF(OR(S9=0,S9=""),"",SUMIFS('Base Produits'!$H:$H,'Base Produits'!$E:$E,Q$3,'Base Produits'!$F:$F,5)) | X10: =IF(OR(X9=0,X9=""),"",SUMIFS('Base Produits'!$G:$G,'Base Produits'!$E:$E,V$3,'Base Produits'!$F:$F,5)) | Y10: =IF(OR(X9=0,X9=""),"",SUMIFS('Base Produits'!$H:$H,'Base Produits'!$E:$E,V$3,'Base Produits'!$F:$F,5))
I11: =IF(OR(I10=0,I10=""),"",SUMIFS('Base Produits'!$G:$G,'Base Produits'!$E:$E,G$3,'Base Produits'!$F:$F,6)) | J11: =IF(OR(I10=0,I10=""),"",SUMIFS('Base Produits'!$H:$H,'Base Produits'!$E:$E,G$3,'Base Produits'!$F:$F,6)) | N11: =IF(OR(N10=0,N10=""),"",SUMIFS('Base Produits'!$G:$G,'Base Produits'!$E:$E,L$3,'Base Produits'!$F:$F,6)) | O11: =IF(OR(N10=0,N10=""),"",SUMIFS('Base Produits'!$H:$H,'Base Produits'!$E:$E,L$3,'Base Produits'!$F:$F,6)) | S11: =IF(OR(S10=0,S10=""),"",SUMIFS('Base Produits'!$G:$G,'Base Produits'!$E:$E,Q$3,'Base Produits'!$F:$F,6)) | T11: =IF(OR(S10=0,S10=""),"",SUMIFS('Base Produits'!$H:$H,'Base Produits'!$E:$E,Q$3,'Base Produits'!$F:$F,6)) | X11: =IF(OR(X10=0,X10=""),"",SUMIFS('Base Produits'!$G:$G,'Base Produits'!$E:$E,V$3,'Base Produits'!$F:$F,6)) | Y11: =IF(OR(X10=0,X10=""),"",SUMIFS('Base Produits'!$H:$H,'Base Produits'!$E:$E,V$3,'Base Produits'!$F:$F,6))
G12: Actual duration | I12: =SUMIFS('Base Produits'!$X:$X,'Base Produits'!$V:$V,G3) -> 158 | L12: Actual duration | N12: =SUMIFS('Base Produits'!$X:$X,'Base Produits'!$V:$V,L3) -> 158 | Q12: Actual duration | S12: =SUMIFS('Base Produits'!$X:$X,'Base Produits'!$V:$V,Q3) -> 158 | V12: Actual duration | X12: =SUMIFS('Base Produits'!$X:$X,'Base Produits'!$V:$V,V3) -> 0
A31: Qi% foisonement | G31: VU | I31: Qi % reduction | N31: Qi % reduction | S31: Qi % reduction | X31: Qi % reduction
A32: =(IFERROR((I32*$H$3/$I$4),0)+IFERROR((N32*$M$3/$N$4),0)+IFERROR((S32*$R$3/$S$4),0)+IFERROR((X32*$W$3/$X$4),0))/($D$5/1000) -> 0.18731965 | G32: 0 | I32: {=IF($G32>=I$7,TREND(J$6:J$7,I$6:I$7,$G32),IF($G32>=I$8,TREND(J$7:J$8,I$7:I$8,$G32),IF($G32>=I$9,TREND(J$8:J$9,I$8:I$9,$G32),IF($G32>=I$10,TREND(J$9:J$10,I$9:I$10,$G32),IF($G32>=I$11,TREND(J$10:J$11,I$10:I$11,$G32),0)))))} -> 0.17 | N32: {=IF($G32>=N$7,TREND(O$6:O$7,N$6:N$7,$G32),IF($G32>=N$8,TREND(O$7:O$8,N$7:N$8,$G32),IF($G32>=N$9,TREND(O$8:O$9,N$8:N$9,$G32),IF($G32>=N$10,TREND(O$9:O$10,N$9:N$10,$G32),IF($G32>=N$11,TREND(O$10:O$11,N$10:N$11,$G32),0)))))} -> 0.17 | S32: {=IF($G32>=S$7,TREND(T$6:T$7,S$6:S$7,$G32),IF($G32>=S$8,TREND(T$7:T$8,S$7:S$8,$G32),IF($G32>=S$9,TREND(T$8:T$9,S$8:S$9,$G32),IF($G32>=S$10,TREND(T$9:T$10,S$9:S$10,$G32),IF($G32>=S$11,TREND(T$10:T$11,S$10:S$11,$G32),0)))))} -> 0.24 | X32: {=IF($G32>=X$7,TREND(Y$6:Y$7,X$6:X$7,$G32),IF($G32>=X$8,TREND(Y$7:Y$8,X$7:X$8,$G32),IF($G32>=X$9,TREND(Y$8:Y$9,X$8:X$9,$G32),IF($G32>=X$10,TREND(Y$9:Y$10,X$9:X$10,$G32),IF($G32>=X$11,TREND(Y$10:Y$11,X$10:X$11,$G32),0)))))} -> 0
A33: =(IFERROR((I33*$H$3/$I$4),0)+IFERROR((N33*$M$3/$N$4),0)+IFERROR((S33*$R$3/$S$4),0)+IFERROR((X33*$W$3/$X$4),0))/($D$5/1000) -> 0.19361175 | G33: 0.01 | I33: {=IF($G33>=I$7,TREND(J$6:J$7,I$6:I$7,$G33),IF($G33>=I$8,TREND(J$7:J$8,I$7:I$8,$G33),IF($G33>=I$9,TREND(J$8:J$9,I$8:I$9,$G33),IF($G33>=I$10,TREND(J$9:J$10,I$9:I$10,$G33),IF($G33>=I$11,TREND(J$10:J$11,I$10:I$11,$G33),0)))))} -> 0.175 | N33: {=IF($G33>=N$7,TREND(O$6:O$7,N$6:N$7,$G33),IF($G33>=N$8,TREND(O$7:O$8,N$7:N$8,$G33),IF($G33>=N$9,TREND(O$8:O$9,N$8:N$9,$G33),IF($G33>=N$10,TREND(O$9:O$10,N$9:N$10,$G33),IF($G33>=N$11,TREND(O$10:O$11,N$10:N$11,$G33),0)))))} -> 0.175 | S33: {=IF($G33>=S$7,TREND(T$6:T$7,S$6:S$7,$G33),IF($G33>=S$8,TREND(T$7:T$8,S$7:S$8,$G33),IF($G33>=S$9,TREND(T$8:T$9,S$8:S$9,$G33),IF($G33>=S$10,TREND(T$9:T$10,S$9:S$10,$G33),IF($G33>=S$11,TREND(T$10:T$11,S$10:S$11,$G33),0)))))} -> 0.25022222 | X33: 0
A34: =(IFERROR((I34*$H$3/$I$4),0)+IFERROR((N34*$M$3/$N$4),0)+IFERROR((S34*$R$3/$S$4),0)+IFERROR((X34*$W$3/$X$4),0))/($D$5/1000) -> 0.19990385 | G34: 0.02 | I34: {=IF($G34>=I$7,TREND(J$6:J$7,I$6:I$7,$G34),IF($G34>=I$8,TREND(J$7:J$8,I$7:I$8,$G34),IF($G34>=I$9,TREND(J$8:J$9,I$8:I$9,$G34),IF($G34>=I$10,TREND(J$9:J$10,I$9:I$10,$G34),IF($G34>=I$11,TREND(J$10:J$11,I$10:I$11,$G34),0)))))} -> 0.18 | N34: {=IF($G34>=N$7,TREND(O$6:O$7,N$6:N$7,$G34),IF($G34>=N$8,TREND(O$7:O$8,N$7:N$8,$G34),IF($G34>=N$9,TREND(O$8:O$9,N$8:N$9,$G34),IF($G34>=N$10,TREND(O$9:O$10,N$9:N$10,$G34),IF($G34>=N$11,TREND(O$10:O$11,N$10:N$11,$G34),0)))))} -> 0.18 | S34: {=IF($G34>=S$7,TREND(T$6:T$7,S$6:S$7,$G34),IF($G34>=S$8,TREND(T$7:T$8,S$7:S$8,$G34),IF($G34>=S$9,TREND(T$8:T$9,S$8:S$9,$G34),IF($G34>=S$10,TREND(T$9:T$10,S$9:S$10,$G34),IF($G34>=S$11,TREND(T$10:T$11,S$10:S$11,$G34),0)))))} -> 0.26044444 | X34: 0
A35: =(IFERROR((I35*$H$3/$I$4),0)+IFERROR((N35*$M$3/$N$4),0)+IFERROR((S35*$R$3/$S$4),0)+IFERROR((X35*$W$3/$X$4),0))/($D$5/1000) -> 0.20619596 | G35: 0.03 | I35: {=IF($G35>=I$7,TREND(J$6:J$7,I$6:I$7,$G35),IF($G35>=I$8,TREND(J$7:J$8,I$7:I$8,$G35),IF($G35>=I$9,TREND(J$8:J$9,I$8:I$9,$G35),IF($G35>=I$10,TREND(J$9:J$10,I$9:I$10,$G35),IF($G35>=I$11,TREND(J$10:J$11,I$10:I$11,$G35),0)))))} -> 0.185 | N35: {=IF($G35>=N$7,TREND(O$6:O$7,N$6:N$7,$G35),IF($G35>=N$8,TREND(O$7:O$8,N$7:N$8,$G35),IF($G35>=N$9,TREND(O$8:O$9,N$8:N$9,$G35),IF($G35>=N$10,TREND(O$9:O$10,N$9:N$10,$G35),IF($G35>=N$11,TREND(O$10:O$11,N$10:N$11,$G35),0)))))} -> 0.185 | S35: {=IF($G35>=S$7,TREND(T$6:T$7,S$6:S$7,$G35),IF($G35>=S$8,TREND(T$7:T$8,S$7:S$8,$G35),IF($G35>=S$9,TREND(T$8:T$9,S$8:S$9,$G35),IF($G35>=S$10,TREND(T$9:T$10,S$9:S$10,$G35),IF($G35>=S$11,TREND(T$10:T$11,S$10:S$11,$G35),0)))))} -> 0.27066667 | X35: 0
A36: =(IFERROR((I36*$H$3/$I$4),0)+IFERROR((N36*$M$3/$N$4),0)+IFERROR((S36*$R$3/$S$4),0)+IFERROR((X36*$W$3/$X$4),0))/($D$5/1000) -> 0.21248806 | G36: 0.04 | I36: {=IF($G36>=I$7,TREND(J$6:J$7,I$6:I$7,$G36),IF($G36>=I$8,TREND(J$7:J$8,I$7:I$8,$G36),IF($G36>=I$9,TREND(J$8:J$9,I$8:I$9,$G36),IF($G36>=I$10,TREND(J$9:J$10,I$9:I$10,$G36),IF($G36>=I$11,TREND(J$10:J$11,I$10:I$11,$G36),0)))))} -> 0.19 | N36: {=IF($G36>=N$7,TREND(O$6:O$7,N$6:N$7,$G36),IF($G36>=N$8,TREND(O$7:O$8,N$7:N$8,$G36),IF($G36>=N$9,TREND(O$8:O$9,N$8:N$9,$G36),IF($G36>=N$10,TREND(O$9:O$10,N$9:N$10,$G36),IF($G36>=N$11,TREND(O$10:O$11,N$10:N$11,$G36),0)))))} -> 0.19 | S36: {=IF($G36>=S$7,TREND(T$6:T$7,S$6:S$7,$G36),IF($G36>=S$8,TREND(T$7:T$8,S$7:S$8,$G36),IF($G36>=S$9,TREND(T$8:T$9,S$8:S$9,$G36),IF($G36>=S$10,TREND(T$9:T$10,S$9:S$10,$G36),IF($G36>=S$11,TREND(T$10:T$11,S$10:S$11,$G36),0)))))} -> 0.28088889 | X36: 0
A37: =(IFERROR((I37*$H$3/$I$4),0)+IFERROR((N37*$M$3/$N$4),0)+IFERROR((S37*$R$3/$S$4),0)+IFERROR((X37*$W$3/$X$4),0))/($D$5/1000) -> 0.21878016 | G37: 0.05 | I37: {=IF($G37>=I$7,TREND(J$6:J$7,I$6:I$7,$G37),IF($G37>=I$8,TREND(J$7:J$8,I$7:I$8,$G37),IF($G37>=I$9,TREND(J$8:J$9,I$8:I$9,$G37),IF($G37>=I$10,TREND(J$9:J$10,I$9:I$10,$G37),IF($G37>=I$11,TREND(J$10:J$11,I$10:I$11,$G37),0)))))} -> 0.195 | N37: {=IF($G37>=N$7,TREND(O$6:O$7,N$6:N$7,$G37),IF($G37>=N$8,TREND(O$7:O$8,N$7:N$8,$G37),IF($G37>=N$9,TREND(O$8:O$9,N$8:N$9,$G37),IF($G37>=N$10,TREND(O$9:O$10,N$9:N$10,$G37),IF($G37>=N$11,TREND(O$10:O$11,N$10:N$11,$G37),0)))))} -> 0.195 | S37: {=IF($G37>=S$7,TREND(T$6:T$7,S$6:S$7,$G37),IF($G37>=S$8,TREND(T$7:T$8,S$7:S$8,$G37),IF($G37>=S$9,TREND(T$8:T$9,S$8:S$9,$G37),IF($G37>=S$10,TREND(T$9:T$10,S$9:S$10,$G37),IF($G37>=S$11,TREND(T$10:T$11,S$10:S$11,$G37),0)))))} -> 0.29111111 | X37: 0
A38: =(IFERROR((I38*$H$3/$I$4),0)+IFERROR((N38*$M$3/$N$4),0)+IFERROR((S38*$R$3/$S$4),0)+IFERROR((X38*$W$3/$X$4),0))/($D$5/1000) -> 0.22507226 | G38: 0.06 | I38: {=IF($G38>=I$7,TREND(J$6:J$7,I$6:I$7,$G38),IF($G38>=I$8,TREND(J$7:J$8,I$7:I$8,$G38),IF($G38>=I$9,TREND(J$8:J$9,I$8:I$9,$G38),IF($G38>=I$10,TREND(J$9:J$10,I$9:I$10,$G38),IF($G38>=I$11,TREND(J$10:J$11,I$10:I$11,$G38),0)))))} -> 0.2 | N38: {=IF($G38>=N$7,TREND(O$6:O$7,N$6:N$7,$G38),IF($G38>=N$8,TREND(O$7:O$8,N$7:N$8,$G38),IF($G38>=N$9,TREND(O$8:O$9,N$8:N$9,$G38),IF($G38>=N$10,TREND(O$9:O$10,N$9:N$10,$G38),IF($G38>=N$11,TREND(O$10:O$11,N$10:N$11,$G38),0)))))} -> 0.2 | S38: {=IF($G38>=S$7,TREND(T$6:T$7,S$6:S$7,$G38),IF($G38>=S$8,TREND(T$7:T$8,S$7:S$8,$G38),IF($G38>=S$9,TREND(T$8:T$9,S$8:S$9,$G38),IF($G38>=S$10,TREND(T$9:T$10,S$9:S$10,$G38),IF($G38>=S$11,TREND(T$10:T$11,S$10:S$11,$G38),0)))))} -> 0.30133333 | X38: 0
A39: =(IFERROR((I39*$H$3/$I$4),0)+IFERROR((N39*$M$3/$N$4),0)+IFERROR((S39*$R$3/$S$4),0)+IFERROR((X39*$W$3/$X$4),0))/($D$5/1000) -> 0.23136436 | G39: 0.07 | I39: {=IF($G39>=I$7,TREND(J$6:J$7,I$6:I$7,$G39),IF($G39>=I$8,TREND(J$7:J$8,I$7:I$8,$G39),IF($G39>=I$9,TREND(J$8:J$9,I$8:I$9,$G39),IF($G39>=I$10,TREND(J$9:J$10,I$9:I$10,$G39),IF($G39>=I$11,TREND(J$10:J$11,I$10:I$11,$G39),0)))))} -> 0.205 | N39: {=IF($G39>=N$7,TREND(O$6:O$7,N$6:N$7,$G39),IF($G39>=N$8,TREND(O$7:O$8,N$7:N$8,$G39),IF($G39>=N$9,TREND(O$8:O$9,N$8:N$9,$G39),IF($G39>=N$10,TREND(O$9:O$10,N$9:N$10,$G39),IF($G39>=N$11,TREND(O$10:O$11,N$10:N$11,$G39),0)))))} -> 0.205 | S39: {=IF($G39>=S$7,TREND(T$6:T$7,S$6:S$7,$G39),IF($G39>=S$8,TREND(T$7:T$8,S$7:S$8,$G39),IF($G39>=S$9,TREND(T$8:T$9,S$8:S$9,$G39),IF($G39>=S$10,TREND(T$9:T$10,S$9:S$10,$G39),IF($G39>=S$11,TREND(T$10:T$11,S$10:S$11,$G39),0)))))} -> 0.31155556 | X39: 0
A40: =(IFERROR((I40*$H$3/$I$4),0)+IFERROR((N40*$M$3/$N$4),0)+IFERROR((S40*$R$3/$S$4),0)+IFERROR((X40*$W$3/$X$4),0))/($D$5/1000) -> 0.23765646 | G40: 0.08 | I40: {=IF($G40>=I$7,TREND(J$6:J$7,I$6:I$7,$G40),IF($G40>=I$8,TREND(J$7:J$8,I$7:I$8,$G40),IF($G40>=I$9,TREND(J$8:J$9,I$8:I$9,$G40),IF($G40>=I$10,TREND(J$9:J$10,I$9:I$10,$G40),IF($G40>=I$11,TREND(J$10:J$11,I$10:I$11,$G40),0)))))} -> 0.21 | N40: {=IF($G40>=N$7,TREND(O$6:O$7,N$6:N$7,$G40),IF($G40>=N$8,TREND(O$7:O$8,N$7:N$8,$G40),IF($G40>=N$9,TREND(O$8:O$9,N$8:N$9,$G40),IF($G40>=N$10,TREND(O$9:O$10,N$9:N$10,$G40),IF($G40>=N$11,TREND(O$10:O$11,N$10:N$11,$G40),0)))))} -> 0.21 | S40: {=IF($G40>=S$7,TREND(T$6:T$7,S$6:S$7,$G40),IF($G40>=S$8,TREND(T$7:T$8,S$7:S$8,$G40),IF($G40>=S$9,TREND(T$8:T$9,S$8:S$9,$G40),IF($G40>=S$10,TREND(T$9:T$10,S$9:S$10,$G40),IF($G40>=S$11,TREND(T$10:T$11,S$10:S$11,$G40),0)))))} -> 0.32177778 | X40: 0
A41: =(IFERROR((I41*$H$3/$I$4),0)+IFERROR((N41*$M$3/$N$4),0)+IFERROR((S41*$R$3/$S$4),0)+IFERROR((X41*$W$3/$X$4),0))/($D$5/1000) -> 0.24394856 | G41: 0.09 | I41: {=IF($G41>=I$7,TREND(J$6:J$7,I$6:I$7,$G41),IF($G41>=I$8,TREND(J$7:J$8,I$7:I$8,$G41),IF($G41>=I$9,TREND(J$8:J$9,I$8:I$9,$G41),IF($G41>=I$10,TREND(J$9:J$10,I$9:I$10,$G41),IF($G41>=I$11,TREND(J$10:J$11,I$10:I$11,$G41),0)))))} -> 0.215 | N41: {=IF($G41>=N$7,TREND(O$6:O$7,N$6:N$7,$G41),IF($G41>=N$8,TREND(O$7:O$8,N$7:N$8,$G41),IF($G41>=N$9,TREND(O$8:O$9,N$8:N$9,$G41),IF($G41>=N$10,TREND(O$9:O$10,N$9:N$10,$G41),IF($G41>=N$11,TREND(O$10:O$11,N$10:N$11,$G41),0)))))} -> 0.215 | S41: {=IF($G41>=S$7,TREND(T$6:T$7,S$6:S$7,$G41),IF($G41>=S$8,TREND(T$7:T$8,S$7:S$8,$G41),IF($G41>=S$9,TREND(T$8:T$9,S$8:S$9,$G41),IF($G41>=S$10,TREND(T$9:T$10,S$9:S$10,$G41),IF($G41>=S$11,TREND(T$10:T$11,S$10:S$11,$G41),0)))))} -> 0.332 | X41: 0
A42: =(IFERROR((I42*$H$3/$I$4),0)+IFERROR((N42*$M$3/$N$4),0)+IFERROR((S42*$R$3/$S$4),0)+IFERROR((X42*$W$3/$X$4),0))/($D$5/1000) -> 0.25024066 | G42: 0.1 | I42: {=IF($G42>=I$7,TREND(J$6:J$7,I$6:I$7,$G42),IF($G42>=I$8,TREND(J$7:J$8,I$7:I$8,$G42),IF($G42>=I$9,TREND(J$8:J$9,I$8:I$9,$G42),IF($G42>=I$10,TREND(J$9:J$10,I$9:I$10,$G42),IF($G42>=I$11,TREND(J$10:J$11,I$10:I$11,$G42),0)))))} -> 0.22 | N42: {=IF($G42>=N$7,TREND(O$6:O$7,N$6:N$7,$G42),IF($G42>=N$8,TREND(O$7:O$8,N$7:N$8,$G42),IF($G42>=N$9,TREND(O$8:O$9,N$8:N$9,$G42),IF($G42>=N$10,TREND(O$9:O$10,N$9:N$10,$G42),IF($G42>=N$11,TREND(O$10:O$11,N$10:N$11,$G42),0)))))} -> 0.22 | S42: {=IF($G42>=S$7,TREND(T$6:T$7,S$6:S$7,$G42),IF($G42>=S$8,TREND(T$7:T$8,S$7:S$8,$G42),IF($G42>=S$9,TREND(T$8:T$9,S$8:S$9,$G42),IF($G42>=S$10,TREND(T$9:T$10,S$9:S$10,$G42),IF($G42>=S$11,TREND(T$10:T$11,S$10:S$11,$G42),0)))))} -> 0.34222222 | X42: 0
A43: =(IFERROR((I43*$H$3/$I$4),0)+IFERROR((N43*$M$3/$N$4),0)+IFERROR((S43*$R$3/$S$4),0)+IFERROR((X43*$W$3/$X$4),0))/($D$5/1000) -> 0.25979393 | G43: 0.11 | I43: {=IF($G43>=I$7,TREND(J$6:J$7,I$6:I$7,$G43),IF($G43>=I$8,TREND(J$7:J$8,I$7:I$8,$G43),IF($G43>=I$9,TREND(J$8:J$9,I$8:I$9,$G43),IF($G43>=I$10,TREND(J$9:J$10,I$9:I$10,$G43),IF($G43>=I$11,TREND(J$10:J$11,I$10:I$11,$G43),0)))))} -> 0.22933333 | N43: {=IF($G43>=N$7,TREND(O$6:O$7,N$6:N$7,$G43),IF($G43>=N$8,TREND(O$7:O$8,N$7:N$8,$G43),IF($G43>=N$9,TREND(O$8:O$9,N$8:N$9,$G43),IF($G43>=N$10,TREND(O$9:O$10,N$9:N$10,$G43),IF($G43>=N$11,TREND(O$10:O$11,N$10:N$11,$G43),0)))))} -> 0.22933333 | S43: {=IF($G43>=S$7,TREND(T$6:T$7,S$6:S$7,$G43),IF($G43>=S$8,TREND(T$7:T$8,S$7:S$8,$G43),IF($G43>=S$9,TREND(T$8:T$9,S$8:S$9,$G43),IF($G43>=S$10,TREND(T$9:T$10,S$9:S$10,$G43),IF($G43>=S$11,TREND(T$10:T$11,S$10:S$11,$G43),0)))))} -> 0.35244444 | X43: 0
A44: =(IFERROR((I44*$H$3/$I$4),0)+IFERROR((N44*$M$3/$N$4),0)+IFERROR((S44*$R$3/$S$4),0)+IFERROR((X44*$W$3/$X$4),0))/($D$5/1000) -> 0.26934719 | G44: 0.12 | I44: {=IF($G44>=I$7,TREND(J$6:J$7,I$6:I$7,$G44),IF($G44>=I$8,TREND(J$7:J$8,I$7:I$8,$G44),IF($G44>=I$9,TREND(J$8:J$9,I$8:I$9,$G44),IF($G44>=I$10,TREND(J$9:J$10,I$9:I$10,$G44),IF($G44>=I$11,TREND(J$10:J$11,I$10:I$11,$G44),0)))))} -> 0.23866667 | N44: {=IF($G44>=N$7,TREND(O$6:O$7,N$6:N$7,$G44),IF($G44>=N$8,TREND(O$7:O$8,N$7:N$8,$G44),IF($G44>=N$9,TREND(O$8:O$9,N$8:N$9,$G44),IF($G44>=N$10,TREND(O$9:O$10,N$9:N$10,$G44),IF($G44>=N$11,TREND(O$10:O$11,N$10:N$11,$G44),0)))))} -> 0.23866667 | S44: {=IF($G44>=S$7,TREND(T$6:T$7,S$6:S$7,$G44),IF($G44>=S$8,TREND(T$7:T$8,S$7:S$8,$G44),IF($G44>=S$9,TREND(T$8:T$9,S$8:S$9,$G44),IF($G44>=S$10,TREND(T$9:T$10,S$9:S$10,$G44),IF($G44>=S$11,TREND(T$10:T$11,S$10:S$11,$G44),0)))))} -> 0.36266667 | X44: 0
... A132: =(IFERROR((I132*$H$3/$I$4),0)+IFERROR((N132*$M$3/$N$4),0)+IFERROR((S132*$R$3/$S$4),0)+IFERROR((X132*$W$3/$X$4),0))/($D$5/1000) -> 1 | G132: 1 | I132: {=IF($G132>=I$7,TREND(J$6:J$7,I$6:I$7,$G132),IF($G132>=I$8,TREND(J$7:J$8,I$7:I$8,$G132),IF($G132>=I$9,TREND(J$8:J$9,I$8:I$9,$G132),IF($G132>=I$10,TREND(J$9:J$10,I$9:I$10,$G132),IF($G132>=I$11,TREND(J$10:J$11,I$10:I$11,$G132),0)))))} -> 1 | N132: {=IF($G132>=N$7,TREND(O$6:O$7,N$6:N$7,$G132),IF($G132>=N$8,TREND(O$7:O$8,N$7:N$8,$G132),IF($G132>=N$9,TREND(O$8:O$9,N$8:N$9,$G132),IF($G132>=N$10,TREND(O$9:O$10,N$9:N$10,$G132),IF($G132>=N$11,TREND(O$10:O$11,N$10:N$11,$G132),0)))))} -> 1 | S132: {=IF($G132>=S$7,TREND(T$6:T$7,S$6:S$7,$G132),IF($G132>=S$8,TREND(T$7:T$8,S$7:S$8,$G132),IF($G132>=S$9,TREND(T$8:T$9,S$8:S$9,$G132),IF($G132>=S$10,TREND(T$9:T$10,S$9:S$10,$G132),IF($G132>=S$11,TREND(T$10:T$11,S$10:S$11,$G132),0)))))} -> 1 | X132: 0

Sheet Atlantique_I
F2: {=INDEX(INDIRECT($A$4&"!A1:Z500"),3,7+(COLUMN()-COLUMN($F$2))*5)} -> Serene Atl 25 | G2: {=INDEX(INDIRECT($A$4&"!A1:Z500"),3,7+(COLUMN()-COLUMN($F$2))*5)} -> Serene Atl 26 | H2: {=INDEX(INDIRECT($A$4&"!A1:Z500"),3,7+(COLUMN()-COLUMN($F$2))*5)} -> Serene Atl 27 | I2: {=INDEX(INDIRECT($A$4&"!A1:Z500"),3,7+(COLUMN()-COLUMN($F$2))*5)} -> 0
A3: Onglet | E3: Total subscribed volume (TWh) | F3: {=INDEX(INDIRECT($A$4&"!A1:Z500"),3,8+(COLUMN()-COLUMN($F$2))*5)} -> 17.013766 | G3: {=INDEX(INDIRECT($A$4&"!A1:Z500"),3,8+(COLUMN()-COLUMN($F$2))*5)} -> 14.10256 | H3: {=INDEX(INDIRECT($A$4&"!A1:Z500"),3,8+(COLUMN()-COLUMN($F$2))*5)} -> 13.883674 | I3: {=INDEX(INDIRECT($A$4&"!A1:Z500"),3,8+(COLUMN()-COLUMN($F$2))*5)+Serene_A_I!AB3} -> 0
A4: Serene_A_I | E4: Nominal capacity | F4: {=INDIRECT($A$4&"!D5")} -> 375 | G4: GWh/j
A5: Serene_A_I | B5: Portes | E5: ="COS NaTran (" & RESULTS!B9 & ")" -> COS NaTran (Firm+Interuptible) | F5: {=IF(RESULTS!B9="Firm",F4*340/INDIRECT(A4&"!D9"),F4)} -> 375 | G5: GWh/j
A6: Atlantique | E6: =RESULTS!F7 -> Stock on 01/04/2027 (TWh) | F6: =RESULTS!$F$9 -> 0 | G6: TWh
A7: % Inject.
F11: With Storengy maintenance only | K11: SSPEO2D | L11: With Storengy and NaTran maintenance (probable case - CPRTt) | S11: Hors Maintenance
J12: CPRTt | K12: CPRTt
J13: COS max | K13: COS max
G14: =IF(COUNTIF(G17:G231,1)=0, "Only " & ROUND(G231,3)*100 & "%" & " filling on 31/10",_xlfn.XLOOKUP(1,G17:G231,$A17:$A231,"",0,2)-1 ) -> 46645 | J14: =F5 -> 375 | K14: =J14 -> 375 | M14: =IF(COUNTIF(M17:M231,1)=0, "Only " & ROUND(M231,3)*100 & "%" & " filling on 31/10",_xlfn.XLOOKUP(1,M17:M231,$A17:$A231,"",0,2)-1 ) -> 46656 | S14: =T14-DATE(RESULTS!J4,4,1)+1 -> 128 | T14: =IF(COUNTIF(T17:T231,1)=0, "Only " & ROUND(T231,3)*100 & "%" & " filling on 31/10",_xlfn.XLOOKUP(1,T17:T231,$A17:$A231,"",0,2)-1 ) -> 46605
F15: End of day stock [TWh] | G15: Filling D-1 [%] | J15: Max injection on NaTran PITS [GWh/d] | K15: Max injection on NaTran Superpoint [GWh/d] | L15: End of day stock [TWh] | M15: Filling D-1 [%] | S15: End of day stock [TWh] | T15: Filling D-1 [%]
A16: Date | B16: Minimum stock level (TWh) | C16: Maximum stock level (TWh) | D16: Effective Max (TWh) | E16: Storengy restrictions [% of the rights] | F16: =$F$6 -> 0 | G16: =$F$6/SUM($F$3,$G$3,$H$3,$I$3) -> 0 | H16: Reduction factor [%] | I16: Maximum injection [GWh/d] | J16: PS000CA | K16: SSPEO2D | L16: =$F$6 -> 0 | M16: =$F$6/SUM($F$3,$G$3,$H$3,$I$3) -> 0 | N16: Reduction factor [%] | O16: Maximum injection [GWh/d] | S16: =$F$6 -> 0 | T16: =$F$6/SUM($F$3,$G$3,$H$3,$I$3) -> 0 | U16: Reduction factor [%] | V16: Maximum injection [GWh/d]
A17: =RESULTS!H9 -> 46478 | B17: {=_xlfn.XLOOKUP(A17,INDIRECT($A$5&"!$AJ$41:$AJ$406"),INDIRECT($A$5&"!$AK$41:$AK$406"))*SUM($F$3:$I$3)} -> 0 | C17: {=_xlfn.XLOOKUP(A17,INDIRECT($A$5&"!$AJ$41:$AJ$406"),INDIRECT($A$5&"!$AL$41:$AL$406"))*SUM($F$3:$I$3)} -> 15.75 | D17: {=_xlfn.XLOOKUP(A17,INDIRECT($A$5&"!$AJ$41:$AJ$406"),INDIRECT($A$5&"!$AO$41:$AO$406"))*SUM($F$3:$I$3)} -> 15.75 | E17: {=SUMPRODUCT(('PT Storengy'!$B$8:$I$372)*('PT Storengy'!$A$8:$A$372=$A17)*('PT Storengy'!$B$5:$I$5=$A$6)*('PT Storengy'!$B$7:$I$7=$A$7))} -> 0.35 | F17: =F16+I17/1000 -> 0.24375 | G17: =ROUND(F16/SUM($F$3,$G$3,$H$3,$I$3),5) -> 0 | H17: {=IF(ROUND(ROUND(G17,2)-G17,4)=0,_xlfn.XLOOKUP(G17,INDIRECT($A$4&"!$G$41:$G$141"),INDIRECT($A$4&"!$A$41:$A$141"),0,1,1),IF(G17>=1,0,(ROUNDUP(G17,2)-G17)*100*_xlfn.XLOOKUP(G17,INDIRECT($A$4&"!$G$41:$G$141"),INDIRECT($A$4&"!$A$41:$A$141"),0,-1,-1)+(G17-ROUNDDOWN(G17,2))*100*_xlfn.XLOOKUP(G17,INDIRECT($A$4&"!$G$41:$G$141"),INDIRECT($A$4&"!$A$41:$A$141"),0,1,1)))} -> 1 | I17: =IF(F16*1000+$F$4*(1-$E17)*H17>$D17*1000,$D17*1000-F16*1000,$F$4*(1-$E17)*H17) -> 243.75 | J17: {=IF(COUNTIFS('PTC NaTran'!$K$7:$K$15996,"",'PTC NaTran'!$A$7:$A$15996,J$16,'PTC NaTran'!$D$7:$D$15996,$A17,'PTC NaTran'!$C$7:$C$15996,"DEL")>0,J$14,SUMIFS('PTC NaTran'!$K$7:$K$15996,'PTC NaTran'!$A$7:$A$15996,J$16,'PTC NaTran'!$D$7:$D$15996,$A17,'PTC NaTran'!$C$7:$C$15996,"DEL")*1.0026*$F$4/INDIRECT($A$4&"!D9"))} -> 375 | K17: {=IF(COUNTIFS('PTC NaTran'!$K$7:$K$15996,"",'PTC NaTran'!$A$7:$A$15996,K$16,'PTC NaTran'!$D$7:$D$15996,$A17,'PTC NaTran'!$C$7:$C$15996,"DEL")>0,K$14,SUMIFS('PTC NaTran'!$K$7:$K$15996,'PTC NaTran'!$A$7:$A$15996,K$16,'PTC NaTran'!$D$7:$D$15996,$A17,'PTC NaTran'!$C$7:$C$15996,"DEL")*1.0026*$F$4/INDIRECT($A$4&"!D9"))} -> 375 | L17: =L16+O17/1000 -> 0.24375 | M17: =ROUND(L16/SUM($F$3,$G$3,$H$3,$I$3),5) -> 0 | N17: {=IF(ROUND(ROUND(M17,2)-M17,4)=0,_xlfn.XLOOKUP(M17,INDIRECT($A$4&"!$G$41:$G$141"),INDIRECT($A$4&"!$A$41:$A$141"),0,1,1),IF(M17>=1,0,(ROUNDUP(M17,2)-M17)*100*_xlfn.XLOOKUP(M17,INDIRECT($A$4&"!$G$41:$G$141"),INDIRECT($A$4&"!$A$41:$A$141"),0,-1,-1)+(M17-ROUNDDOWN(M17,2))*100*_xlfn.XLOOKUP(M17,INDIRECT($A$4&"!$G$41:$G$141"),INDIRECT($A$4&"!$A$41:$A$141"),0,1,1)))} -> 1 | O17: =IF(L16*1000+MIN(J17,K17,$F$4*(1-$E17)*N17)>$D17*1000,$D17*1000-L16*1000,MIN(J17,K17,$F$4*(1-$E17)*N17)) -> 243.75 | S17: =S16+V17/1000 -> 0.375 | T17: =MIN(ROUND(S16/SUM($F$3,$G$3,$H$3,$I$3),5),1) -> 0 | U17: {=IF(ROUND(ROUND(T17,2)-T17,4)=0,_xlfn.XLOOKUP(T17,INDIRECT($A$4&"!$G$41:$G$141"),INDIRECT($A$4&"!$A$41:$A$141"),0,1,1),IF(T17>=1,0,(ROUNDUP(T17,2)-T17)*100*_xlfn.XLOOKUP(T17,INDIRECT($A$4&"!$G$41:$G$141"),INDIRECT($A$4&"!$A$41:$A$141"),0,-1,-1)+(T17-ROUNDDOWN(T17,2))*100*_xlfn.XLOOKUP(T17,INDIRECT($A$4&"!$G$41:$G$141"),INDIRECT($A$4&"!$A$41:$A$141"),0,1,1)))} -> 1 | V17: =$F$4*(1)*U17 -> 375
A18: =A17+1 -> 46479 | B18: {=_xlfn.XLOOKUP(A18,INDIRECT($A$5&"!$AJ$41:$AJ$406"),INDIRECT($A$5&"!$AK$41:$AK$406"))*SUM($F$3:$I$3)} -> 0 | C18: {=_xlfn.XLOOKUP(A18,INDIRECT($A$5&"!$AJ$41:$AJ$406"),INDIRECT($A$5&"!$AL$41:$AL$406"))*SUM($F$3:$I$3)} -> 45 | D18: {=_xlfn.XLOOKUP(A18,INDIRECT($A$5&"!$AJ$41:$AJ$406"),INDIRECT($A$5&"!$AO$41:$AO$406"))*SUM($F$3:$I$3)} -> 38.25 | E18: {=SUMPRODUCT(('PT Storengy'!$B$8:$I$372)*('PT Storengy'!$A$8:$A$372=$A18)*('PT Storengy'!$B$5:$I$5=$A$6)*('PT Storengy'!$B$7:$I$7=$A$7))} -> 0.35 | F18: =F17+I18/1000 -> 0.4875 | G18: =ROUND(F17/SUM($F$3,$G$3,$H$3,$I$3),5) -> 0.00542 | H18: {=IF(ROUND(ROUND(G18,2)-G18,4)=0,_xlfn.XLOOKUP(G18,INDIRECT($A$4&"!$G$41:$G$141"),INDIRECT($A$4&"!$A$41:$A$141"),0,1,1),IF(G18>=1,0,(ROUNDUP(G18,2)-G18)*100*_xlfn.XLOOKUP(G18,INDIRECT($A$4&"!$G$41:$G$141"),INDIRECT($A$4&"!$A$41:$A$141"),0,-1,-1)+(G18-ROUNDDOWN(G18,2))*100*_xlfn.XLOOKUP(G18,INDIRECT($A$4&"!$G$41:$G$141"),INDIRECT($A$4&"!$A$41:$A$141"),0,1,1)))} -> 1 | I18: =IF(F17*1000+$F$4*(1-$E18)*H18>$D18*1000,D18*1000-F17*1000,$F$4*(1-$E18)*H18) -> 243.75 | J18: {=IF(COUNTIFS('PTC NaTran'!$K$7:$K$15996,"",'PTC NaTran'!$A$7:$A$15996,J$16,'PTC NaTran'!$D$7:$D$15996,$A18,'PTC NaTran'!$C$7:$C$15996,"DEL")>0,J$14,SUMIFS('PTC NaTran'!$K$7:$K$15996,'PTC NaTran'!$A$7:$A$15996,J$16,'PTC NaTran'!$D$7:$D$15996,$A18,'PTC NaTran'!$C$7:$C$15996,"DEL")*1.0026*$F$4/INDIRECT($A$4&"!D9"))} -> 375 | K18: {=IF(COUNTIFS('PTC NaTran'!$K$7:$K$15996,"",'PTC NaTran'!$A$7:$A$15996,K$16,'PTC NaTran'!$D$7:$D$15996,$A18,'PTC NaTran'!$C$7:$C$15996,"DEL")>0,K$14,SUMIFS('PTC NaTran'!$K$7:$K$15996,'PTC NaTran'!$A$7:$A$15996,K$16,'PTC NaTran'!$D$7:$D$15996,$A18,'PTC NaTran'!$C$7:$C$15996,"DEL")*1.0026*$F$4/INDIRECT($A$4&"!D9"))} -> 375 | L18: =L17+O18/1000 -> 0.4875 | M18: =ROUND(L17/SUM($F$3,$G$3,$H$3,$I$3),5) -> 0.00542 | N18: {=IF(ROUND(ROUND(M18,2)-M18,4)=0,_xlfn.XLOOKUP(M18,INDIRECT($A$4&"!$G$41:$G$141"),INDIRECT($A$4&"!$A$41:$A$141"),0,1,1),IF(M18>=1,0,(ROUNDUP(M18,2)-M18)*100*_xlfn.XLOOKUP(M18,INDIRECT($A$4&"!$G$41:$G$141"),INDIRECT($A$4&"!$A$41:$A$141"),0,-1,-1)+(M18-ROUNDDOWN(M18,2))*100*_xlfn.XLOOKUP(M18,INDIRECT($A$4&"!$G$41:$G$141"),INDIRECT($A$4&"!$A$41:$A$141"),0,1,1)))} -> 1 | O18: =IF(L17*1000+MIN(J18,K18,$F$4*(1-$E18)*N18)>$D18*1000,$D18*1000-L17*1000,MIN(J18,K18,$F$4*(1-$E18)*N18)) -> 243.75 | S18: =S17+V18/1000 -> 0.75 | T18: =MIN(ROUND(S17/SUM($F$3,$G$3,$H$3,$I$3),5),1) -> 0.00833 | U18: {=IF(ROUND(ROUND(T18,2)-T18,4)=0,_xlfn.XLOOKUP(T18,INDIRECT($A$4&"!$G$41:$G$141"),INDIRECT($A$4&"!$A$41:$A$141"),0,1,1),IF(T18>=1,0,(ROUNDUP(T18,2)-T18)*100*_xlfn.XLOOKUP(T18,INDIRECT($A$4&"!$G$41:$G$141"),INDIRECT($A$4&"!$A$41:$A$141"),0,-1,-1)+(T18-ROUNDDOWN(T18,2))*100*_xlfn.XLOOKUP(T18,INDIRECT($A$4&"!$G$41:$G$141"),INDIRECT($A$4&"!$A$41:$A$141"),0,1,1)))} -> 1 | V18: =$F$4*(1)*U18 -> 375
A19: =A18+1 -> 46480 | B19: {=_xlfn.XLOOKUP(A19,INDIRECT($A$5&"!$AJ$41:$AJ$406"),INDIRECT($A$5&"!$AK$41:$AK$406"))*SUM($F$3:$I$3)} -> 0 | C19: {=_xlfn.XLOOKUP(A19,INDIRECT($A$5&"!$AJ$41:$AJ$406"),INDIRECT($A$5&"!$AL$41:$AL$406"))*SUM($F$3:$I$3)} -> 45 | D19: {=_xlfn.XLOOKUP(A19,INDIRECT($A$5&"!$AJ$41:$AJ$406"),INDIRECT($A$5&"!$AO$41:$AO$406"))*SUM($F$3:$I$3)} -> 38.25 | E19: {=SUMPRODUCT(('PT Storengy'!$B$8:$I$372)*('PT Storengy'!$A$8:$A$372=$A19)*('PT Storengy'!$B$5:$I$5=$A$6)*('PT Storengy'!$B$7:$I$7=$A$7))} -> 0.35 | F19: =F18+I19/1000 -> 0.73125 | G19: =ROUND(F18/SUM($F$3,$G$3,$H$3,$I$3),5) -> 0.01083 | H19: {=IF(ROUND(ROUND(G19,2)-G19,4)=0,_xlfn.XLOOKUP(G19,INDIRECT($A$4&"!$G$41:$G$141"),INDIRECT($A$4&"!$A$41:$A$141"),0,1,1),IF(G19>=1,0,(ROUNDUP(G19,2)-G19)*100*_xlfn.XLOOKUP(G19,INDIRECT($A$4&"!$G$41:$G$141"),INDIRECT($A$4&"!$A$41:$A$141"),0,-1,-1)+(G19-ROUNDDOWN(G19,2))*100*_xlfn.XLOOKUP(G19,INDIRECT($A$4&"!$G$41:$G$141"),INDIRECT($A$4&"!$A$41:$A$141"),0,1,1)))} -> 1 | I19: =IF(F18*1000+$F$4*(1-$E19)*H19>$D19*1000,D19*1000-F18*1000,$F$4*(1-$E19)*H19) -> 243.75 | J19: {=IF(COUNTIFS('PTC NaTran'!$K$7:$K$15996,"",'PTC NaTran'!$A$7:$A$15996,J$16,'PTC NaTran'!$D$7:$D$15996,$A19,'PTC NaTran'!$C$7:$C$15996,"DEL")>0,J$14,SUMIFS('PTC NaTran'!$K$7:$K$15996,'PTC NaTran'!$A$7:$A$15996,J$16,'PTC NaTran'!$D$7:$D$15996,$A19,'PTC NaTran'!$C$7:$C$15996,"DEL")*1.0026*$F$4/INDIRECT($A$4&"!D9"))} -> 375 | K19: {=IF(COUNTIFS('PTC NaTran'!$K$7:$K$15996,"",'PTC NaTran'!$A$7:$A$15996,K$16,'PTC NaTran'!$D$7:$D$15996,$A19,'PTC NaTran'!$C$7:$C$15996,"DEL")>0,K$14,SUMIFS('PTC NaTran'!$K$7:$K$15996,'PTC NaTran'!$A$7:$A$15996,K$16,'PTC NaTran'!$D$7:$D$15996,$A19,'PTC NaTran'!$C$7:$C$15996,"DEL")*1.0026*$F$4/INDIRECT($A$4&"!D9"))} -> 375 | L19: =L18+O19/1000 -> 0.73125 | M19: =ROUND(L18/SUM($F$3,$G$3,$H$3,$I$3),5) -> 0.01083 | N19: {=IF(ROUND(ROUND(M19,2)-M19,4)=0,_xlfn.XLOOKUP(M19,INDIRECT($A$4&"!$G$41:$G$141"),INDIRECT($A$4&"!$A$41:$A$141"),0,1,1),IF(M19>=1,0,(ROUNDUP(M19,2)-M19)*100*_xlfn.XLOOKUP(M19,INDIRECT($A$4&"!$G$41:$G$141"),INDIRECT($A$4&"!$A$41:$A$141"),0,-1,-1)+(M19-ROUNDDOWN(M19,2))*100*_xlfn.XLOOKUP(M19,INDIRECT($A$4&"!$G$41:$G$141"),INDIRECT($A$4&"!$A$41:$A$141"),0,1,1)))} -> 1 | O19: =IF(L18*1000+MIN(J19,K19,$F$4*(1-$E19)*N19)>$D19*1000,$D19*1000-L18*1000,MIN(J19,K19,$F$4*(1-$E19)*N19)) -> 243.75 | S19: =S18+V19/1000 -> 1.125 | T19: =MIN(ROUND(S18/SUM($F$3,$G$3,$H$3,$I$3),5),1) -> 0.01667 | U19: {=IF(ROUND(ROUND(T19,2)-T19,4)=0,_xlfn.XLOOKUP(T19,INDIRECT($A$4&"!$G$41:$G$141"),INDIRECT($A$4&"!$A$41:$A$141"),0,1,1),IF(T19>=1,0,(ROUNDUP(T19,2)-T19)*100*_xlfn.XLOOKUP(T19,INDIRECT($A$4&"!$G$41:$G$141"),INDIRECT($A$4&"!$A$41:$A$141"),0,-1,-1)+(T19-ROUNDDOWN(T19,2))*100*_xlfn.XLOOKUP(T19,INDIRECT($A$4&"!$G$41:$G$141"),INDIRECT($A$4&"!$A$41:$A$141"),0,1,1)))} -> 1 | V19: =$F$4*(1)*U19 -> 375
A20: =A19+1 -> 46481 | B20: {=_xlfn.XLOOKUP(A20,INDIRECT($A$5&"!$AJ$41:$AJ$406"),INDIRECT($A$5&"!$AK$41:$AK$406"))*SUM($F$3:$I$3)} -> 0 | C20: {=_xlfn.XLOOKUP(A20,INDIRECT($A$5&"!$AJ$41:$AJ$406"),INDIRECT($A$5&"!$AL$41:$AL$406"))*SUM($F$3:$I$3)} -> 45 | D20: {=_xlfn.XLOOKUP(A20,INDIRECT($A$5&"!$AJ$41:$AJ$406"),INDIRECT($A$5&"!$AO$41:$AO$406"))*SUM($F$3:$I$3)} -> 38.25 | E20: {=SUMPRODUCT(('PT Storengy'!$B$8:$I$372)*('PT Storengy'!$A$8:$A$372=$A20)*('PT Storengy'!$B$5:$I$5=$A$6)*('PT Storengy'!$B$7:$I$7=$A$7))} -> 0.35 | F20: =F19+I20/1000 -> 0.975 | G20: =ROUND(F19/SUM($F$3,$G$3,$H$3,$I$3),5) -> 0.01625 | H20: {=IF(ROUND(ROUND(G20,2)-G20,4)=0,_xlfn.XLOOKUP(G20,INDIRECT($A$4&"!$G$41:$G$141"),INDIRECT($A$4&"!$A$41:$A$141"),0,1,1),IF(G20>=1,0,(ROUNDUP(G20,2)-G20)*100*_xlfn.XLOOKUP(G20,INDIRECT($A$4&"!$G$41:$G$141"),INDIRECT($A$4&"!$A$41:$A$141"),0,-1,-1)+(G20-ROUNDDOWN(G20,2))*100*_xlfn.XLOOKUP(G20,INDIRECT($A$4&"!$G$41:$G$141"),INDIRECT($A$4&"!$A$41:$A$141"),0,1,1)))} -> 1 | I20: =IF(F19*1000+$F$4*(1-$E20)*H20>$D20*1000,D20*1000-F19*1000,$F$4*(1-$E20)*H20) -> 243.75 | J20: {=IF(COUNTIFS('PTC NaTran'!$K$7:$K$15996,"",'PTC NaTran'!$A$7:$A$15996,J$16,'PTC NaTran'!$D$7:$D$15996,$A20,'PTC NaTran'!$C$7:$C$15996,"DEL")>0,J$14,SUMIFS('PTC NaTran'!$K$7:$K$15996,'PTC NaTran'!$A$7:$A$15996,J$16,'PTC NaTran'!$D$7:$D$15996,$A20,'PTC NaTran'!$C$7:$C$15996,"DEL")*1.0026*$F$4/INDIRECT($A$4&"!D9"))} -> 375 | K20: {=IF(COUNTIFS('PTC NaTran'!$K$7:$K$15996,"",'PTC NaTran'!$A$7:$A$15996,K$16,'PTC NaTran'!$D$7:$D$15996,$A20,'PTC NaTran'!$C$7:$C$15996,"DEL")>0,K$14,SUMIFS('PTC NaTran'!$K$7:$K$15996,'PTC NaTran'!$A$7:$A$15996,K$16,'PTC NaTran'!$D$7:$D$15996,$A20,'PTC NaTran'!$C$7:$C$15996,"DEL")*1.0026*$F$4/INDIRECT($A$4&"!D9"))} -> 375 | L20: =L19+O20/1000 -> 0.975 | M20: =ROUND(L19/SUM($F$3,$G$3,$H$3,$I$3),5) -> 0.01625 | N20: {=IF(ROUND(ROUND(M20,2)-M20,4)=0,_xlfn.XLOOKUP(M20,INDIRECT($A$4&"!$G$41:$G$141"),INDIRECT($A$4&"!$A$41:$A$141"),0,1,1),IF(M20>=1,0,(ROUNDUP(M20,2)-M20)*100*_xlfn.XLOOKUP(M20,INDIRECT($A$4&"!$G$41:$G$141"),INDIRECT($A$4&"!$A$41:$A$141"),0,-1,-1)+(M20-ROUNDDOWN(M20,2))*100*_xlfn.XLOOKUP(M20,INDIRECT($A$4&"!$G$41:$G$141"),INDIRECT($A$4&"!$A$41:$A$141"),0,1,1)))} -> 1 | O20: =IF(L19*1000+MIN(J20,K20,$F$4*(1-$E20)*N20)>$D20*1000,$D20*1000-L19*1000,MIN(J20,K20,$F$4*(1-$E20)*N20)) -> 243.75 | S20: =S19+V20/1000 -> 1.5 | T20: =MIN(ROUND(S19/SUM($F$3,$G$3,$H$3,$I$3),5),1) -> 0.025 | U20: {=IF(ROUND(ROUND(T20,2)-T20,4)=0,_xlfn.XLOOKUP(T20,INDIRECT($A$4&"!$G$41:$G$141"),INDIRECT($A$4&"!$A$41:$A$141"),0,1,1),IF(T20>=1,0,(ROUNDUP(T20,2)-T20)*100*_xlfn.XLOOKUP(T20,INDIRECT($A$4&"!$G$41:$G$141"),INDIRECT($A$4&"!$A$41:$A$141"),0,-1,-1)+(T20-ROUNDDOWN(T20,2))*100*_xlfn.XLOOKUP(T20,INDIRECT($A$4&"!$G$41:$G$141"),INDIRECT($A$4&"!$A$41:$A$141"),0,1,1)))} -> 1 | V20: =$F$4*(1)*U20 -> 375
A21: =A20+1 -> 46482 | B21: {=_xlfn.XLOOKUP(A21,INDIRECT($A$5&"!$AJ$41:$AJ$406"),INDIRECT($A$5&"!$AK$41:$AK$406"))*SUM($F$3:$I$3)} -> 0 | C21: {=_xlfn.XLOOKUP(A21,INDIRECT($A$5&"!$AJ$41:$AJ$406"),INDIRECT($A$5&"!$AL$41:$AL$406"))*SUM($F$3:$I$3)} -> 45 | D21: {=_xlfn.XLOOKUP(A21,INDIRECT($A$5&"!$AJ$41:$AJ$406"),INDIRECT($A$5&"!$AO$41:$AO$406"))*SUM($F$3:$I$3)} -> 38.25 | E21: {=SUMPRODUCT(('PT Storengy'!$B$8:$I$372)*('PT Storengy'!$A$8:$A$372=$A21)*('PT Storengy'!$B$5:$I$5=$A$6)*('PT Storengy'!$B$7:$I$7=$A$7))} -> 0.35 | F21: =F20+I21/1000 -> 1.21875 | G21: =ROUND(F20/SUM($F$3,$G$3,$H$3,$I$3),5) -> 0.02167 | H21: {=IF(ROUND(ROUND(G21,2)-G21,4)=0,_xlfn.XLOOKUP(G21,INDIRECT($A$4&"!$G$41:$G$141"),INDIRECT($A$4&"!$A$41:$A$141"),0,1,1),IF(G21>=1,0,(ROUNDUP(G21,2)-G21)*100*_xlfn.XLOOKUP(G21,INDIRECT($A$4&"!$G$41:$G$141"),INDIRECT($A$4&"!$A$41:$A$141"),0,-1,-1)+(G21-ROUNDDOWN(G21,2))*100*_xlfn.XLOOKUP(G21,INDIRECT($A$4&"!$G$41:$G$141"),INDIRECT($A$4&"!$A$41:$A$141"),0,1,1)))} -> 1 | I21: =IF(F20*1000+$F$4*(1-$E21)*H21>$D21*1000,D21*1000-F20*1000,$F$4*(1-$E21)*H21) -> 243.75 | J21: {=IF(COUNTIFS('PTC NaTran'!$K$7:$K$15996,"",'PTC NaTran'!$A$7:$A$15996,J$16,'PTC NaTran'!$D$7:$D$15996,$A21,'PTC NaTran'!$C$7:$C$15996,"DEL")>0,J$14,SUMIFS('PTC NaTran'!$K$7:$K$15996,'PTC NaTran'!$A$7:$A$15996,J$16,'PTC NaTran'!$D$7:$D$15996,$A21,'PTC NaTran'!$C$7:$C$15996,"DEL")*1.0026*$F$4/INDIRECT($A$4&"!D9"))} -> 375 | K21: {=IF(COUNTIFS('PTC NaTran'!$K$7:$K$15996,"",'PTC NaTran'!$A$7:$A$15996,K$16,'PTC NaTran'!$D$7:$D$15996,$A21,'PTC NaTran'!$C$7:$C$15996,"DEL")>0,K$14,SUMIFS('PTC NaTran'!$K$7:$K$15996,'PTC NaTran'!$A$7:$A$15996,K$16,'PTC NaTran'!$D$7:$D$15996,$A21,'PTC NaTran'!$C$7:$C$15996,"DEL")*1.0026*$F$4/INDIRECT($A$4&"!D9"))} -> 334.8684 | L21: =L20+O21/1000 -> 1.21875 | M21: =ROUND(L20/SUM($F$3,$G$3,$H$3,$I$3),5) -> 0.02167 | N21: {=IF(ROUND(ROUND(M21,2)-M21,4)=0,_xlfn.XLOOKUP(M21,INDIRECT($A$4&"!$G$41:$G$141"),INDIRECT($A$4&"!$A$41:$A$141"),0,1,1),IF(M21>=1,0,(ROUNDUP(M21,2)-M21)*100*_xlfn.XLOOKUP(M21,INDIRECT($A$4&"!$G$41:$G$141"),INDIRECT($A$4&"!$A$41:$A$141"),0,-1,-1)+(M21-ROUNDDOWN(M21,2))*100*_xlfn.XLOOKUP(M21,INDIRECT($A$4&"!$G$41:$G$141"),INDIRECT($A$4&"!$A$41:$A$141"),0,1,1)))} -> 1 | O21: =IF(L20*1000+MIN(J21,K21,$F$4*(1-$E21)*N21)>$D21*1000,$D21*1000-L20*1000,MIN(J21,K21,$F$4*(1-$E21)*N21)) -> 243.75 | S21: =S20+V21/1000 -> 1.875 | T21: =MIN(ROUND(S20/SUM($F$3,$G$3,$H$3,$I$3),5),1) -> 0.03333 | U21: {=IF(ROUND(ROUND(T21,2)-T21,4)=0,_xlfn.XLOOKUP(T21,INDIRECT($A$4&"!$G$41:$G$141"),INDIRECT($A$4&"!$A$41:$A$141"),0,1,1),IF(T21>=1,0,(ROUNDUP(T21,2)-T21)*100*_xlfn.XLOOKUP(T21,INDIRECT($A$4&"!$G$41:$G$141"),INDIRECT($A$4&"!$A$41:$A$141"),0,-1,-1)+(T21-ROUNDDOWN(T21,2))*100*_xlfn.XLOOKUP(T21,INDIRECT($A$4&"!$G$41:$G$141"),INDIRECT($A$4&"!$A$41:$A$141"),0,1,1)))} -> 1 | V21: =$F$4*(1)*U21 -> 375
A22: =A21+1 -> 46483 | B22: {=_xlfn.XLOOKUP(A22,INDIRECT($A$5&"!$AJ$41:$AJ$406"),INDIRECT($A$5&"!$AK$41:$AK$406"))*SUM($F$3:$I$3)} -> 0 | C22: {=_xlfn.XLOOKUP(A22,INDIRECT($A$5&"!$AJ$41:$AJ$406"),INDIRECT($A$5&"!$AL$41:$AL$406"))*SUM($F$3:$I$3)} -> 45 | D22: {=_xlfn.XLOOKUP(A22,INDIRECT($A$5&"!$AJ$41:$AJ$406"),INDIRECT($A$5&"!$AO$41:$AO$406"))*SUM($F$3:$I$3)} -> 38.25 | E22: {=SUMPRODUCT(('PT Storengy'!$B$8:$I$372)*('PT Storengy'!$A$8:$A$372=$A22)*('PT Storengy'!$B$5:$I$5=$A$6)*('PT Storengy'!$B$7:$I$7=$A$7))} -> 0.35 | F22: =F21+I22/1000 -> 1.4625 | G22: =ROUND(F21/SUM($F$3,$G$3,$H$3,$I$3),5) -> 0.02708 | H22: {=IF(ROUND(ROUND(G22,2)-G22,4)=0,_xlfn.XLOOKUP(G22,INDIRECT($A$4&"!$G$41:$G$141"),INDIRECT($A$4&"!$A$41:$A$141"),0,1,1),IF(G22>=1,0,(ROUNDUP(G22,2)-G22)*100*_xlfn.XLOOKUP(G22,INDIRECT($A$4&"!$G$41:$G$141"),INDIRECT($A$4&"!$A$41:$A$141"),0,-1,-1)+(G22-ROUNDDOWN(G22,2))*100*_xlfn.XLOOKUP(G22,INDIRECT($A$4&"!$G$41:$G$141"),INDIRECT($A$4&"!$A$41:$A$141"),0,1,1)))} -> 1 | I22: =IF(F21*1000+$F$4*(1-$E22)*H22>$D22*1000,D22*1000-F21*1000,$F$4*(1-$E22)*H22) -> 243.75 | J22: {=IF(COUNTIFS('PTC NaTran'!$K$7:$K$15996,"",'PTC NaTran'!$A$7:$A$15996,J$16,'PTC NaTran'!$D$7:$D$15996,$A22,'PTC NaTran'!$C$7:$C$15996,"DEL")>0,J$14,SUMIFS('PTC NaTran'!$K$7:$K$15996,'PTC NaTran'!$A$7:$A$15996,J$16,'PTC NaTran'!$D$7:$D$15996,$A22,'PTC NaTran'!$C$7:$C$15996,"DEL")*1.0026*$F$4/INDIRECT($A$4&"!D9"))} -> 375 | K22: {=IF(COUNTIFS('PTC NaTran'!$K$7:$K$15996,"",'PTC NaTran'!$A$7:$A$15996,K$16,'PTC NaTran'!$D$7:$D$15996,$A22,'PTC NaTran'!$C$7:$C$15996,"DEL")>0,K$14,SUMIFS('PTC NaTran'!$K$7:$K$15996,'PTC NaTran'!$A$7:$A$15996,K$16,'PTC NaTran'!$D$7:$D$15996,$A22,'PTC NaTran'!$C$7:$C$15996,"DEL")*1.0026*$F$4/INDIRECT($A$4&"!D9"))} -> 334.8684 | L22: =L21+O22/1000 -> 1.4625 | M22: =ROUND(L21/SUM($F$3,$G$3,$H$3,$I$3),5) -> 0.02708 | N22: {=IF(ROUND(ROUND(M22,2)-M22,4)=0,_xlfn.XLOOKUP(M22,INDIRECT($A$4&"!$G$41:$G$141"),INDIRECT($A$4&"!$A$41:$A$141"),0,1,1),IF(M22>=1,0,(ROUNDUP(M22,2)-M22)*100*_xlfn.XLOOKUP(M22,INDIRECT($A$4&"!$G$41:$G$141"),INDIRECT($A$4&"!$A$41:$A$141"),0,-1,-1)+(M22-ROUNDDOWN(M22,2))*100*_xlfn.XLOOKUP(M22,INDIRECT($A$4&"!$G$41:$G$141"),INDIRECT($A$4&"!$A$41:$A$141"),0,1,1)))} -> 1 | O22: =IF(L21*1000+MIN(J22,K22,$F$4*(1-$E22)*N22)>$D22*1000,$D22*1000-L21*1000,MIN(J22,K22,$F$4*(1-$E22)*N22)) -> 243.75 | S22: =S21+V22/1000 -> 2.25 | T22: =MIN(ROUND(S21/SUM($F$3,$G$3,$H$3,$I$3),5),1) -> 0.04167 | U22: {=IF(ROUND(ROUND(T22,2)-T22,4)=0,_xlfn.XLOOKUP(T22,INDIRECT($A$4&"!$G$41:$G$141"),INDIRECT($A$4&"!$A$41:$A$141"),0,1,1),IF(T22>=1,0,(ROUNDUP(T22,2)-T22)*100*_xlfn.XLOOKUP(T22,INDIRECT($A$4&"!$G$41:$G$141"),INDIRECT($A$4&"!$A$41:$A$141"),0,-1,-1)+(T22-ROUNDDOWN(T22,2))*100*_xlfn.XLOOKUP(T22,INDIRECT($A$4&"!$G$41:$G$141"),INDIRECT($A$4&"!$A$41:$A$141"),0,1,1)))} -> 1 | V22: =$F$4*(1)*U22 -> 375
A23: =A22+1 -> 46484 | B23: {=_xlfn.XLOOKUP(A23,INDIRECT($A$5&"!$AJ$41:$AJ$406"),INDIRECT($A$5&"!$AK$41:$AK$406"))*SUM($F$3:$I$3)} -> 0 | C23: {=_xlfn.XLOOKUP(A23,INDIRECT($A$5&"!$AJ$41:$AJ$406"),INDIRECT($A$5&"!$AL$41:$AL$406"))*SUM($F$3:$I$3)} -> 45 | D23: {=_xlfn.XLOOKUP(A23,INDIRECT($A$5&"!$AJ$41:$AJ$406"),INDIRECT($A$5&"!$AO$41:$AO$406"))*SUM($F$3:$I$3)} -> 38.25 | E23: {=SUMPRODUCT(('PT Storengy'!$B$8:$I$372)*('PT Storengy'!$A$8:$A$372=$A23)*('PT Storengy'!$B$5:$I$5=$A$6)*('PT Storengy'!$B$7:$I$7=$A$7))} -> 0.35 | F23: =F22+I23/1000 -> 1.70625 | G23: =ROUND(F22/SUM($F$3,$G$3,$H$3,$I$3),5) -> 0.0325 | H23: {=IF(ROUND(ROUND(G23,2)-G23,4)=0,_xlfn.XLOOKUP(G23,INDIRECT($A$4&"!$G$41:$G$141"),INDIRECT($A$4&"!$A$41:$A$141"),0,1,1),IF(G23>=1,0,(ROUNDUP(G23,2)-G23)*100*_xlfn.XLOOKUP(G23,INDIRECT($A$4&"!$G$41:$G$141"),INDIRECT($A$4&"!$A$41:$A$141"),0,-1,-1)+(G23-ROUNDDOWN(G23,2))*100*_xlfn.XLOOKUP(G23,INDIRECT($A$4&"!$G$41:$G$141"),INDIRECT($A$4&"!$A$41:$A$141"),0,1,1)))} -> 1 | I23: =IF(F22*1000+$F$4*(1-$E23)*H23>$D23*1000,D23*1000-F22*1000,$F$4*(1-$E23)*H23) -> 243.75 | J23: {=IF(COUNTIFS('PTC NaTran'!$K$7:$K$15996,"",'PTC NaTran'!$A$7:$A$15996,J$16,'PTC NaTran'!$D$7:$D$15996,$A23,'PTC NaTran'!$C$7:$C$15996,"DEL")>0,J$14,SUMIFS('PTC NaTran'!$K$7:$K$15996,'PTC NaTran'!$A$7:$A$15996,J$16,'PTC NaTran'!$D$7:$D$15996,$A23,'PTC NaTran'!$C$7:$C$15996,"DEL")*1.0026*$F$4/INDIRECT($A$4&"!D9"))} -> 375 | K23: {=IF(COUNTIFS('PTC NaTran'!$K$7:$K$15996,"",'PTC NaTran'!$A$7:$A$15996,K$16,'PTC NaTran'!$D$7:$D$15996,$A23,'PTC NaTran'!$C$7:$C$15996,"DEL")>0,K$14,SUMIFS('PTC NaTran'!$K$7:$K$15996,'PTC NaTran'!$A$7:$A$15996,K$16,'PTC NaTran'!$D$7:$D$15996,$A23,'PTC NaTran'!$C$7:$C$15996,"DEL")*1.0026*$F$4/INDIRECT($A$4&"!D9"))} -> 334.8684 | L23: =L22+O23/1000 -> 1.70625 | M23: =ROUND(L22/SUM($F$3,$G$3,$H$3,$I$3),5) -> 0.0325 | N23: {=IF(ROUND(ROUND(M23,2)-M23,4)=0,_xlfn.XLOOKUP(M23,INDIRECT($A$4&"!$G$41:$G$141"),INDIRECT($A$4&"!$A$41:$A$141"),0,1,1),IF(M23>=1,0,(ROUNDUP(M23,2)-M23)*100*_xlfn.XLOOKUP(M23,INDIRECT($A$4&"!$G$41:$G$141"),INDIRECT($A$4&"!$A$41:$A$141"),0,-1,-1)+(M23-ROUNDDOWN(M23,2))*100*_xlfn.XLOOKUP(M23,INDIRECT($A$4&"!$G$41:$G$141"),INDIRECT($A$4&"!$A$41:$A$141"),0,1,1)))} -> 1 | O23: =IF(L22*1000+MIN(J23,K23,$F$4*(1-$E23)*N23)>$D23*1000,$D23*1000-L22*1000,MIN(J23,K23,$F$4*(1-$E23)*N23)) -> 243.75 | S23: =S22+V23/1000 -> 2.625 | T23: =MIN(ROUND(S22/SUM($F$3,$G$3,$H$3,$I$3),5),1) -> 0.05 | U23: {=IF(ROUND(ROUND(T23,2)-T23,4)=0,_xlfn.XLOOKUP(T23,INDIRECT($A$4&"!$G$41:$G$141"),INDIRECT($A$4&"!$A$41:$A$141"),0,1,1),IF(T23>=1,0,(ROUNDUP(T23,2)-T23)*100*_xlfn.XLOOKUP(T23,INDIRECT($A$4&"!$G$41:$G$141"),INDIRECT($A$4&"!$A$41:$A$141"),0,-1,-1)+(T23-ROUNDDOWN(T23,2))*100*_xlfn.XLOOKUP(T23,INDIRECT($A$4&"!$G$41:$G$141"),INDIRECT($A$4&"!$A$41:$A$141"),0,1,1)))} -> 1 | V23: =$F$4*(1)*U23 -> 375
A24: =A23+1 -> 46485 | B24: {=_xlfn.XLOOKUP(A24,INDIRECT($A$5&"!$AJ$41:$AJ$406"),INDIRECT($A$5&"!$AK$41:$AK$406"))*SUM($F$3:$I$3)} -> 0 | C24: {=_xlfn.XLOOKUP(A24,INDIRECT($A$5&"!$AJ$41:$AJ$406"),INDIRECT($A$5&"!$AL$41:$AL$406"))*SUM($F$3:$I$3)} -> 45 | D24: {=_xlfn.XLOOKUP(A24,INDIRECT($A$5&"!$AJ$41:$AJ$406"),INDIRECT($A$5&"!$AO$41:$AO$406"))*SUM($F$3:$I$3)} -> 38.25 | E24: {=SUMPRODUCT(('PT Storengy'!$B$8:$I$372)*('PT Storengy'!$A$8:$A$372=$A24)*('PT Storengy'!$B$5:$I$5=$A$6)*('PT Storengy'!$B$7:$I$7=$A$7))} -> 0.35 | F24: =F23+I24/1000 -> 1.95 | G24: =ROUND(F23/SUM($F$3,$G$3,$H$3,$I$3),5) -> 0.03792 | H24: {=IF(ROUND(ROUND(G24,2)-G24,4)=0,_xlfn.XLOOKUP(G24,INDIRECT($A$4&"!$G$41:$G$141"),INDIRECT($A$4&"!$A$41:$A$141"),0,1,1),IF(G24>=1,0,(ROUNDUP(G24,2)-G24)*100*_xlfn.XLOOKUP(G24,INDIRECT($A$4&"!$G$41:$G$141"),INDIRECT($A$4&"!$A$41:$A$141"),0,-1,-1)+(G24-ROUNDDOWN(G24,2))*100*_xlfn.XLOOKUP(G24,INDIRECT($A$4&"!$G$41:$G$141"),INDIRECT($A$4&"!$A$41:$A$141"),0,1,1)))} -> 1 | I24: =IF(F23*1000+$F$4*(1-$E24)*H24>$D24*1000,D24*1000-F23*1000,$F$4*(1-$E24)*H24) -> 243.75 | J24: {=IF(COUNTIFS('PTC NaTran'!$K$7:$K$15996,"",'PTC NaTran'!$A$7:$A$15996,J$16,'PTC NaTran'!$D$7:$D$15996,$A24,'PTC NaTran'!$C$7:$C$15996,"DEL")>0,J$14,SUMIFS('PTC NaTran'!$K$7:$K$15996,'PTC NaTran'!$A$7:$A$15996,J$16,'PTC NaTran'!$D$7:$D$15996,$A24,'PTC NaTran'!$C$7:$C$15996,"DEL")*1.0026*$F$4/INDIRECT($A$4&"!D9"))} -> 375 | K24: {=IF(COUNTIFS('PTC NaTran'!$K$7:$K$15996,"",'PTC NaTran'!$A$7:$A$15996,K$16,'PTC NaTran'!$D$7:$D$15996,$A24,'PTC NaTran'!$C$7:$C$15996,"DEL")>0,K$14,SUMIFS('PTC NaTran'!$K$7:$K$15996,'PTC NaTran'!$A$7:$A$15996,K$16,'PTC NaTran'!$D$7:$D$15996,$A24,'PTC NaTran'!$C$7:$C$15996,"DEL")*1.0026*$F$4/INDIRECT($A$4&"!D9"))} -> 334.8684 | L24: =L23+O24/1000 -> 1.95 | M24: =ROUND(L23/SUM($F$3,$G$3,$H$3,$I$3),5) -> 0.03792 | N24: {=IF(ROUND(ROUND(M24,2)-M24,4)=0,_xlfn.XLOOKUP(M24,INDIRECT($A$4&"!$G$41:$G$141"),INDIRECT($A$4&"!$A$41:$A$141"),0,1,1),IF(M24>=1,0,(ROUNDUP(M24,2)-M24)*100*_xlfn.XLOOKUP(M24,INDIRECT($A$4&"!$G$41:$G$141"),INDIRECT($A$4&"!$A$41:$A$141"),0,-1,-1)+(M24-ROUNDDOWN(M24,2))*100*_xlfn.XLOOKUP(M24,INDIRECT($A$4&"!$G$41:$G$141"),INDIRECT($A$4&"!$A$41:$A$141"),0,1,1)))} -> 1 | O24: =IF(L23*1000+MIN(J24,K24,$F$4*(1-$E24)*N24)>$D24*1000,$D24*1000-L23*1000,MIN(J24,K24,$F$4*(1-$E24)*N24)) -> 243.75 | S24: =S23+V24/1000 -> 3 | T24: =MIN(ROUND(S23/SUM($F$3,$G$3,$H$3,$I$3),5),1) -> 0.05833 | U24: {=IF(ROUND(ROUND(T24,2)-T24,4)=0,_xlfn.XLOOKUP(T24,INDIRECT($A$4&"!$G$41:$G$141"),INDIRECT($A$4&"!$A$41:$A$141"),0,1,1),IF(T24>=1,0,(ROUNDUP(T24,2)-T24)*100*_xlfn.XLOOKUP(T24,INDIRECT($A$4&"!$G$41:$G$141"),INDIRECT($A$4&"!$A$41:$A$141"),0,-1,-1)+(T24-ROUNDDOWN(T24,2))*100*_xlfn.XLOOKUP(T24,INDIRECT($A$4&"!$G$41:$G$141"),INDIRECT($A$4&"!$A$41:$A$141"),0,1,1)))} -> 1 | V24: =$F$4*(1)*U24 -> 375
A25: =A24+1 -> 46486 | B25: {=_xlfn.XLOOKUP(A25,INDIRECT($A$5&"!$AJ$41:$AJ$406"),INDIRECT($A$5&"!$AK$41:$AK$406"))*SUM($F$3:$I$3)} -> 0 | C25: {=_xlfn.XLOOKUP(A25,INDIRECT($A$5&"!$AJ$41:$AJ$406"),INDIRECT($A$5&"!$AL$41:$AL$406"))*SUM($F$3:$I$3)} -> 45 | D25: {=_xlfn.XLOOKUP(A25,INDIRECT($A$5&"!$AJ$41:$AJ$406"),INDIRECT($A$5&"!$AO$41:$AO$406"))*SUM($F$3:$I$3)} -> 38.25 | E25: {=SUMPRODUCT(('PT Storengy'!$B$8:$I$372)*('PT Storengy'!$A$8:$A$372=$A25)*('PT Storengy'!$B$5:$I$5=$A$6)*('PT Storengy'!$B$7:$I$7=$A$7))} -> 0.35 | F25: =F24+I25/1000 -> 2.19375 | G25: =ROUND(F24/SUM($F$3,$G$3,$H$3,$I$3),5) -> 0.04333 | H25: {=IF(ROUND(ROUND(G25,2)-G25,4)=0,_xlfn.XLOOKUP(G25,INDIRECT($A$4&"!$G$41:$G$141"),INDIRECT($A$4&"!$A$41:$A$141"),0,1,1),IF(G25>=1,0,(ROUNDUP(G25,2)-G25)*100*_xlfn.XLOOKUP(G25,INDIRECT($A$4&"!$G$41:$G$141"),INDIRECT($A$4&"!$A$41:$A$141"),0,-1,-1)+(G25-ROUNDDOWN(G25,2))*100*_xlfn.XLOOKUP(G25,INDIRECT($A$4&"!$G$41:$G$141"),INDIRECT($A$4&"!$A$41:$A$141"),0,1,1)))} -> 1 | I25: =IF(F24*1000+$F$4*(1-$E25)*H25>$D25*1000,D25*1000-F24*1000,$F$4*(1-$E25)*H25) -> 243.75 | J25: {=IF(COUNTIFS('PTC NaTran'!$K$7:$K$15996,"",'PTC NaTran'!$A$7:$A$15996,J$16,'PTC NaTran'!$D$7:$D$15996,$A25,'PTC NaTran'!$C$7:$C$15996,"DEL")>0,J$14,SUMIFS('PTC NaTran'!$K$7:$K$15996,'PTC NaTran'!$A$7:$A$15996,J$16,'PTC NaTran'!$D$7:$D$15996,$A25,'PTC NaTran'!$C$7:$C$15996,"DEL")*1.0026*$F$4/INDIRECT($A$4&"!D9"))} -> 375 | K25: {=IF(COUNTIFS('PTC NaTran'!$K$7:$K$15996,"",'PTC NaTran'!$A$7:$A$15996,K$16,'PTC NaTran'!$D$7:$D$15996,$A25,'PTC NaTran'!$C$7:$C$15996,"DEL")>0,K$14,SUMIFS('PTC NaTran'!$K$7:$K$15996,'PTC NaTran'!$A$7:$A$15996,K$16,'PTC NaTran'!$D$7:$D$15996,$A25,'PTC NaTran'!$C$7:$C$15996,"DEL")*1.0026*$F$4/INDIRECT($A$4&"!D9"))} -> 334.8684 | L25: =L24+O25/1000 -> 2.19375 | M25: =ROUND(L24/SUM($F$3,$G$3,$H$3,$I$3),5) -> 0.04333 | N25: {=IF(ROUND(ROUND(M25,2)-M25,4)=0,_xlfn.XLOOKUP(M25,INDIRECT($A$4&"!$G$41:$G$141"),INDIRECT($A$4&"!$A$41:$A$141"),0,1,1),IF(M25>=1,0,(ROUNDUP(M25,2)-M25)*100*_xlfn.XLOOKUP(M25,INDIRECT($A$4&"!$G$41:$G$141"),INDIRECT($A$4&"!$A$41:$A$141"),0,-1,-1)+(M25-ROUNDDOWN(M25,2))*100*_xlfn.XLOOKUP(M25,INDIRECT($A$4&"!$G$41:$G$141"),INDIRECT($A$4&"!$A$41:$A$141"),0,1,1)))} -> 1 | O25: =IF(L24*1000+MIN(J25,K25,$F$4*(1-$E25)*N25)>$D25*1000,$D25*1000-L24*1000,MIN(J25,K25,$F$4*(1-$E25)*N25)) -> 243.75 | S25: =S24+V25/1000 -> 3.375 | T25: =MIN(ROUND(S24/SUM($F$3,$G$3,$H$3,$I$3),5),1) -> 0.06667 | U25: {=IF(ROUND(ROUND(T25,2)-T25,4)=0,_xlfn.XLOOKUP(T25,INDIRECT($A$4&"!$G$41:$G$141"),INDIRECT($A$4&"!$A$41:$A$141"),0,1,1),IF(T25>=1,0,(ROUNDUP(T25,2)-T25)*100*_xlfn.XLOOKUP(T25,INDIRECT($A$4&"!$G$41:$G$141"),INDIRECT($A$4&"!$A$41:$A$141"),0,-1,-1)+(T25-ROUNDDOWN(T25,2))*100*_xlfn.XLOOKUP(T25,INDIRECT($A$4&"!$G$41:$G$141"),INDIRECT($A$4&"!$A$41:$A$141"),0,1,1)))} -> 1 | V25: =$F$4*(1)*U25 -> 375
A26: =A25+1 -> 46487 | B26: {=_xlfn.XLOOKUP(A26,INDIRECT($A$5&"!$AJ$41:$AJ$406"),INDIRECT($A$5&"!$AK$41:$AK$406"))*SUM($F$3:$I$3)} -> 0 | C26: {=_xlfn.XLOOKUP(A26,INDIRECT($A$5&"!$AJ$41:$AJ$406"),INDIRECT($A$5&"!$AL$41:$AL$406"))*SUM($F$3:$I$3)} -> 45 | D26: {=_xlfn.XLOOKUP(A26,INDIRECT($A$5&"!$AJ$41:$AJ$406"),INDIRECT($A$5&"!$AO$41:$AO$406"))*SUM($F$3:$I$3)} -> 38.25 | E26: {=SUMPRODUCT(('PT Storengy'!$B$8:$I$372)*('PT Storengy'!$A$8:$A$372=$A26)*('PT Storengy'!$B$5:$I$5=$A$6)*('PT Storengy'!$B$7:$I$7=$A$7))} -> 0.35 | F26: =F25+I26/1000 -> 2.4375 | G26: =ROUND(F25/SUM($F$3,$G$3,$H$3,$I$3),5) -> 0.04875 | H26: {=IF(ROUND(ROUND(G26,2)-G26,4)=0,_xlfn.XLOOKUP(G26,INDIRECT($A$4&"!$G$41:$G$141"),INDIRECT($A$4&"!$A$41:$A$141"),0,1,1),IF(G26>=1,0,(ROUNDUP(G26,2)-G26)*100*_xlfn.XLOOKUP(G26,INDIRECT($A$4&"!$G$41:$G$141"),INDIRECT($A$4&"!$A$41:$A$141"),0,-1,-1)+(G26-ROUNDDOWN(G26,2))*100*_xlfn.XLOOKUP(G26,INDIRECT($A$4&"!$G$41:$G$141"),INDIRECT($A$4&"!$A$41:$A$141"),0,1,1)))} -> 1 | I26: =IF(F25*1000+$F$4*(1-$E26)*H26>$D26*1000,D26*1000-F25*1000,$F$4*(1-$E26)*H26) -> 243.75 | J26: {=IF(COUNTIFS('PTC NaTran'!$K$7:$K$15996,"",'PTC NaTran'!$A$7:$A$15996,J$16,'PTC NaTran'!$D$7:$D$15996,$A26,'PTC NaTran'!$C$7:$C$15996,"DEL")>0,J$14,SUMIFS('PTC NaTran'!$K$7:$K$15996,'PTC NaTran'!$A$7:$A$15996,J$16,'PTC NaTran'!$D$7:$D$15996,$A26,'PTC NaTran'!$C$7:$C$15996,"DEL")*1.0026*$F$4/INDIRECT($A$4&"!D9"))} -> 375 | K26: {=IF(COUNTIFS('PTC NaTran'!$K$7:$K$15996,"",'PTC NaTran'!$A$7:$A$15996,K$16,'PTC NaTran'!$D$7:$D$15996,$A26,'PTC NaTran'!$C$7:$C$15996,"DEL")>0,K$14,SUMIFS('PTC NaTran'!$K$7:$K$15996,'PTC NaTran'!$A$7:$A$15996,K$16,'PTC NaTran'!$D$7:$D$15996,$A26,'PTC NaTran'!$C$7:$C$15996,"DEL")*1.0026*$F$4/INDIRECT($A$4&"!D9"))} -> 375 | L26: =L25+O26/1000 -> 2.4375 | M26: =ROUND(L25/SUM($F$3,$G$3,$H$3,$I$3),5) -> 0.04875 | N26: {=IF(ROUND(ROUND(M26,2)-M26,4)=0,_xlfn.XLOOKUP(M26,INDIRECT($A$4&"!$G$41:$G$141"),INDIRECT($A$4&"!$A$41:$A$141"),0,1,1),IF(M26>=1,0,(ROUNDUP(M26,2)-M26)*100*_xlfn.XLOOKUP(M26,INDIRECT($A$4&"!$G$41:$G$141"),INDIRECT($A$4&"!$A$41:$A$141"),0,-1,-1)+(M26-ROUNDDOWN(M26,2))*100*_xlfn.XLOOKUP(M26,INDIRECT($A$4&"!$G$41:$G$141"),INDIRECT($A$4&"!$A$41:$A$141"),0,1,1)))} -> 1 | O26: =IF(L25*1000+MIN(J26,K26,$F$4*(1-$E26)*N26)>$D26*1000,$D26*1000-L25*1000,MIN(J26,K26,$F$4*(1-$E26)*N26)) -> 243.75 | S26: =S25+V26/1000 -> 3.75 | T26: =MIN(ROUND(S25/SUM($F$3,$G$3,$H$3,$I$3),5),1) -> 0.075 | U26: {=IF(ROUND(ROUND(T26,2)-T26,4)=0,_xlfn.XLOOKUP(T26,INDIRECT($A$4&"!$G$41:$G$141"),INDIRECT($A$4&"!$A$41:$A$141"),0,1,1),IF(T26>=1,0,(ROUNDUP(T26,2)-T26)*100*_xlfn.XLOOKUP(T26,INDIRECT($A$4&"!$G$41:$G$141"),INDIRECT($A$4&"!$A$41:$A$141"),0,-1,-1)+(T26-ROUNDDOWN(T26,2))*100*_xlfn.XLOOKUP(T26,INDIRECT($A$4&"!$G$41:$G$141"),INDIRECT($A$4&"!$A$41:$A$141"),0,1,1)))} -> 1 | V26: =$F$4*(1)*U26 -> 375
A27: =A26+1 -> 46488 | B27: {=_xlfn.XLOOKUP(A27,INDIRECT($A$5&"!$AJ$41:$AJ$406"),INDIRECT($A$5&"!$AK$41:$AK$406"))*SUM($F$3:$I$3)} -> 0 | C27: {=_xlfn.XLOOKUP(A27,INDIRECT($A$5&"!$AJ$41:$AJ$406"),INDIRECT($A$5&"!$AL$41:$AL$406"))*SUM($F$3:$I$3)} -> 45 | D27: {=_xlfn.XLOOKUP(A27,INDIRECT($A$5&"!$AJ$41:$AJ$406"),INDIRECT($A$5&"!$AO$41:$AO$406"))*SUM($F$3:$I$3)} -> 38.25 | E27: {=SUMPRODUCT(('PT Storengy'!$B$8:$I$372)*('PT Storengy'!$A$8:$A$372=$A27)*('PT Storengy'!$B$5:$I$5=$A$6)*('PT Storengy'!$B$7:$I$7=$A$7))} -> 0.35 | F27: =F26+I27/1000 -> 2.68125 | G27: =ROUND(F26/SUM($F$3,$G$3,$H$3,$I$3),5) -> 0.05417 | H27: {=IF(ROUND(ROUND(G27,2)-G27,4)=0,_xlfn.XLOOKUP(G27,INDIRECT($A$4&"!$G$41:$G$141"),INDIRECT($A$4&"!$A$41:$A$141"),0,1,1),IF(G27>=1,0,(ROUNDUP(G27,2)-G27)*100*_xlfn.XLOOKUP(G27,INDIRECT($A$4&"!$G$41:$G$141"),INDIRECT($A$4&"!$A$41:$A$141"),0,-1,-1)+(G27-ROUNDDOWN(G27,2))*100*_xlfn.XLOOKUP(G27,INDIRECT($A$4&"!$G$41:$G$141"),INDIRECT($A$4&"!$A$41:$A$141"),0,1,1)))} -> 1 | I27: =IF(F26*1000+$F$4*(1-$E27)*H27>$D27*1000,D27*1000-F26*1000,$F$4*(1-$E27)*H27) -> 243.75 | J27: {=IF(COUNTIFS('PTC NaTran'!$K$7:$K$15996,"",'PTC NaTran'!$A$7:$A$15996,J$16,'PTC NaTran'!$D$7:$D$15996,$A27,'PTC NaTran'!$C$7:$C$15996,"DEL")>0,J$14,SUMIFS('PTC NaTran'!$K$7:$K$15996,'PTC NaTran'!$A$7:$A$15996,J$16,'PTC NaTran'!$D$7:$D$15996,$A27,'PTC NaTran'!$C$7:$C$15996,"DEL")*1.0026*$F$4/INDIRECT($A$4&"!D9"))} -> 375 | K27: {=IF(COUNTIFS('PTC NaTran'!$K$7:$K$15996,"",'PTC NaTran'!$A$7:$A$15996,K$16,'PTC NaTran'!$D$7:$D$15996,$A27,'PTC NaTran'!$C$7:$C$15996,"DEL")>0,K$14,SUMIFS('PTC NaTran'!$K$7:$K$15996,'PTC NaTran'!$A$7:$A$15996,K$16,'PTC NaTran'!$D$7:$D$15996,$A27,'PTC NaTran'!$C$7:$C$15996,"DEL")*1.0026*$F$4/INDIRECT($A$4&"!D9"))} -> 375 | L27: =L26+O27/1000 -> 2.68125 | M27: =ROUND(L26/SUM($F$3,$G$3,$H$3,$I$3),5) -> 0.05417 | N27: {=IF(ROUND(ROUND(M27,2)-M27,4)=0,_xlfn.XLOOKUP(M27,INDIRECT($A$4&"!$G$41:$G$141"),INDIRECT($A$4&"!$A$41:$A$141"),0,1,1),IF(M27>=1,0,(ROUNDUP(M27,2)-M27)*100*_xlfn.XLOOKUP(M27,INDIRECT($A$4&"!$G$41:$G$141"),INDIRECT($A$4&"!$A$41:$A$141"),0,-1,-1)+(M27-ROUNDDOWN(M27,2))*100*_xlfn.XLOOKUP(M27,INDIRECT($A$4&"!$G$41:$G$141"),INDIRECT($A$4&"!$A$41:$A$141"),0,1,1)))} -> 1 | O27: =IF(L26*1000+MIN(J27,K27,$F$4*(1-$E27)*N27)>$D27*1000,$D27*1000-L26*1000,MIN(J27,K27,$F$4*(1-$E27)*N27)) -> 243.75 | S27: =S26+V27/1000 -> 4.125 | T27: =MIN(ROUND(S26/SUM($F$3,$G$3,$H$3,$I$3),5),1) -> 0.08333 | U27: {=IF(ROUND(ROUND(T27,2)-T27,4)=0,_xlfn.XLOOKUP(T27,INDIRECT($A$4&"!$G$41:$G$141"),INDIRECT($A$4&"!$A$41:$A$141"),0,1,1),IF(T27>=1,0,(ROUNDUP(T27,2)-T27)*100*_xlfn.XLOOKUP(T27,INDIRECT($A$4&"!$G$41:$G$141"),INDIRECT($A$4&"!$A$41:$A$141"),0,-1,-1)+(T27-ROUNDDOWN(T27,2))*100*_xlfn.XLOOKUP(T27,INDIRECT($A$4&"!$G$41:$G$141"),INDIRECT($A$4&"!$A$41:$A$141"),0,1,1)))} -> 1 | V27: =$F$4*(1)*U27 -> 375
A28: =A27+1 -> 46489 | B28: {=_xlfn.XLOOKUP(A28,INDIRECT($A$5&"!$AJ$41:$AJ$406"),INDIRECT($A$5&"!$AK$41:$AK$406"))*SUM($F$3:$I$3)} -> 0 | C28: {=_xlfn.XLOOKUP(A28,INDIRECT($A$5&"!$AJ$41:$AJ$406"),INDIRECT($A$5&"!$AL$41:$AL$406"))*SUM($F$3:$I$3)} -> 45 | D28: {=_xlfn.XLOOKUP(A28,INDIRECT($A$5&"!$AJ$41:$AJ$406"),INDIRECT($A$5&"!$AO$41:$AO$406"))*SUM($F$3:$I$3)} -> 38.25 | E28: {=SUMPRODUCT(('PT Storengy'!$B$8:$I$372)*('PT Storengy'!$A$8:$A$372=$A28)*('PT Storengy'!$B$5:$I$5=$A$6)*('PT Storengy'!$B$7:$I$7=$A$7))} -> 0.35 | F28: =F27+I28/1000 -> 2.925 | G28: =ROUND(F27/SUM($F$3,$G$3,$H$3,$I$3),5) -> 0.05958 | H28: {=IF(ROUND(ROUND(G28,2)-G28,4)=0,_xlfn.XLOOKUP(G28,INDIRECT($A$4&"!$G$41:$G$141"),INDIRECT($A$4&"!$A$41:$A$141"),0,1,1),IF(G28>=1,0,(ROUNDUP(G28,2)-G28)*100*_xlfn.XLOOKUP(G28,INDIRECT($A$4&"!$G$41:$G$141"),INDIRECT($A$4&"!$A$41:$A$141"),0,-1,-1)+(G28-ROUNDDOWN(G28,2))*100*_xlfn.XLOOKUP(G28,INDIRECT($A$4&"!$G$41:$G$141"),INDIRECT($A$4&"!$A$41:$A$141"),0,1,1)))} -> 1 | I28: =IF(F27*1000+$F$4*(1-$E28)*H28>$D28*1000,D28*1000-F27*1000,$F$4*(1-$E28)*H28) -> 243.75 | J28: {=IF(COUNTIFS('PTC NaTran'!$K$7:$K$15996,"",'PTC NaTran'!$A$7:$A$15996,J$16,'PTC NaTran'!$D$7:$D$15996,$A28,'PTC NaTran'!$C$7:$C$15996,"DEL")>0,J$14,SUMIFS('PTC NaTran'!$K$7:$K$15996,'PTC NaTran'!$A$7:$A$15996,J$16,'PTC NaTran'!$D$7:$D$15996,$A28,'PTC NaTran'!$C$7:$C$15996,"DEL")*1.0026*$F$4/INDIRECT($A$4&"!D9"))} -> 375 | K28: {=IF(COUNTIFS('PTC NaTran'!$K$7:$K$15996,"",'PTC NaTran'!$A$7:$A$15996,K$16,'PTC NaTran'!$D$7:$D$15996,$A28,'PTC NaTran'!$C$7:$C$15996,"DEL")>0,K$14,SUMIFS('PTC NaTran'!$K$7:$K$15996,'PTC NaTran'!$A$7:$A$15996,K$16,'PTC NaTran'!$D$7:$D$15996,$A28,'PTC NaTran'!$C$7:$C$15996,"DEL")*1.0026*$F$4/INDIRECT($A$4&"!D9"))} -> 278.7228 | L28: =L27+O28/1000 -> 2.925 | M28: =ROUND(L27/SUM($F$3,$G$3,$H$3,$I$3),5) -> 0.05958 | N28: {=IF(ROUND(ROUND(M28,2)-M28,4)=0,_xlfn.XLOOKUP(M28,INDIRECT($A$4&"!$G$41:$G$141"),INDIRECT($A$4&"!$A$41:$A$141"),0,1,1),IF(M28>=1,0,(ROUNDUP(M28,2)-M28)*100*_xlfn.XLOOKUP(M28,INDIRECT($A$4&"!$G$41:$G$141"),INDIRECT($A$4&"!$A$41:$A$141"),0,-1,-1)+(M28-ROUNDDOWN(M28,2))*100*_xlfn.XLOOKUP(M28,INDIRECT($A$4&"!$G$41:$G$141"),INDIRECT($A$4&"!$A$41:$A$141"),0,1,1)))} -> 1 | O28: =IF(L27*1000+MIN(J28,K28,$F$4*(1-$E28)*N28)>$D28*1000,$D28*1000-L27*1000,MIN(J28,K28,$F$4*(1-$E28)*N28)) -> 243.75 | S28: =S27+V28/1000 -> 4.5 | T28: =MIN(ROUND(S27/SUM($F$3,$G$3,$H$3,$I$3),5),1) -> 0.09167 | U28: {=IF(ROUND(ROUND(T28,2)-T28,4)=0,_xlfn.XLOOKUP(T28,INDIRECT($A$4&"!$G$41:$G$141"),INDIRECT($A$4&"!$A$41:$A$141"),0,1,1),IF(T28>=1,0,(ROUNDUP(T28,2)-T28)*100*_xlfn.XLOOKUP(T28,INDIRECT($A$4&"!$G$41:$G$141"),INDIRECT($A$4&"!$A$41:$A$141"),0,-1,-1)+(T28-ROUNDDOWN(T28,2))*100*_xlfn.XLOOKUP(T28,INDIRECT($A$4&"!$G$41:$G$141"),INDIRECT($A$4&"!$A$41:$A$141"),0,1,1)))} -> 1 | V28: =$F$4*(1)*U28 -> 375
A29: =A28+1 -> 46490 | B29: {=_xlfn.XLOOKUP(A29,INDIRECT($A$5&"!$AJ$41:$AJ$406"),INDIRECT($A$5&"!$AK$41:$AK$406"))*SUM($F$3:$I$3)} -> 0 | C29: {=_xlfn.XLOOKUP(A29,INDIRECT($A$5&"!$AJ$41:$AJ$406"),INDIRECT($A$5&"!$AL$41:$AL$406"))*SUM($F$3:$I$3)} -> 45 | D29: {=_xlfn.XLOOKUP(A29,INDIRECT($A$5&"!$AJ$41:$AJ$406"),INDIRECT($A$5&"!$AO$41:$AO$406"))*SUM($F$3:$I$3)} -> 38.25 | E29: {=SUMPRODUCT(('PT Storengy'!$B$8:$I$372)*('PT Storengy'!$A$8:$A$372=$A29)*('PT Storengy'!$B$5:$I$5=$A$6)*('PT Storengy'!$B$7:$I$7=$A$7))} -> 0.35 | F29: =F28+I29/1000 -> 3.16875 | G29: =ROUND(F28/SUM($F$3,$G$3,$H$3,$I$3),5) -> 0.065 | H29: {=IF(ROUND(ROUND(G29,2)-G29,4)=0,_xlfn.XLOOKUP(G29,INDIRECT($A$4&"!$G$41:$G$141"),INDIRECT($A$4&"!$A$41:$A$141"),0,1,1),IF(G29>=1,0,(ROUNDUP(G29,2)-G29)*100*_xlfn.XLOOKUP(G29,INDIRECT($A$4&"!$G$41:$G$141"),INDIRECT($A$4&"!$A$41:$A$141"),0,-1,-1)+(G29-ROUNDDOWN(G29,2))*100*_xlfn.XLOOKUP(G29,INDIRECT($A$4&"!$G$41:$G$141"),INDIRECT($A$4&"!$A$41:$A$141"),0,1,1)))} -> 1 | I29: =IF(F28*1000+$F$4*(1-$E29)*H29>$D29*1000,D29*1000-F28*1000,$F$4*(1-$E29)*H29) -> 243.75 | J29: {=IF(COUNTIFS('PTC NaTran'!$K$7:$K$15996,"",'PTC NaTran'!$A$7:$A$15996,J$16,'PTC NaTran'!$D$7:$D$15996,$A29,'PTC NaTran'!$C$7:$C$15996,"DEL")>0,J$14,SUMIFS('PTC NaTran'!$K$7:$K$15996,'PTC NaTran'!$A$7:$A$15996,J$16,'PTC NaTran'!$D$7:$D$15996,$A29,'PTC NaTran'!$C$7:$C$15996,"DEL")*1.0026*$F$4/INDIRECT($A$4&"!D9"))} -> 375 | K29: {=IF(COUNTIFS('PTC NaTran'!$K$7:$K$15996,"",'PTC NaTran'!$A$7:$A$15996,K$16,'PTC NaTran'!$D$7:$D$15996,$A29,'PTC NaTran'!$C$7:$C$15996,"DEL")>0,K$14,SUMIFS('PTC NaTran'!$K$7:$K$15996,'PTC NaTran'!$A$7:$A$15996,K$16,'PTC NaTran'!$D$7:$D$15996,$A29,'PTC NaTran'!$C$7:$C$15996,"DEL")*1.0026*$F$4/INDIRECT($A$4&"!D9"))} -> 278.7228 | L29: =L28+O29/1000 -> 3.16875 | M29: =ROUND(L28/SUM($F$3,$G$3,$H$3,$I$3),5) -> 0.065 | N29: {=IF(ROUND(ROUND(M29,2)-M29,4)=0,_xlfn.XLOOKUP(M29,INDIRECT($A$4&"!$G$41:$G$141"),INDIRECT($A$4&"!$A$41:$A$141"),0,1,1),IF(M29>=1,0,(ROUNDUP(M29,2)-M29)*100*_xlfn.XLOOKUP(M29,INDIRECT($A$4&"!$G$41:$G$141"),INDIRECT($A$4&"!$A$41:$A$141"),0,-1,-1)+(M29-ROUNDDOWN(M29,2))*100*_xlfn.XLOOKUP(M29,INDIRECT($A$4&"!$G$41:$G$141"),INDIRECT($A$4&"!$A$41:$A$141"),0,1,1)))} -> 1 | O29: =IF(L28*1000+MIN(J29,K29,$F$4*(1-$E29)*N29)>$D29*1000,$D29*1000-L28*1000,MIN(J29,K29,$F$4*(1-$E29)*N29)) -> 243.75 | S29: =S28+V29/1000 -> 4.875 | T29: =MIN(ROUND(S28/SUM($F$3,$G$3,$H$3,$I$3),5),1) -> 0.1 | U29: {=IF(ROUND(ROUND(T29,2)-T29,4)=0,_xlfn.XLOOKUP(T29,INDIRECT($A$4&"!$G$41:$G$141"),INDIRECT($A$4&"!$A$41:$A$141"),0,1,1),IF(T29>=1,0,(ROUNDUP(T29,2)-T29)*100*_xlfn.XLOOKUP(T29,INDIRECT($A$4&"!$G$41:$G$141"),INDIRECT($A$4&"!$A$41:$A$141"),0,-1,-1)+(T29-ROUNDDOWN(T29,2))*100*_xlfn.XLOOKUP(T29,INDIRECT($A$4&"!$G$41:$G$141"),INDIRECT($A$4&"!$A$41:$A$141"),0,1,1)))} -> 1 | V29: =$F$4*(1)*U29 -> 375
... A231: =A230+1 -> 46692 | B231: {=_xlfn.XLOOKUP(A231,INDIRECT($A$5&"!$AJ$41:$AJ$406"),INDIRECT($A$5&"!$AK$41:$AK$406"))*SUM($F$3:$I$3)} -> 0 | C231: {=_xlfn.XLOOKUP(A231,INDIRECT($A$5&"!$AJ$41:$AJ$406"),INDIRECT($A$5&"!$AL$41:$AL$406"))*SUM($F$3:$I$3)} -> 45 | D231: {=_xlfn.XLOOKUP(A231,INDIRECT($A$5&"!$AJ$41:$AJ$406"),INDIRECT($A$5&"!$AO$41:$AO$406"))*SUM($F$3:$I$3)} -> 45 | E231: {=SUMPRODUCT(('PT Storengy'!$B$8:$I$372)*('PT Storengy'!$A$8:$A$372=$A231)*('PT Storengy'!$B$5:$I$5=$A$6)*('PT Storengy'!$B$7:$I$7=$A$7))} -> 0.99 | F231: =F230+I231/1000 -> 45 | G231: =ROUND(F230/SUM($F$3,$G$3,$H$3,$I$3),5) -> 1 | H231: {=IF(ROUND(ROUND(G231,2)-G231,4)=0,_xlfn.XLOOKUP(G231,INDIRECT($A$4&"!$G$41:$G$141"),INDIRECT($A$4&"!$A$41:$A$141"),0,1,1),IF(G231>=1,0,(ROUNDUP(G231,2)-G231)*100*_xlfn.XLOOKUP(G231,INDIRECT($A$4&"!$G$41:$G$141"),INDIRECT($A$4&"!$A$41:$A$141"),0,-1,-1)+(G231-ROUNDDOWN(G231,2))*100*_xlfn.XLOOKUP(G231,INDIRECT($A$4&"!$G$41:$G$141"),INDIRECT($A$4&"!$A$41:$A$141"),0,1,1)))} -> 0.8 | I231: =IF(F230*1000+$F$4*(1-$E231)*H231>$D231*1000,D231*1000-F230*1000,$F$4*(1-$E231)*H231) -> 0 | J231: {=IF(COUNTIFS('PTC NaTran'!$K$7:$K$15996,"",'PTC NaTran'!$A$7:$A$15996,J$16,'PTC NaTran'!$D$7:$D$15996,$A231,'PTC NaTran'!$C$7:$C$15996,"DEL")>0,J$14,SUMIFS('PTC NaTran'!$K$7:$K$15996,'PTC NaTran'!$A$7:$A$15996,J$16,'PTC NaTran'!$D$7:$D$15996,$A231,'PTC NaTran'!$C$7:$C$15996,"DEL")*1.0026*$F$4/INDIRECT($A$4&"!D9"))} -> 375 | K231: {=IF(COUNTIFS('PTC NaTran'!$K$7:$K$15996,"",'PTC NaTran'!$A$7:$A$15996,K$16,'PTC NaTran'!$D$7:$D$15996,$A231,'PTC NaTran'!$C$7:$C$15996,"DEL")>0,K$14,SUMIFS('PTC NaTran'!$K$7:$K$15996,'PTC NaTran'!$A$7:$A$15996,K$16,'PTC NaTran'!$D$7:$D$15996,$A231,'PTC NaTran'!$C$7:$C$15996,"DEL")*1.0026*$F$4/INDIRECT($A$4&"!D9"))} -> 375 | L231: =L230+O231/1000 -> 45 | M231: =ROUND(L230/SUM($F$3,$G$3,$H$3,$I$3),5) -> 1 | N231: {=IF(ROUND(ROUND(M231,2)-M231,4)=0,_xlfn.XLOOKUP(M231,INDIRECT($A$4&"!$G$41:$G$141"),INDIRECT($A$4&"!$A$41:$A$141"),0,1,1),IF(M231>=1,0,(ROUNDUP(M231,2)-M231)*100*_xlfn.XLOOKUP(M231,INDIRECT($A$4&"!$G$41:$G$141"),INDIRECT($A$4&"!$A$41:$A$141"),0,-1,-1)+(M231-ROUNDDOWN(M231,2))*100*_xlfn.XLOOKUP(M231,INDIRECT($A$4&"!$G$41:$G$141"),INDIRECT($A$4&"!$A$41:$A$141"),0,1,1)))} -> 0.8 | O231: =IF(L230*1000+MIN(J231,K231,$F$4*(1-$E231)*N231)>$D231*1000,$D231*1000-L230*1000,MIN(J231,K231,$F$4*(1-$E231)*N231)) -> 0 | S231: =S230+V231/1000 -> 71.10221 | T231: =MIN(ROUND(S230/SUM($F$3,$G$3,$H$3,$I$3),5),1) -> 1 | U231: {=IF(ROUND(ROUND(T231,2)-T231,4)=0,_xlfn.XLOOKUP(T231,INDIRECT($A$4&"!$G$41:$G$141"),INDIRECT($A$4&"!$A$41:$A$141"),0,1,1),IF(T231>=1,0,(ROUNDUP(T231,2)-T231)*100*_xlfn.XLOOKUP(T231,INDIRECT($A$4&"!$G$41:$G$141"),INDIRECT($A$4&"!$A$41:$A$141"),0,-1,-1)+(T231-ROUNDDOWN(T231,2))*100*_xlfn.XLOOKUP(T231,INDIRECT($A$4&"!$G$41:$G$141"),INDIRECT($A$4&"!$A$41:$A$141"),0,1,1)))} -> 0.8 | V231: =$F$4*(1)*U231 -> 300

Sheet Atlantique_W
F2: {=INDEX(INDIRECT($A$4&"!A1:Z500"),3,7+(COLUMN()-COLUMN($F$2))*5)} -> Serene Atl 25 | G2: {=INDEX(INDIRECT($A$4&"!A1:Z500"),3,7+(COLUMN()-COLUMN($F$2))*5)} -> Serene Atl 26 | H2: {=INDEX(INDIRECT($A$4&"!A1:Z500"),3,7+(COLUMN()-COLUMN($F$2))*5)} -> Serene Atl 27 | I2: {=INDEX(INDIRECT($A$4&"!A1:Z500"),3,7+(COLUMN()-COLUMN($F$2))*5)} -> 0
A3: Onglet | E3: Total subscribed volume (TWh) | F3: {=INDEX(INDIRECT($A$4&"!A1:Z500"),3,8+(COLUMN()-COLUMN($F$2))*5)} -> 17.013766 | G3: {=INDEX(INDIRECT($A$4&"!A1:Z500"),3,8+(COLUMN()-COLUMN($F$2))*5)} -> 14.10256 | H3: {=INDEX(INDIRECT($A$4&"!A1:Z500"),3,8+(COLUMN()-COLUMN($F$2))*5)} -> 13.883674 | I3: {=INDEX(INDIRECT($A$4&"!A1:Z500"),3,8+(COLUMN()-COLUMN($F$2))*5)+Serene_A_I!AB3} -> 0
A4: Serene_A_W | E4: Nominal capacity | F4: {=INDIRECT($A$4&"!D5")} -> 590.66288 | G4: GWh/j
A5: Serene_A_I | E5: ="COS NaTran (" & RESULTS!B9 & ")" -> COS NaTran (Firm+Interuptible) | F5: =F4 -> 590.66288 | G5: GWh/j
A6: Atlantique | D6: Stock on | E6: =RESULTS!I9 -> 46675 | F6: =SUM(F3:I3) -> 45 | G6: TWh
A7: % Withdr.
F11: With Storengy maintenance only
K13: Duration
G14: {=IF(_xlfn.XLOOKUP(0,F$17:F$185,A$17:B$185,"",0,1)="", "Only " & TEXT(G186,"0,0%") & " withdrawal on 31/03", _xlfn.XLOOKUP(0,F$17:F$185,A$17:B$185,"",0,1))} -> 46837 | H14: 0 | K14: Without min stock level & maintenance
F15: End of day stock [TWh] | G15: Filling D-1 [%] | K15: =COUNTIF(K17:K185,">"&0)+1 -> 158
A16: Date | B16: Effective min (TWh) | C16: Minimum Stock Level (TWh) | D16: Maximum stock level (TWh) | E16: Storengy restrictions [% of the rights] | F16: =F6 -> 45 | G16: Filling D-1 [%] | H16: Reduction factor [%] | I16: Maximum withdrawal [GWh/d] | K16: =F16 -> 45 | L16: Filling D-1 [%] | M16: Reduction factor [%]
A17: =RESULTS!I9 -> 46675 | B17: {=_xlfn.XLOOKUP(A17,INDIRECT($A$5&"!$AJ$41:$AJ$406"),INDIRECT($A$5&"!$An$41:$An$406"))*SUM($F$3:$I$3)} -> 38.25 | C17: {=_xlfn.XLOOKUP(A17,INDIRECT($A$5&"!$AJ$41:$AJ$406"),INDIRECT($A$5&"!$Ak$41:$Ak$406"))*SUM($F$3:$I$3)} -> 0 | D17: {=_xlfn.XLOOKUP(A17,INDIRECT($A$5&"!$AJ$41:$AJ$406"),INDIRECT($A$5&"!$AO$41:$AO$406"))*SUM($F$3:$I$3)} -> 45 | E17: {=SUMPRODUCT(('PT Storengy'!$B$8:$I$372)*('PT Storengy'!$A$8:$A$372=$A17)*('PT Storengy'!$A$5:$H$5=$A$6)*('PT Storengy'!$B$7:$I$7=$A$7))} -> 0 | F17: =-I17/1000+F16 -> 44.409337 | G17: =F16/SUM($F$3,$G$3,$H$3,$I$3) -> 1 | H17: {=IF(ROUND(ROUND(G17,2)-G17,4)=0,_xlfn.XLOOKUP(G17,INDIRECT($A$4&"!$G$32:$G$132"),INDIRECT($A$4&"!$A$32:$A$132"),0,1,1),IF(G17<0,0,(ROUNDUP(G17,2)-G17)*100*_xlfn.XLOOKUP(G17,INDIRECT($A$4&"!$G$32:$G$132"),INDIRECT($A$4&"!$A$32:$A$132"),0,-1,-1)+(G17-ROUNDDOWN(G17,2))*100*_xlfn.XLOOKUP(G17,INDIRECT($A$4&"!$G$32:$G$132"),INDIRECT($A$4&"!$A$32:$A$132"),0,1,1)))} -> 1 | I17: =IF(F16*1000-$F$4*(1-E17)*H17>1000*B17,$F$4*(1-E17)*H17,F16*1000-1000*B17) -> 590.66288 | K17: =K16-N17/1000 -> 44.409337 | L17: =MAX(K16/SUM($F$3,$G$3,$H$3,$I$3),0) -> 1 | M17: {=IF(ROUND(ROUND(L17,2)-L17,4)=0,_xlfn.XLOOKUP(L17,INDIRECT($A$4&"!$G$32:$G$132"),INDIRECT($A$4&"!$A$32:$A$132"),0,1,1),IF(L17<0,0,(ROUNDUP(L17,2)-L17)*100*_xlfn.XLOOKUP(L17,INDIRECT($A$4&"!$G$32:$G$132"),INDIRECT($A$4&"!$A$32:$A$132"),0,-1,-1)+(L17-ROUNDDOWN(L17,2))*100*_xlfn.XLOOKUP(L17,INDIRECT($A$4&"!$G$32:$G$132"),INDIRECT($A$4&"!$A$32:$A$132"),0,1,1)))} -> 1 | N17: =IF(K16*1000<$F$4*(1)*M17,K16*1000,$F$4*(1)*M17) -> 590.66288
A18: =A17+1 -> 46676 | B18: {=_xlfn.XLOOKUP(A18,INDIRECT($A$5&"!$AJ$41:$AJ$406"),INDIRECT($A$5&"!$An$41:$An$406"))*SUM($F$3:$I$3)} -> 38.25 | C18: {=_xlfn.XLOOKUP(A18,INDIRECT($A$5&"!$AJ$41:$AJ$406"),INDIRECT($A$5&"!$Ak$41:$Ak$406"))*SUM($F$3:$I$3)} -> 0 | D18: {=_xlfn.XLOOKUP(A18,INDIRECT($A$5&"!$AJ$41:$AJ$406"),INDIRECT($A$5&"!$AO$41:$AO$406"))*SUM($F$3:$I$3)} -> 45 | E18: {=SUMPRODUCT(('PT Storengy'!$B$8:$I$372)*('PT Storengy'!$A$8:$A$372=$A18)*('PT Storengy'!$A$5:$H$5=$A$6)*('PT Storengy'!$B$7:$I$7=$A$7))} -> 0 | F18: =-I18/1000+F17 -> 43.824684 | G18: =F17/SUM($F$3,$G$3,$H$3,$I$3) -> 0.98687416 | H18: {=IF(ROUND(ROUND(G18,2)-G18,4)=0,_xlfn.XLOOKUP(G18,INDIRECT($A$4&"!$G$32:$G$132"),INDIRECT($A$4&"!$A$32:$A$132"),0,1,1),IF(G18<0,0,(ROUNDUP(G18,2)-G18)*100*_xlfn.XLOOKUP(G18,INDIRECT($A$4&"!$G$32:$G$132"),INDIRECT($A$4&"!$A$32:$A$132"),0,-1,-1)+(G18-ROUNDDOWN(G18,2))*100*_xlfn.XLOOKUP(G18,INDIRECT($A$4&"!$G$32:$G$132"),INDIRECT($A$4&"!$A$32:$A$132"),0,1,1)))} -> 0.98982516 | I18: =IF(F17*1000-$F$4*(1-E18)*H18>1000*B18,$F$4*(1-E18)*H18,F17*1000-1000*B18) -> 584.65298 | K18: =K17-N18/1000 -> 43.824684 | L18: =MAX(K17/SUM($F$3,$G$3,$H$3,$I$3),0) -> 0.98687416 | M18: {=IF(ROUND(ROUND(L18,2)-L18,4)=0,_xlfn.XLOOKUP(L18,INDIRECT($A$4&"!$G$32:$G$132"),INDIRECT($A$4&"!$A$32:$A$132"),0,1,1),IF(L18<0,0,(ROUNDUP(L18,2)-L18)*100*_xlfn.XLOOKUP(L18,INDIRECT($A$4&"!$G$32:$G$132"),INDIRECT($A$4&"!$A$32:$A$132"),0,-1,-1)+(L18-ROUNDDOWN(L18,2))*100*_xlfn.XLOOKUP(L18,INDIRECT($A$4&"!$G$32:$G$132"),INDIRECT($A$4&"!$A$32:$A$132"),0,1,1)))} -> 0.98982516 | N18: =IF(K17*1000<$F$4*(1)*M18,K17*1000,$F$4*(1)*M18) -> 584.65298
A19: =A18+1 -> 46677 | B19: {=_xlfn.XLOOKUP(A19,INDIRECT($A$5&"!$AJ$41:$AJ$406"),INDIRECT($A$5&"!$An$41:$An$406"))*SUM($F$3:$I$3)} -> 38.25 | C19: {=_xlfn.XLOOKUP(A19,INDIRECT($A$5&"!$AJ$41:$AJ$406"),INDIRECT($A$5&"!$Ak$41:$Ak$406"))*SUM($F$3:$I$3)} -> 0 | D19: {=_xlfn.XLOOKUP(A19,INDIRECT($A$5&"!$AJ$41:$AJ$406"),INDIRECT($A$5&"!$AO$41:$AO$406"))*SUM($F$3:$I$3)} -> 45 | E19: {=SUMPRODUCT(('PT Storengy'!$B$8:$I$372)*('PT Storengy'!$A$8:$A$372=$A19)*('PT Storengy'!$A$5:$H$5=$A$6)*('PT Storengy'!$B$7:$I$7=$A$7))} -> 0 | F19: =-I19/1000+F18 -> 43.24598 | G19: =F18/SUM($F$3,$G$3,$H$3,$I$3) -> 0.97388187 | H19: {=IF(ROUND(ROUND(G19,2)-G19,4)=0,_xlfn.XLOOKUP(G19,INDIRECT($A$4&"!$G$32:$G$132"),INDIRECT($A$4&"!$A$32:$A$132"),0,1,1),IF(G19<0,0,(ROUNDUP(G19,2)-G19)*100*_xlfn.XLOOKUP(G19,INDIRECT($A$4&"!$G$32:$G$132"),INDIRECT($A$4&"!$A$32:$A$132"),0,-1,-1)+(G19-ROUNDDOWN(G19,2))*100*_xlfn.XLOOKUP(G19,INDIRECT($A$4&"!$G$32:$G$132"),INDIRECT($A$4&"!$A$32:$A$132"),0,1,1)))} -> 0.97975384 | I19: =IF(F18*1000-$F$4*(1-E19)*H19>1000*B19,$F$4*(1-E19)*H19,F18*1000-1000*B19) -> 578.70423 | K19: =K18-N19/1000 -> 43.24598 | L19: =MAX(K18/SUM($F$3,$G$3,$H$3,$I$3),0) -> 0.97388187 | M19: {=IF(ROUND(ROUND(L19,2)-L19,4)=0,_xlfn.XLOOKUP(L19,INDIRECT($A$4&"!$G$32:$G$132"),INDIRECT($A$4&"!$A$32:$A$132"),0,1,1),IF(L19<0,0,(ROUNDUP(L19,2)-L19)*100*_xlfn.XLOOKUP(L19,INDIRECT($A$4&"!$G$32:$G$132"),INDIRECT($A$4&"!$A$32:$A$132"),0,-1,-1)+(L19-ROUNDDOWN(L19,2))*100*_xlfn.XLOOKUP(L19,INDIRECT($A$4&"!$G$32:$G$132"),INDIRECT($A$4&"!$A$32:$A$132"),0,1,1)))} -> 0.97975384 | N19: =IF(K18*1000<$F$4*(1)*M19,K18*1000,$F$4*(1)*M19) -> 578.70423
A20: =A19+1 -> 46678 | B20: {=_xlfn.XLOOKUP(A20,INDIRECT($A$5&"!$AJ$41:$AJ$406"),INDIRECT($A$5&"!$An$41:$An$406"))*SUM($F$3:$I$3)} -> 38.25 | C20: {=_xlfn.XLOOKUP(A20,INDIRECT($A$5&"!$AJ$41:$AJ$406"),INDIRECT($A$5&"!$Ak$41:$Ak$406"))*SUM($F$3:$I$3)} -> 0 | D20: {=_xlfn.XLOOKUP(A20,INDIRECT($A$5&"!$AJ$41:$AJ$406"),INDIRECT($A$5&"!$AO$41:$AO$406"))*SUM($F$3:$I$3)} -> 45 | E20: {=SUMPRODUCT(('PT Storengy'!$B$8:$I$372)*('PT Storengy'!$A$8:$A$372=$A20)*('PT Storengy'!$A$5:$H$5=$A$6)*('PT Storengy'!$B$7:$I$7=$A$7))} -> 0 | F20: =-I20/1000+F19 -> 42.673164 | G20: =F19/SUM($F$3,$G$3,$H$3,$I$3) -> 0.96102178 | H20: {=IF(ROUND(ROUND(G20,2)-G20,4)=0,_xlfn.XLOOKUP(G20,INDIRECT($A$4&"!$G$32:$G$132"),INDIRECT($A$4&"!$A$32:$A$132"),0,1,1),IF(G20<0,0,(ROUNDUP(G20,2)-G20)*100*_xlfn.XLOOKUP(G20,INDIRECT($A$4&"!$G$32:$G$132"),INDIRECT($A$4&"!$A$32:$A$132"),0,-1,-1)+(G20-ROUNDDOWN(G20,2))*100*_xlfn.XLOOKUP(G20,INDIRECT($A$4&"!$G$32:$G$132"),INDIRECT($A$4&"!$A$32:$A$132"),0,1,1)))} -> 0.969785 | I20: =IF(F19*1000-$F$4*(1-E20)*H20>1000*B20,$F$4*(1-E20)*H20,F19*1000-1000*B20) -> 572.816 | K20: =K19-N20/1000 -> 42.673164 | L20: =MAX(K19/SUM($F$3,$G$3,$H$3,$I$3),0) -> 0.96102178 | M20: {=IF(ROUND(ROUND(L20,2)-L20,4)=0,_xlfn.XLOOKUP(L20,INDIRECT($A$4&"!$G$32:$G$132"),INDIRECT($A$4&"!$A$32:$A$132"),0,1,1),IF(L20<0,0,(ROUNDUP(L20,2)-L20)*100*_xlfn.XLOOKUP(L20,INDIRECT($A$4&"!$G$32:$G$132"),INDIRECT($A$4&"!$A$32:$A$132"),0,-1,-1)+(L20-ROUNDDOWN(L20,2))*100*_xlfn.XLOOKUP(L20,INDIRECT($A$4&"!$G$32:$G$132"),INDIRECT($A$4&"!$A$32:$A$132"),0,1,1)))} -> 0.969785 | N20: =IF(K19*1000<$F$4*(1)*M20,K19*1000,$F$4*(1)*M20) -> 572.816
A21: =A20+1 -> 46679 | B21: {=_xlfn.XLOOKUP(A21,INDIRECT($A$5&"!$AJ$41:$AJ$406"),INDIRECT($A$5&"!$An$41:$An$406"))*SUM($F$3:$I$3)} -> 38.25 | C21: {=_xlfn.XLOOKUP(A21,INDIRECT($A$5&"!$AJ$41:$AJ$406"),INDIRECT($A$5&"!$Ak$41:$Ak$406"))*SUM($F$3:$I$3)} -> 0 | D21: {=_xlfn.XLOOKUP(A21,INDIRECT($A$5&"!$AJ$41:$AJ$406"),INDIRECT($A$5&"!$AO$41:$AO$406"))*SUM($F$3:$I$3)} -> 45 | E21: {=SUMPRODUCT(('PT Storengy'!$B$8:$I$372)*('PT Storengy'!$A$8:$A$372=$A21)*('PT Storengy'!$A$5:$H$5=$A$6)*('PT Storengy'!$B$7:$I$7=$A$7))} -> 0 | F21: =-I21/1000+F20 -> 42.106176 | G21: =F20/SUM($F$3,$G$3,$H$3,$I$3) -> 0.94829253 | H21: {=IF(ROUND(ROUND(G21,2)-G21,4)=0,_xlfn.XLOOKUP(G21,INDIRECT($A$4&"!$G$32:$G$132"),INDIRECT($A$4&"!$A$32:$A$132"),0,1,1),IF(G21<0,0,(ROUNDUP(G21,2)-G21)*100*_xlfn.XLOOKUP(G21,INDIRECT($A$4&"!$G$32:$G$132"),INDIRECT($A$4&"!$A$32:$A$132"),0,-1,-1)+(G21-ROUNDDOWN(G21,2))*100*_xlfn.XLOOKUP(G21,INDIRECT($A$4&"!$G$32:$G$132"),INDIRECT($A$4&"!$A$32:$A$132"),0,1,1)))} -> 0.9599176 | I21: =IF(F20*1000-$F$4*(1-E21)*H21>1000*B21,$F$4*(1-E21)*H21,F20*1000-1000*B21) -> 566.98769 | K21: =K20-N21/1000 -> 42.106176 | L21: =MAX(K20/SUM($F$3,$G$3,$H$3,$I$3),0) -> 0.94829253 | M21: {=IF(ROUND(ROUND(L21,2)-L21,4)=0,_xlfn.XLOOKUP(L21,INDIRECT($A$4&"!$G$32:$G$132"),INDIRECT($A$4&"!$A$32:$A$132"),0,1,1),IF(L21<0,0,(ROUNDUP(L21,2)-L21)*100*_xlfn.XLOOKUP(L21,INDIRECT($A$4&"!$G$32:$G$132"),INDIRECT($A$4&"!$A$32:$A$132"),0,-1,-1)+(L21-ROUNDDOWN(L21,2))*100*_xlfn.XLOOKUP(L21,INDIRECT($A$4&"!$G$32:$G$132"),INDIRECT($A$4&"!$A$32:$A$132"),0,1,1)))} -> 0.9599176 | N21: =IF(K20*1000<$F$4*(1)*M21,K20*1000,$F$4*(1)*M21) -> 566.98769
A22: =A21+1 -> 46680 | B22: {=_xlfn.XLOOKUP(A22,INDIRECT($A$5&"!$AJ$41:$AJ$406"),INDIRECT($A$5&"!$An$41:$An$406"))*SUM($F$3:$I$3)} -> 38.25 | C22: {=_xlfn.XLOOKUP(A22,INDIRECT($A$5&"!$AJ$41:$AJ$406"),INDIRECT($A$5&"!$Ak$41:$Ak$406"))*SUM($F$3:$I$3)} -> 0 | D22: {=_xlfn.XLOOKUP(A22,INDIRECT($A$5&"!$AJ$41:$AJ$406"),INDIRECT($A$5&"!$AO$41:$AO$406"))*SUM($F$3:$I$3)} -> 45 | E22: {=SUMPRODUCT(('PT Storengy'!$B$8:$I$372)*('PT Storengy'!$A$8:$A$372=$A22)*('PT Storengy'!$A$5:$H$5=$A$6)*('PT Storengy'!$B$7:$I$7=$A$7))} -> 0 | F22: =-I22/1000+F21 -> 41.544958 | G22: =F21/SUM($F$3,$G$3,$H$3,$I$3) -> 0.9356928 | H22: {=IF(ROUND(ROUND(G22,2)-G22,4)=0,_xlfn.XLOOKUP(G22,INDIRECT($A$4&"!$G$32:$G$132"),INDIRECT($A$4&"!$A$32:$A$132"),0,1,1),IF(G22<0,0,(ROUNDUP(G22,2)-G22)*100*_xlfn.XLOOKUP(G22,INDIRECT($A$4&"!$G$32:$G$132"),INDIRECT($A$4&"!$A$32:$A$132"),0,-1,-1)+(G22-ROUNDDOWN(G22,2))*100*_xlfn.XLOOKUP(G22,INDIRECT($A$4&"!$G$32:$G$132"),INDIRECT($A$4&"!$A$32:$A$132"),0,1,1)))} -> 0.95015059 | I22: =IF(F21*1000-$F$4*(1-E22)*H22>1000*B22,$F$4*(1-E22)*H22,F21*1000-1000*B22) -> 561.21868 | K22: =K21-N22/1000 -> 41.544958 | L22: =MAX(K21/SUM($F$3,$G$3,$H$3,$I$3),0) -> 0.9356928 | M22: {=IF(ROUND(ROUND(L22,2)-L22,4)=0,_xlfn.XLOOKUP(L22,INDIRECT($A$4&"!$G$32:$G$132"),INDIRECT($A$4&"!$A$32:$A$132"),0,1,1),IF(L22<0,0,(ROUNDUP(L22,2)-L22)*100*_xlfn.XLOOKUP(L22,INDIRECT($A$4&"!$G$32:$G$132"),INDIRECT($A$4&"!$A$32:$A$132"),0,-1,-1)+(L22-ROUNDDOWN(L22,2))*100*_xlfn.XLOOKUP(L22,INDIRECT($A$4&"!$G$32:$G$132"),INDIRECT($A$4&"!$A$32:$A$132"),0,1,1)))} -> 0.95015059 | N22: =IF(K21*1000<$F$4*(1)*M22,K21*1000,$F$4*(1)*M22) -> 561.21868
A23: =A22+1 -> 46681 | B23: {=_xlfn.XLOOKUP(A23,INDIRECT($A$5&"!$AJ$41:$AJ$406"),INDIRECT($A$5&"!$An$41:$An$406"))*SUM($F$3:$I$3)} -> 38.25 | C23: {=_xlfn.XLOOKUP(A23,INDIRECT($A$5&"!$AJ$41:$AJ$406"),INDIRECT($A$5&"!$Ak$41:$Ak$406"))*SUM($F$3:$I$3)} -> 0 | D23: {=_xlfn.XLOOKUP(A23,INDIRECT($A$5&"!$AJ$41:$AJ$406"),INDIRECT($A$5&"!$AO$41:$AO$406"))*SUM($F$3:$I$3)} -> 45 | E23: {=SUMPRODUCT(('PT Storengy'!$B$8:$I$372)*('PT Storengy'!$A$8:$A$372=$A23)*('PT Storengy'!$A$5:$H$5=$A$6)*('PT Storengy'!$B$7:$I$7=$A$7))} -> 0 | F23: =-I23/1000+F22 -> 40.989449 | G23: =F22/SUM($F$3,$G$3,$H$3,$I$3) -> 0.92322128 | H23: {=IF(ROUND(ROUND(G23,2)-G23,4)=0,_xlfn.XLOOKUP(G23,INDIRECT($A$4&"!$G$32:$G$132"),INDIRECT($A$4&"!$A$32:$A$132"),0,1,1),IF(G23<0,0,(ROUNDUP(G23,2)-G23)*100*_xlfn.XLOOKUP(G23,INDIRECT($A$4&"!$G$32:$G$132"),INDIRECT($A$4&"!$A$32:$A$132"),0,-1,-1)+(G23-ROUNDDOWN(G23,2))*100*_xlfn.XLOOKUP(G23,INDIRECT($A$4&"!$G$32:$G$132"),INDIRECT($A$4&"!$A$32:$A$132"),0,1,1)))} -> 0.94048296 | I23: =IF(F22*1000-$F$4*(1-E23)*H23>1000*B23,$F$4*(1-E23)*H23,F22*1000-1000*B23) -> 555.50837 | K23: =K22-N23/1000 -> 40.989449 | L23: =MAX(K22/SUM($F$3,$G$3,$H$3,$I$3),0) -> 0.92322128 | M23: {=IF(ROUND(ROUND(L23,2)-L23,4)=0,_xlfn.XLOOKUP(L23,INDIRECT($A$4&"!$G$32:$G$132"),INDIRECT($A$4&"!$A$32:$A$132"),0,1,1),IF(L23<0,0,(ROUNDUP(L23,2)-L23)*100*_xlfn.XLOOKUP(L23,INDIRECT($A$4&"!$G$32:$G$132"),INDIRECT($A$4&"!$A$32:$A$132"),0,-1,-1)+(L23-ROUNDDOWN(L23,2))*100*_xlfn.XLOOKUP(L23,INDIRECT($A$4&"!$G$32:$G$132"),INDIRECT($A$4&"!$A$32:$A$132"),0,1,1)))} -> 0.94048296 | N23: =IF(K22*1000<$F$4*(1)*M23,K22*1000,$F$4*(1)*M23) -> 555.50837
A24: =A23+1 -> 46682 | B24: {=_xlfn.XLOOKUP(A24,INDIRECT($A$5&"!$AJ$41:$AJ$406"),INDIRECT($A$5&"!$An$41:$An$406"))*SUM($F$3:$I$3)} -> 38.25 | C24: {=_xlfn.XLOOKUP(A24,INDIRECT($A$5&"!$AJ$41:$AJ$406"),INDIRECT($A$5&"!$Ak$41:$Ak$406"))*SUM($F$3:$I$3)} -> 0 | D24: {=_xlfn.XLOOKUP(A24,INDIRECT($A$5&"!$AJ$41:$AJ$406"),INDIRECT($A$5&"!$AO$41:$AO$406"))*SUM($F$3:$I$3)} -> 45 | E24: {=SUMPRODUCT(('PT Storengy'!$B$8:$I$372)*('PT Storengy'!$A$8:$A$372=$A24)*('PT Storengy'!$A$5:$H$5=$A$6)*('PT Storengy'!$B$7:$I$7=$A$7))} -> 0 | F24: =-I24/1000+F23 -> 40.439593 | G24: =F23/SUM($F$3,$G$3,$H$3,$I$3) -> 0.91087665 | H24: {=IF(ROUND(ROUND(G24,2)-G24,4)=0,_xlfn.XLOOKUP(G24,INDIRECT($A$4&"!$G$32:$G$132"),INDIRECT($A$4&"!$A$32:$A$132"),0,1,1),IF(G24<0,0,(ROUNDUP(G24,2)-G24)*100*_xlfn.XLOOKUP(G24,INDIRECT($A$4&"!$G$32:$G$132"),INDIRECT($A$4&"!$A$32:$A$132"),0,-1,-1)+(G24-ROUNDDOWN(G24,2))*100*_xlfn.XLOOKUP(G24,INDIRECT($A$4&"!$G$32:$G$132"),INDIRECT($A$4&"!$A$32:$A$132"),0,1,1)))} -> 0.93091369 | I24: =IF(F23*1000-$F$4*(1-E24)*H24>1000*B24,$F$4*(1-E24)*H24,F23*1000-1000*B24) -> 549.85616 | K24: =K23-N24/1000 -> 40.439593 | L24: =MAX(K23/SUM($F$3,$G$3,$H$3,$I$3),0) -> 0.91087665 | M24: {=IF(ROUND(ROUND(L24,2)-L24,4)=0,_xlfn.XLOOKUP(L24,INDIRECT($A$4&"!$G$32:$G$132"),INDIRECT($A$4&"!$A$32:$A$132"),0,1,1),IF(L24<0,0,(ROUNDUP(L24,2)-L24)*100*_xlfn.XLOOKUP(L24,INDIRECT($A$4&"!$G$32:$G$132"),INDIRECT($A$4&"!$A$32:$A$132"),0,-1,-1)+(L24-ROUNDDOWN(L24,2))*100*_xlfn.XLOOKUP(L24,INDIRECT($A$4&"!$G$32:$G$132"),INDIRECT($A$4&"!$A$32:$A$132"),0,1,1)))} -> 0.93091369 | N24: =IF(K23*1000<$F$4*(1)*M24,K23*1000,$F$4*(1)*M24) -> 549.85616
A25: =A24+1 -> 46683 | B25: {=_xlfn.XLOOKUP(A25,INDIRECT($A$5&"!$AJ$41:$AJ$406"),INDIRECT($A$5&"!$An$41:$An$406"))*SUM($F$3:$I$3)} -> 38.25 | C25: {=_xlfn.XLOOKUP(A25,INDIRECT($A$5&"!$AJ$41:$AJ$406"),INDIRECT($A$5&"!$Ak$41:$Ak$406"))*SUM($F$3:$I$3)} -> 0 | D25: {=_xlfn.XLOOKUP(A25,INDIRECT($A$5&"!$AJ$41:$AJ$406"),INDIRECT($A$5&"!$AO$41:$AO$406"))*SUM($F$3:$I$3)} -> 45 | E25: {=SUMPRODUCT(('PT Storengy'!$B$8:$I$372)*('PT Storengy'!$A$8:$A$372=$A25)*('PT Storengy'!$A$5:$H$5=$A$6)*('PT Storengy'!$B$7:$I$7=$A$7))} -> 0 | F25: =-I25/1000+F24 -> 39.895332 | G25: =F24/SUM($F$3,$G$3,$H$3,$I$3) -> 0.89865762 | H25: {=IF(ROUND(ROUND(G25,2)-G25,4)=0,_xlfn.XLOOKUP(G25,INDIRECT($A$4&"!$G$32:$G$132"),INDIRECT($A$4&"!$A$32:$A$132"),0,1,1),IF(G25<0,0,(ROUNDUP(G25,2)-G25)*100*_xlfn.XLOOKUP(G25,INDIRECT($A$4&"!$G$32:$G$132"),INDIRECT($A$4&"!$A$32:$A$132"),0,-1,-1)+(G25-ROUNDDOWN(G25,2))*100*_xlfn.XLOOKUP(G25,INDIRECT($A$4&"!$G$32:$G$132"),INDIRECT($A$4&"!$A$32:$A$132"),0,1,1)))} -> 0.92144179 | I25: =IF(F24*1000-$F$4*(1-E25)*H25>1000*B25,$F$4*(1-E25)*H25,F24*1000-1000*B25) -> 544.26146 | K25: =K24-N25/1000 -> 39.895332 | L25: =MAX(K24/SUM($F$3,$G$3,$H$3,$I$3),0) -> 0.89865762 | M25: {=IF(ROUND(ROUND(L25,2)-L25,4)=0,_xlfn.XLOOKUP(L25,INDIRECT($A$4&"!$G$32:$G$132"),INDIRECT($A$4&"!$A$32:$A$132"),0,1,1),IF(L25<0,0,(ROUNDUP(L25,2)-L25)*100*_xlfn.XLOOKUP(L25,INDIRECT($A$4&"!$G$32:$G$132"),INDIRECT($A$4&"!$A$32:$A$132"),0,-1,-1)+(L25-ROUNDDOWN(L25,2))*100*_xlfn.XLOOKUP(L25,INDIRECT($A$4&"!$G$32:$G$132"),INDIRECT($A$4&"!$A$32:$A$132"),0,1,1)))} -> 0.92144179 | N25: =IF(K24*1000<$F$4*(1)*M25,K24*1000,$F$4*(1)*M25) -> 544.26146
A26: =A25+1 -> 46684 | B26: {=_xlfn.XLOOKUP(A26,INDIRECT($A$5&"!$AJ$41:$AJ$406"),INDIRECT($A$5&"!$An$41:$An$406"))*SUM($F$3:$I$3)} -> 38.25 | C26: {=_xlfn.XLOOKUP(A26,INDIRECT($A$5&"!$AJ$41:$AJ$406"),INDIRECT($A$5&"!$Ak$41:$Ak$406"))*SUM($F$3:$I$3)} -> 0 | D26: {=_xlfn.XLOOKUP(A26,INDIRECT($A$5&"!$AJ$41:$AJ$406"),INDIRECT($A$5&"!$AO$41:$AO$406"))*SUM($F$3:$I$3)} -> 45 | E26: {=SUMPRODUCT(('PT Storengy'!$B$8:$I$372)*('PT Storengy'!$A$8:$A$372=$A26)*('PT Storengy'!$A$5:$H$5=$A$6)*('PT Storengy'!$B$7:$I$7=$A$7))} -> 0 | F26: =-I26/1000+F25 -> 39.356608 | G26: =F25/SUM($F$3,$G$3,$H$3,$I$3) -> 0.88656292 | H26: {=IF(ROUND(ROUND(G26,2)-G26,4)=0,_xlfn.XLOOKUP(G26,INDIRECT($A$4&"!$G$32:$G$132"),INDIRECT($A$4&"!$A$32:$A$132"),0,1,1),IF(G26<0,0,(ROUNDUP(G26,2)-G26)*100*_xlfn.XLOOKUP(G26,INDIRECT($A$4&"!$G$32:$G$132"),INDIRECT($A$4&"!$A$32:$A$132"),0,-1,-1)+(G26-ROUNDDOWN(G26,2))*100*_xlfn.XLOOKUP(G26,INDIRECT($A$4&"!$G$32:$G$132"),INDIRECT($A$4&"!$A$32:$A$132"),0,1,1)))} -> 0.91206627 | I26: =IF(F25*1000-$F$4*(1-E26)*H26>1000*B26,$F$4*(1-E26)*H26,F25*1000-1000*B26) -> 538.72369 | K26: =K25-N26/1000 -> 39.356608 | L26: =MAX(K25/SUM($F$3,$G$3,$H$3,$I$3),0) -> 0.88656292 | M26: {=IF(ROUND(ROUND(L26,2)-L26,4)=0,_xlfn.XLOOKUP(L26,INDIRECT($A$4&"!$G$32:$G$132"),INDIRECT($A$4&"!$A$32:$A$132"),0,1,1),IF(L26<0,0,(ROUNDUP(L26,2)-L26)*100*_xlfn.XLOOKUP(L26,INDIRECT($A$4&"!$G$32:$G$132"),INDIRECT($A$4&"!$A$32:$A$132"),0,-1,-1)+(L26-ROUNDDOWN(L26,2))*100*_xlfn.XLOOKUP(L26,INDIRECT($A$4&"!$G$32:$G$132"),INDIRECT($A$4&"!$A$32:$A$132"),0,1,1)))} -> 0.91206627 | N26: =IF(K25*1000<$F$4*(1)*M26,K25*1000,$F$4*(1)*M26) -> 538.72369
A27: =A26+1 -> 46685 | B27: {=_xlfn.XLOOKUP(A27,INDIRECT($A$5&"!$AJ$41:$AJ$406"),INDIRECT($A$5&"!$An$41:$An$406"))*SUM($F$3:$I$3)} -> 38.25 | C27: {=_xlfn.XLOOKUP(A27,INDIRECT($A$5&"!$AJ$41:$AJ$406"),INDIRECT($A$5&"!$Ak$41:$Ak$406"))*SUM($F$3:$I$3)} -> 0 | D27: {=_xlfn.XLOOKUP(A27,INDIRECT($A$5&"!$AJ$41:$AJ$406"),INDIRECT($A$5&"!$AO$41:$AO$406"))*SUM($F$3:$I$3)} -> 45 | E27: {=SUMPRODUCT(('PT Storengy'!$B$8:$I$372)*('PT Storengy'!$A$8:$A$372=$A27)*('PT Storengy'!$A$5:$H$5=$A$6)*('PT Storengy'!$B$7:$I$7=$A$7))} -> 0 | F27: =-I27/1000+F26 -> 38.823366 | G27: =F26/SUM($F$3,$G$3,$H$3,$I$3) -> 0.87459129 | H27: {=IF(ROUND(ROUND(G27,2)-G27,4)=0,_xlfn.XLOOKUP(G27,INDIRECT($A$4&"!$G$32:$G$132"),INDIRECT($A$4&"!$A$32:$A$132"),0,1,1),IF(G27<0,0,(ROUNDUP(G27,2)-G27)*100*_xlfn.XLOOKUP(G27,INDIRECT($A$4&"!$G$32:$G$132"),INDIRECT($A$4&"!$A$32:$A$132"),0,-1,-1)+(G27-ROUNDDOWN(G27,2))*100*_xlfn.XLOOKUP(G27,INDIRECT($A$4&"!$G$32:$G$132"),INDIRECT($A$4&"!$A$32:$A$132"),0,1,1)))} -> 0.90278614 | I27: =IF(F26*1000-$F$4*(1-E27)*H27>1000*B27,$F$4*(1-E27)*H27,F26*1000-1000*B27) -> 533.24226 | K27: =K26-N27/1000 -> 38.823366 | L27: =MAX(K26/SUM($F$3,$G$3,$H$3,$I$3),0) -> 0.87459129 | M27: {=IF(ROUND(ROUND(L27,2)-L27,4)=0,_xlfn.XLOOKUP(L27,INDIRECT($A$4&"!$G$32:$G$132"),INDIRECT($A$4&"!$A$32:$A$132"),0,1,1),IF(L27<0,0,(ROUNDUP(L27,2)-L27)*100*_xlfn.XLOOKUP(L27,INDIRECT($A$4&"!$G$32:$G$132"),INDIRECT($A$4&"!$A$32:$A$132"),0,-1,-1)+(L27-ROUNDDOWN(L27,2))*100*_xlfn.XLOOKUP(L27,INDIRECT($A$4&"!$G$32:$G$132"),INDIRECT($A$4&"!$A$32:$A$132"),0,1,1)))} -> 0.90278614 | N27: =IF(K26*1000<$F$4*(1)*M27,K26*1000,$F$4*(1)*M27) -> 533.24226
A28: =A27+1 -> 46686 | B28: {=_xlfn.XLOOKUP(A28,INDIRECT($A$5&"!$AJ$41:$AJ$406"),INDIRECT($A$5&"!$An$41:$An$406"))*SUM($F$3:$I$3)} -> 38.25 | C28: {=_xlfn.XLOOKUP(A28,INDIRECT($A$5&"!$AJ$41:$AJ$406"),INDIRECT($A$5&"!$Ak$41:$Ak$406"))*SUM($F$3:$I$3)} -> 0 | D28: {=_xlfn.XLOOKUP(A28,INDIRECT($A$5&"!$AJ$41:$AJ$406"),INDIRECT($A$5&"!$AO$41:$AO$406"))*SUM($F$3:$I$3)} -> 45 | E28: {=SUMPRODUCT(('PT Storengy'!$B$8:$I$372)*('PT Storengy'!$A$8:$A$372=$A28)*('PT Storengy'!$A$5:$H$5=$A$6)*('PT Storengy'!$B$7:$I$7=$A$7))} -> 0 | F28: =-I28/1000+F27 -> 38.295549 | G28: =F27/SUM($F$3,$G$3,$H$3,$I$3) -> 0.86274146 | H28: {=IF(ROUND(ROUND(G28,2)-G28,4)=0,_xlfn.XLOOKUP(G28,INDIRECT($A$4&"!$G$32:$G$132"),INDIRECT($A$4&"!$A$32:$A$132"),0,1,1),IF(G28<0,0,(ROUNDUP(G28,2)-G28)*100*_xlfn.XLOOKUP(G28,INDIRECT($A$4&"!$G$32:$G$132"),INDIRECT($A$4&"!$A$32:$A$132"),0,-1,-1)+(G28-ROUNDDOWN(G28,2))*100*_xlfn.XLOOKUP(G28,INDIRECT($A$4&"!$G$32:$G$132"),INDIRECT($A$4&"!$A$32:$A$132"),0,1,1)))} -> 0.89360043 | I28: =IF(F27*1000-$F$4*(1-E28)*H28>1000*B28,$F$4*(1-E28)*H28,F27*1000-1000*B28) -> 527.8166 | K28: =K27-N28/1000 -> 38.295549 | L28: =MAX(K27/SUM($F$3,$G$3,$H$3,$I$3),0) -> 0.86274146 | M28: {=IF(ROUND(ROUND(L28,2)-L28,4)=0,_xlfn.XLOOKUP(L28,INDIRECT($A$4&"!$G$32:$G$132"),INDIRECT($A$4&"!$A$32:$A$132"),0,1,1),IF(L28<0,0,(ROUNDUP(L28,2)-L28)*100*_xlfn.XLOOKUP(L28,INDIRECT($A$4&"!$G$32:$G$132"),INDIRECT($A$4&"!$A$32:$A$132"),0,-1,-1)+(L28-ROUNDDOWN(L28,2))*100*_xlfn.XLOOKUP(L28,INDIRECT($A$4&"!$G$32:$G$132"),INDIRECT($A$4&"!$A$32:$A$132"),0,1,1)))} -> 0.89360043 | N28: =IF(K27*1000<$F$4*(1)*M28,K27*1000,$F$4*(1)*M28) -> 527.8166
